{"text_format":"1","workbook":"xlsx","n_sheets":3,"sheets":["CC I CV","График CC I CV","t CC I CV"],"not_rendered":{"charts":0,"images":0,"macros":1,"external_links":0,"defined_names":0,"comments":1,"pivot_tables":0},"unopened":[],"bounds":{"document_bytes":16777216,"sheet_cells":100000,"rows_first":2000,"rows_last":500,"rows_between":2000,"halvings":0,"cell_chars":16384,"cell_head_chars":4096},"cells_cut":0,"cells_raw":0,"read":"whole","date_system":"1900"}

{"sheet":"CC I CV","index":0,"n_rows":106,"n_cols":33,"rows_kept":106,"cut":false,"hidden":false,"merged":[[0,6,5,13],[22,0,37,0],[22,1,23,1],[22,2,23,2],[22,3,23,3],[22,4,23,4],[8,0,19,0],[8,1,9,1],[8,2,9,2],[8,3,9,3],[8,4,9,4],[10,1,19,1],[22,5,23,5],[24,1,37,1],[42,1,53,1],[8,5,9,5],[0,0,5,2],[91,4,92,4],[91,5,92,5],[40,0,53,0],[40,1,41,1],[40,2,41,2],[40,3,41,3],[40,4,41,4],[40,5,41,5],[56,5,57,5],[58,1,71,1],[56,0,71,0],[56,1,57,1],[56,2,57,2],[56,3,57,3],[56,4,57,4],[74,5,75,5],[76,1,89,1],[74,0,89,0],[74,1,75,1],[74,2,75,2],[74,3,75,3],[74,4,75,4],[91,0,106,0],[91,1,92,1],[91,2,92,2],[91,3,92,3],[93,1,106,1]]}
["SPL Classic C(H) / V(H)",null,null,"Длина, см","Высота, см","Тип","ПРИМЕЧАНИЕ"]
[null,null,null,220,50,21]
[null,null,null,"Необходимая мощность, Вт","∆t","LMTD"]
[null,null,null,3500,{"$f":"(D6+E6)/2-F6","v":70},{"$f":"(D6-E6)/LN((D6-F6)/(E6-F6))","v":68.915126618372213}]
[null,null,null,"tвх","tвых","tвн"]
[null,null,null,105,75,20]
[]
[]
["CC/CV ","Высота (см)","Тип","Модель","Подключение","Артикул заказа",null,null,null,null,null,null,null,null,null,null,null,null,null,"Длина, см"]
[null,null,null,null,null,null,40,50,60,70,80,90,100,110,120,130,140,150,160,170,180,190,200,210,220,230,240,250,260,270,280,290,300]
[null,20,20,"Classic CH /                                             Classic CV(L)H","боковое /                          нижнее","CCH 20-2-XX /                                          CV(L)H 20-2-XX",{"$f":"'t CC I CV'!G80*'График CC I CV'!$B$4","v":269},{"$f":"'t CC I CV'!H80*'График CC I CV'!$B$4","v":336},{"$f":"'t CC I CV'!I80*'График CC I CV'!$B$4","v":404},{"$f":"'t CC I CV'!J80*'График CC I CV'!$B$4","v":471},{"$f":"'t CC I CV'!K80*'График CC I CV'!$B$4","v":538},{"$f":"'t CC I CV'!L80*'График CC I CV'!$B$4","v":605},{"$f":"'t CC I CV'!M80*'График CC I CV'!$B$4","v":673},{"$f":"'t CC I CV'!N80*'График CC I CV'!$B$4","v":740},{"$f":"'t CC I CV'!O80*'График CC I CV'!$B$4","v":807},{"$f":"'t CC I CV'!P80*'График CC I CV'!$B$4","v":874},{"$f":"'t CC I CV'!Q80*'График CC I CV'!$B$4","v":942},{"$f":"'t CC I CV'!R80*'График CC I CV'!$B$4","v":1008.9999999999999},{"$f":"'t CC I CV'!S80*'График CC I CV'!$B$4","v":1076},{"$f":"'t CC I CV'!T80*'График CC I CV'!$B$4","v":1143},{"$f":"'t CC I CV'!U80*'График CC I CV'!$B$4","v":1211},{"$f":"'t CC I CV'!V80*'График CC I CV'!$B$4","v":1278},{"$f":"'t CC I CV'!W80*'График CC I CV'!$B$4","v":1345},{"$f":"'t CC I CV'!X80*'График CC I CV'!$B$4","v":1412},{"$f":"'t CC I CV'!Y80*'График CC I CV'!$B$4","v":1480},{"$f":"'t CC I CV'!Z80*'График CC I CV'!$B$4","v":1547},{"$f":"'t CC I CV'!AA80*'График CC I CV'!$B$4","v":1614},{"$f":"'t CC I CV'!AB80*'График CC I CV'!$B$4","v":1681},{"$f":"'t CC I CV'!AC80*'График CC I CV'!$B$4","v":1749},{"$f":"'t CC I CV'!AD80*'График CC I CV'!$B$4","v":1816},{"$f":"'t CC I CV'!AE80*'График CC I CV'!$B$4","v":1883},{"$f":"'t CC I CV'!AF80*'График CC I CV'!$B$4","v":1950},{"$f":"'t CC I CV'!AG80*'График CC I CV'!$B$4","v":2017.9999999999998}]
[]
[null,null,21,"Classic C /                                             Classic CV(L)","боковое /                          нижнее","CC 21-2-XX /                                          CV(L) 21-2-XX",{"$f":"'t CC I CV'!G83*'График CC I CV'!$B$4","v":319},{"$f":"'t CC I CV'!H83*'График CC I CV'!$B$4","v":399},{"$f":"'t CC I CV'!I83*'График CC I CV'!$B$4","v":479},{"$f":"'t CC I CV'!J83*'График CC I CV'!$B$4","v":559},{"$f":"'t CC I CV'!K83*'График CC I CV'!$B$4","v":639},{"$f":"'t CC I CV'!L83*'График CC I CV'!$B$4","v":719},{"$f":"'t CC I CV'!M83*'График CC I CV'!$B$4","v":798},{"$f":"'t CC I CV'!N83*'График CC I CV'!$B$4","v":878},{"$f":"'t CC I CV'!O83*'График CC I CV'!$B$4","v":958},{"$f":"'t CC I CV'!P83*'График CC I CV'!$B$4","v":1038},{"$f":"'t CC I CV'!Q83*'График CC I CV'!$B$4","v":1118},{"$f":"'t CC I CV'!R83*'График CC I CV'!$B$4","v":1198},{"$f":"'t CC I CV'!S83*'График CC I CV'!$B$4","v":1277},{"$f":"'t CC I CV'!T83*'График CC I CV'!$B$4","v":1357},{"$f":"'t CC I CV'!U83*'График CC I CV'!$B$4","v":1437},{"$f":"'t CC I CV'!V83*'График CC I CV'!$B$4","v":1517},{"$f":"'t CC I CV'!W83*'График CC I CV'!$B$4","v":1597},{"$f":"'t CC I CV'!X83*'График CC I CV'!$B$4","v":1677},{"$f":"'t CC I CV'!Y83*'График CC I CV'!$B$4","v":1757},{"$f":"'t CC I CV'!Z83*'График CC I CV'!$B$4","v":1836},{"$f":"'t CC I CV'!AA83*'График CC I CV'!$B$4","v":1916},{"$f":"'t CC I CV'!AB83*'График CC I CV'!$B$4","v":1996},{"$f":"'t CC I CV'!AC83*'График CC I CV'!$B$4","v":2076},{"$f":"'t CC I CV'!AD83*'График CC I CV'!$B$4","v":2156},{"$f":"'t CC I CV'!AE83*'График CC I CV'!$B$4","v":2236},{"$f":"'t CC I CV'!AF83*'График CC I CV'!$B$4","v":2315},{"$f":"'t CC I CV'!AG83*'График CC I CV'!$B$4","v":2395}]
[]
[null,null,22,"Classic C /                                             Classic CV(L)","боковое /                          нижнее","CC 22-2-XX /                                          CV(L) 22-2-XX",{"$f":"'t CC I CV'!G86*'График CC I CV'!$B$4","v":437},{"$f":"'t CC I CV'!H86*'График CC I CV'!$B$4","v":531},{"$f":"'t CC I CV'!I86*'График CC I CV'!$B$4","v":624},{"$f":"'t CC I CV'!J86*'График CC I CV'!$B$4","v":719},{"$f":"'t CC I CV'!K86*'График CC I CV'!$B$4","v":813},{"$f":"'t CC I CV'!L86*'График CC I CV'!$B$4","v":908},{"$f":"'t CC I CV'!M86*'График CC I CV'!$B$4","v":1002},{"$f":"'t CC I CV'!N86*'График CC I CV'!$B$4","v":1098},{"$f":"'t CC I CV'!O86*'График CC I CV'!$B$4","v":1192},{"$f":"'t CC I CV'!P86*'График CC I CV'!$B$4","v":1286},{"$f":"'t CC I CV'!Q86*'График CC I CV'!$B$4","v":1386},{"$f":"'t CC I CV'!R86*'График CC I CV'!$B$4","v":1476},{"$f":"'t CC I CV'!S86*'График CC I CV'!$B$4","v":1571},{"$f":"'t CC I CV'!T86*'График CC I CV'!$B$4","v":1665},{"$f":"'t CC I CV'!U86*'График CC I CV'!$B$4","v":1760},{"$f":"'t CC I CV'!V86*'График CC I CV'!$B$4","v":1857},{"$f":"'t CC I CV'!W86*'График CC I CV'!$B$4","v":1954},{"$f":"'t CC I CV'!X86*'График CC I CV'!$B$4","v":2053},{"$f":"'t CC I CV'!Y86*'График CC I CV'!$B$4","v":2150},{"$f":"'t CC I CV'!Z86*'График CC I CV'!$B$4","v":2248},{"$f":"'t CC I CV'!AA86*'График CC I CV'!$B$4","v":2346},{"$f":"'t CC I CV'!AB86*'График CC I CV'!$B$4","v":2441},{"$f":"'t CC I CV'!AC86*'График CC I CV'!$B$4","v":2539},{"$f":"'t CC I CV'!AD86*'График CC I CV'!$B$4","v":2639},{"$f":"'t CC I CV'!AE86*'График CC I CV'!$B$4","v":2736},{"$f":"'t CC I CV'!AF86*'График CC I CV'!$B$4","v":2835},{"$f":"'t CC I CV'!AG86*'График CC I CV'!$B$4","v":2929}]
[]
[null,null,30,"Classic CH /                                             Classic CV(L)H","боковое /                          нижнее","CCH 30-2-XX /                                          CV(L)H 30-2-XX",{"$f":"'t CC I CV'!G89*'График CC I CV'!$B$4","v":426},{"$f":"'t CC I CV'!H89*'График CC I CV'!$B$4","v":532},{"$f":"'t CC I CV'!I89*'График CC I CV'!$B$4","v":639},{"$f":"'t CC I CV'!J89*'График CC I CV'!$B$4","v":745},{"$f":"'t CC I CV'!K89*'График CC I CV'!$B$4","v":852},{"$f":"'t CC I CV'!L89*'График CC I CV'!$B$4","v":958},{"$f":"'t CC I CV'!M89*'График CC I CV'!$B$4","v":1064},{"$f":"'t CC I CV'!N89*'График CC I CV'!$B$4","v":1171},{"$f":"'t CC I CV'!O89*'График CC I CV'!$B$4","v":1277},{"$f":"'t CC I CV'!P89*'График CC I CV'!$B$4","v":1383},{"$f":"'t CC I CV'!Q89*'График CC I CV'!$B$4","v":1490},{"$f":"'t CC I CV'!R89*'График CC I CV'!$B$4","v":1596},{"$f":"'t CC I CV'!S89*'График CC I CV'!$B$4","v":1703},{"$f":"'t CC I CV'!T89*'График CC I CV'!$B$4","v":1809},{"$f":"'t CC I CV'!U89*'График CC I CV'!$B$4","v":1916},{"$f":"'t CC I CV'!V89*'График CC I CV'!$B$4","v":2021.9999999999998},{"$f":"'t CC I CV'!W89*'График CC I CV'!$B$4","v":2129},{"$f":"'t CC I CV'!X89*'График CC I CV'!$B$4","v":2235},{"$f":"'t CC I CV'!Y89*'График CC I CV'!$B$4","v":2342},{"$f":"'t CC I CV'!Z89*'График CC I CV'!$B$4","v":2448},{"$f":"'t CC I CV'!AA89*'График CC I CV'!$B$4","v":2555},{"$f":"'t CC I CV'!AB89*'График CC I CV'!$B$4","v":2661},{"$f":"'t CC I CV'!AC89*'График CC I CV'!$B$4","v":2767},{"$f":"'t CC I CV'!AD89*'График CC I CV'!$B$4","v":2874},{"$f":"'t CC I CV'!AE89*'График CC I CV'!$B$4","v":2980},{"$f":"'t CC I CV'!AF89*'График CC I CV'!$B$4","v":3087},{"$f":"'t CC I CV'!AG89*'График CC I CV'!$B$4","v":3193}]
[]
[null,null,33,"Classic C /                                             Classic CV(L)","боковое /                          нижнее","CC 33-2-XX /                                          CV(L) 33-2-XX",{"$f":"'t CC I CV'!G92*'График CC I CV'!$B$4","v":581},{"$f":"'t CC I CV'!H92*'График CC I CV'!$B$4","v":726},{"$f":"'t CC I CV'!I92*'График CC I CV'!$B$4","v":871},{"$f":"'t CC I CV'!J92*'График CC I CV'!$B$4","v":1016.9999999999999},{"$f":"'t CC I CV'!K92*'График CC I CV'!$B$4","v":1162},{"$f":"'t CC I CV'!L92*'График CC I CV'!$B$4","v":1307},{"$f":"'t CC I CV'!M92*'График CC I CV'!$B$4","v":1453},{"$f":"'t CC I CV'!N92*'График CC I CV'!$B$4","v":1598},{"$f":"'t CC I CV'!O92*'График CC I CV'!$B$4","v":1743},{"$f":"'t CC I CV'!P92*'График CC I CV'!$B$4","v":1889},{"$f":"'t CC I CV'!Q92*'График CC I CV'!$B$4","v":2033.9999999999998},{"$f":"'t CC I CV'!R92*'График CC I CV'!$B$4","v":2179},{"$f":"'t CC I CV'!S92*'График CC I CV'!$B$4","v":2324},{"$f":"'t CC I CV'!T92*'График CC I CV'!$B$4","v":2470},{"$f":"'t CC I CV'!U92*'График CC I CV'!$B$4","v":2615},{"$f":"'t CC I CV'!V92*'График CC I CV'!$B$4","v":2760},{"$f":"'t CC I CV'!W92*'График CC I CV'!$B$4","v":2905},{"$f":"'t CC I CV'!X92*'График CC I CV'!$B$4","v":3050},{"$f":"'t CC I CV'!Y92*'График CC I CV'!$B$4","v":3195},{"$f":"'t CC I CV'!Z92*'График CC I CV'!$B$4","v":3341},{"$f":"'t CC I CV'!AA92*'График CC I CV'!$B$4","v":3486},{"$f":"'t CC I CV'!AB92*'График CC I CV'!$B$4","v":3631},{"$f":"'t CC I CV'!AC92*'График CC I CV'!$B$4","v":3777},{"$f":"'t CC I CV'!AD92*'График CC I CV'!$B$4","v":3922},{"$f":"'t CC I CV'!AE92*'График CC I CV'!$B$4","v":4067},{"$f":"'t CC I CV'!AF92*'График CC I CV'!$B$4","v":4242},{"$f":"'t CC I CV'!AG92*'График CC I CV'!$B$4","v":4358}]
[]
[]
[]
["CC/CV","Высота (см)","Тип","Модель","Подключение","Артикул заказа",null,null,null,null,null,null,null,null,null,null,null,null,null,"Длина, см"]
[null,null,null,null,null,null,40,50,60,70,80,90,100,110,120,130,140,150,160,170,180,190,200,210,220,230,240,250,260,270,280,290,300]
[null,30,10,"Classic CH /                                             Classic CV(L)H","боковое /                          нижнее","CCH 10-3-XX /                                          CV(L)H 10-3-XX",{"$f":"'t CC I CV'!G5*'График CC I CV'!$B$4","v":226},{"$f":"'t CC I CV'!H5*'График CC I CV'!$B$4","v":282},{"$f":"'t CC I CV'!I5*'График CC I CV'!$B$4","v":339},{"$f":"'t CC I CV'!J5*'График CC I CV'!$B$4","v":395},{"$f":"'t CC I CV'!K5*'График CC I CV'!$B$4","v":452},{"$f":"'t CC I CV'!L5*'График CC I CV'!$B$4","v":508},{"$f":"'t CC I CV'!M5*'График CC I CV'!$B$4","v":565},{"$f":"'t CC I CV'!N5*'График CC I CV'!$B$4","v":621},{"$f":"'t CC I CV'!O5*'График CC I CV'!$B$4","v":678},{"$f":"'t CC I CV'!P5*'График CC I CV'!$B$4","v":734},{"$f":"'t CC I CV'!Q5*'График CC I CV'!$B$4","v":791},{"$f":"'t CC I CV'!R5*'График CC I CV'!$B$4","v":847},{"$f":"'t CC I CV'!S5*'График CC I CV'!$B$4","v":904},{"$f":"'t CC I CV'!T5*'График CC I CV'!$B$4","v":960},{"$f":"'t CC I CV'!U5*'График CC I CV'!$B$4","v":1017},{"$f":"'t CC I CV'!V5*'График CC I CV'!$B$4","v":1073},{"$f":"'t CC I CV'!W5*'График CC I CV'!$B$4","v":1130},{"$f":"'t CC I CV'!X5*'График CC I CV'!$B$4","v":1186},{"$f":"'t CC I CV'!Y5*'График CC I CV'!$B$4","v":1243},{"$f":"'t CC I CV'!Z5*'График CC I CV'!$B$4","v":1299},{"$f":"'t CC I CV'!AA5*'График CC I CV'!$B$4","v":1356},{"$f":"'t CC I CV'!AB5*'График CC I CV'!$B$4","v":1412},{"$f":"'t CC I CV'!AC5*'График CC I CV'!$B$4","v":1469},{"$f":"'t CC I CV'!AD5*'График CC I CV'!$B$4","v":1525},{"$f":"'t CC I CV'!AE5*'График CC I CV'!$B$4","v":1582},{"$f":"'t CC I CV'!AF5*'График CC I CV'!$B$4","v":1638},{"$f":"'t CC I CV'!AG5*'График CC I CV'!$B$4","v":1695}]
[]
[null,null,11,"Classic C /                                             Classic CV(L)","боковое /                          нижнее","CC 11-3-XX /                                          CV(L) 11-3-XX",{"$f":"'t CC I CV'!G8*'График CC I CV'!$B$4","v":319},{"$f":"'t CC I CV'!H8*'График CC I CV'!$B$4","v":399},{"$f":"'t CC I CV'!I8*'График CC I CV'!$B$4","v":478},{"$f":"'t CC I CV'!J8*'График CC I CV'!$B$4","v":558},{"$f":"'t CC I CV'!K8*'График CC I CV'!$B$4","v":638},{"$f":"'t CC I CV'!L8*'График CC I CV'!$B$4","v":717},{"$f":"'t CC I CV'!M8*'График CC I CV'!$B$4","v":797},{"$f":"'t CC I CV'!N8*'График CC I CV'!$B$4","v":877},{"$f":"'t CC I CV'!O8*'График CC I CV'!$B$4","v":957},{"$f":"'t CC I CV'!P8*'График CC I CV'!$B$4","v":1036},{"$f":"'t CC I CV'!Q8*'График CC I CV'!$B$4","v":1116},{"$f":"'t CC I CV'!R8*'График CC I CV'!$B$4","v":1196},{"$f":"'t CC I CV'!S8*'График CC I CV'!$B$4","v":1275},{"$f":"'t CC I CV'!T8*'График CC I CV'!$B$4","v":1355},{"$f":"'t CC I CV'!U8*'График CC I CV'!$B$4","v":1435},{"$f":"'t CC I CV'!V8*'График CC I CV'!$B$4","v":1515},{"$f":"'t CC I CV'!W8*'График CC I CV'!$B$4","v":1594},{"$f":"'t CC I CV'!X8*'График CC I CV'!$B$4","v":1674},{"$f":"'t CC I CV'!Y8*'График CC I CV'!$B$4","v":1754},{"$f":"'t CC I CV'!Z8*'График CC I CV'!$B$4","v":1833},{"$f":"'t CC I CV'!AA8*'График CC I CV'!$B$4","v":1913},{"$f":"'t CC I CV'!AB8*'График CC I CV'!$B$4","v":1993},{"$f":"'t CC I CV'!AC8*'График CC I CV'!$B$4","v":2073},{"$f":"'t CC I CV'!AD8*'График CC I CV'!$B$4","v":2152},{"$f":"'t CC I CV'!AE8*'График CC I CV'!$B$4","v":2232},{"$f":"'t CC I CV'!AF8*'График CC I CV'!$B$4","v":2312},{"$f":"'t CC I CV'!AG8*'График CC I CV'!$B$4","v":2391}]
[]
[null,null,20,"Classic CH /                                             Classic CV(L)H","боковое /                          нижнее","CCH 20-3-XX /                                          CV(L)H 20-3-XX",{"$f":"'t CC I CV'!G11*'График CC I CV'!$B$4","v":387},{"$f":"'t CC I CV'!H11*'График CC I CV'!$B$4","v":483},{"$f":"'t CC I CV'!I11*'График CC I CV'!$B$4","v":580},{"$f":"'t CC I CV'!J11*'График CC I CV'!$B$4","v":677},{"$f":"'t CC I CV'!K11*'График CC I CV'!$B$4","v":773},{"$f":"'t CC I CV'!L11*'График CC I CV'!$B$4","v":870},{"$f":"'t CC I CV'!M11*'График CC I CV'!$B$4","v":967},{"$f":"'t CC I CV'!N11*'График CC I CV'!$B$4","v":1063},{"$f":"'t CC I CV'!O11*'График CC I CV'!$B$4","v":1160},{"$f":"'t CC I CV'!P11*'График CC I CV'!$B$4","v":1257},{"$f":"'t CC I CV'!Q11*'График CC I CV'!$B$4","v":1353},{"$f":"'t CC I CV'!R11*'График CC I CV'!$B$4","v":1450},{"$f":"'t CC I CV'!S11*'График CC I CV'!$B$4","v":1547},{"$f":"'t CC I CV'!T11*'График CC I CV'!$B$4","v":1643},{"$f":"'t CC I CV'!U11*'График CC I CV'!$B$4","v":1740},{"$f":"'t CC I CV'!V11*'График CC I CV'!$B$4","v":1837},{"$f":"'t CC I CV'!W11*'График CC I CV'!$B$4","v":1933},{"$f":"'t CC I CV'!X11*'График CC I CV'!$B$4","v":2030},{"$f":"'t CC I CV'!Y11*'График CC I CV'!$B$4","v":2127},{"$f":"'t CC I CV'!Z11*'График CC I CV'!$B$4","v":2223},{"$f":"'t CC I CV'!AA11*'График CC I CV'!$B$4","v":2320},{"$f":"'t CC I CV'!AB11*'График CC I CV'!$B$4","v":2416},{"$f":"'t CC I CV'!AC11*'График CC I CV'!$B$4","v":2513},{"$f":"'t CC I CV'!AD11*'График CC I CV'!$B$4","v":2610},{"$f":"'t CC I CV'!AE11*'График CC I CV'!$B$4","v":2706},{"$f":"'t CC I CV'!AF11*'График CC I CV'!$B$4","v":2803},{"$f":"'t CC I CV'!AG11*'График CC I CV'!$B$4","v":2900}]
[]
[null,null,21,"Classic C /                                             Classic CV(L)","боковое /                          нижнее","CC 21-3-XX /                                          CV(L) 21-3-XX",{"$f":"'t CC I CV'!G14*'График CC I CV'!$B$4","v":482},{"$f":"'t CC I CV'!H14*'График CC I CV'!$B$4","v":602},{"$f":"'t CC I CV'!I14*'График CC I CV'!$B$4","v":723},{"$f":"'t CC I CV'!J14*'График CC I CV'!$B$4","v":843},{"$f":"'t CC I CV'!K14*'График CC I CV'!$B$4","v":964},{"$f":"'t CC I CV'!L14*'График CC I CV'!$B$4","v":1084},{"$f":"'t CC I CV'!M14*'График CC I CV'!$B$4","v":1204},{"$f":"'t CC I CV'!N14*'График CC I CV'!$B$4","v":1325},{"$f":"'t CC I CV'!O14*'График CC I CV'!$B$4","v":1445},{"$f":"'t CC I CV'!P14*'График CC I CV'!$B$4","v":1566},{"$f":"'t CC I CV'!Q14*'График CC I CV'!$B$4","v":1686},{"$f":"'t CC I CV'!R14*'График CC I CV'!$B$4","v":1807},{"$f":"'t CC I CV'!S14*'График CC I CV'!$B$4","v":1927},{"$f":"'t CC I CV'!T14*'График CC I CV'!$B$4","v":2047},{"$f":"'t CC I CV'!U14*'График CC I CV'!$B$4","v":2168},{"$f":"'t CC I CV'!V14*'График CC I CV'!$B$4","v":2288},{"$f":"'t CC I CV'!W14*'График CC I CV'!$B$4","v":2409},{"$f":"'t CC I CV'!X14*'График CC I CV'!$B$4","v":2529},{"$f":"'t CC I CV'!Y14*'График CC I CV'!$B$4","v":2650},{"$f":"'t CC I CV'!Z14*'График CC I CV'!$B$4","v":2770},{"$f":"'t CC I CV'!AA14*'График CC I CV'!$B$4","v":2891},{"$f":"'t CC I CV'!AB14*'График CC I CV'!$B$4","v":3011},{"$f":"'t CC I CV'!AC14*'График CC I CV'!$B$4","v":3131},{"$f":"'t CC I CV'!AD14*'График CC I CV'!$B$4","v":3252},{"$f":"'t CC I CV'!AE14*'График CC I CV'!$B$4","v":3372},{"$f":"'t CC I CV'!AF14*'График CC I CV'!$B$4","v":3493},{"$f":"'t CC I CV'!AG14*'График CC I CV'!$B$4","v":3613}]
[]
[null,null,22,"Classic C /                                             Classic CV(L)","боковое /                          нижнее","CC 22-3-XX /                                          CV(L) 22-3-XX",{"$f":"'t CC I CV'!G17*'График CC I CV'!$B$4","v":609},{"$f":"'t CC I CV'!H17*'График CC I CV'!$B$4","v":761},{"$f":"'t CC I CV'!I17*'График CC I CV'!$B$4","v":913},{"$f":"'t CC I CV'!J17*'График CC I CV'!$B$4","v":1065},{"$f":"'t CC I CV'!K17*'График CC I CV'!$B$4","v":1217},{"$f":"'t CC I CV'!L17*'График CC I CV'!$B$4","v":1369},{"$f":"'t CC I CV'!M17*'График CC I CV'!$B$4","v":1521},{"$f":"'t CC I CV'!N17*'График CC I CV'!$B$4","v":1674},{"$f":"'t CC I CV'!O17*'График CC I CV'!$B$4","v":1826},{"$f":"'t CC I CV'!P17*'График CC I CV'!$B$4","v":1978},{"$f":"'t CC I CV'!Q17*'График CC I CV'!$B$4","v":2130},{"$f":"'t CC I CV'!R17*'График CC I CV'!$B$4","v":2282},{"$f":"'t CC I CV'!S17*'График CC I CV'!$B$4","v":2434},{"$f":"'t CC I CV'!T17*'График CC I CV'!$B$4","v":2586},{"$f":"'t CC I CV'!U17*'График CC I CV'!$B$4","v":2739},{"$f":"'t CC I CV'!V17*'График CC I CV'!$B$4","v":2891},{"$f":"'t CC I CV'!W17*'График CC I CV'!$B$4","v":3043},{"$f":"'t CC I CV'!X17*'График CC I CV'!$B$4","v":3195},{"$f":"'t CC I CV'!Y17*'График CC I CV'!$B$4","v":3347},{"$f":"'t CC I CV'!Z17*'График CC I CV'!$B$4","v":3499},{"$f":"'t CC I CV'!AA17*'График CC I CV'!$B$4","v":3651},{"$f":"'t CC I CV'!AB17*'График CC I CV'!$B$4","v":3803},{"$f":"'t CC I CV'!AC17*'График CC I CV'!$B$4","v":3956},{"$f":"'t CC I CV'!AD17*'График CC I CV'!$B$4","v":4108},{"$f":"'t CC I CV'!AE17*'График CC I CV'!$B$4","v":4260},{"$f":"'t CC I CV'!AF17*'График CC I CV'!$B$4","v":4412},{"$f":"'t CC I CV'!AG17*'График CC I CV'!$B$4","v":4564}]
[]
[null,null,30,"Classic CH /                                             Classic CV(L)H","боковое /                          нижнее","CCH 30-3-XX /                                          CV(L)H 30-3-XX",{"$f":"'t CC I CV'!G20*'График CC I CV'!$B$4","v":594},{"$f":"'t CC I CV'!H20*'График CC I CV'!$B$4","v":742},{"$f":"'t CC I CV'!I20*'График CC I CV'!$B$4","v":891},{"$f":"'t CC I CV'!J20*'График CC I CV'!$B$4","v":1039},{"$f":"'t CC I CV'!K20*'График CC I CV'!$B$4","v":1188},{"$f":"'t CC I CV'!L20*'График CC I CV'!$B$4","v":1336},{"$f":"'t CC I CV'!M20*'График CC I CV'!$B$4","v":1485},{"$f":"'t CC I CV'!N20*'График CC I CV'!$B$4","v":1633},{"$f":"'t CC I CV'!O20*'График CC I CV'!$B$4","v":1781},{"$f":"'t CC I CV'!P20*'График CC I CV'!$B$4","v":1930},{"$f":"'t CC I CV'!Q20*'График CC I CV'!$B$4","v":2078},{"$f":"'t CC I CV'!R20*'График CC I CV'!$B$4","v":2227},{"$f":"'t CC I CV'!S20*'График CC I CV'!$B$4","v":2375},{"$f":"'t CC I CV'!T20*'График CC I CV'!$B$4","v":2524},{"$f":"'t CC I CV'!U20*'График CC I CV'!$B$4","v":2672},{"$f":"'t CC I CV'!V20*'График CC I CV'!$B$4","v":2821},{"$f":"'t CC I CV'!W20*'График CC I CV'!$B$4","v":2969},{"$f":"'t CC I CV'!X20*'График CC I CV'!$B$4","v":3118},{"$f":"'t CC I CV'!Y20*'График CC I CV'!$B$4","v":3266},{"$f":"'t CC I CV'!Z20*'График CC I CV'!$B$4","v":3414},{"$f":"'t CC I CV'!AA20*'График CC I CV'!$B$4","v":3563},{"$f":"'t CC I CV'!AB20*'График CC I CV'!$B$4","v":3711},{"$f":"'t CC I CV'!AC20*'График CC I CV'!$B$4","v":3860},{"$f":"'t CC I CV'!AD20*'График CC I CV'!$B$4","v":4008},{"$f":"'t CC I CV'!AE20*'График CC I CV'!$B$4","v":4157},{"$f":"'t CC I CV'!AF20*'График CC I CV'!$B$4","v":4305},{"$f":"'t CC I CV'!AG20*'График CC I CV'!$B$4","v":4454}]
[]
[null,null,33,"Classic C /                                             Classic CV(L)","боковое /                          нижнее","CC 33-3-XX /                                          CV(L) 33-3-XX",{"$f":"'t CC I CV'!G23*'График CC I CV'!$B$4","v":903},{"$f":"'t CC I CV'!H23*'График CC I CV'!$B$4","v":1129},{"$f":"'t CC I CV'!I23*'График CC I CV'!$B$4","v":1355},{"$f":"'t CC I CV'!J23*'График CC I CV'!$B$4","v":1580},{"$f":"'t CC I CV'!K23*'График CC I CV'!$B$4","v":1806},{"$f":"'t CC I CV'!L23*'График CC I CV'!$B$4","v":2032},{"$f":"'t CC I CV'!M23*'График CC I CV'!$B$4","v":2258},{"$f":"'t CC I CV'!N23*'График CC I CV'!$B$4","v":2483},{"$f":"'t CC I CV'!O23*'График CC I CV'!$B$4","v":2709},{"$f":"'t CC I CV'!P23*'График CC I CV'!$B$4","v":2935},{"$f":"'t CC I CV'!Q23*'График CC I CV'!$B$4","v":3161},{"$f":"'t CC I CV'!R23*'График CC I CV'!$B$4","v":3386},{"$f":"'t CC I CV'!S23*'График CC I CV'!$B$4","v":3612},{"$f":"'t CC I CV'!T23*'График CC I CV'!$B$4","v":3838},{"$f":"'t CC I CV'!U23*'График CC I CV'!$B$4","v":4064},{"$f":"'t CC I CV'!V23*'График CC I CV'!$B$4","v":4289},{"$f":"'t CC I CV'!W23*'График CC I CV'!$B$4","v":4515},{"$f":"'t CC I CV'!X23*'График CC I CV'!$B$4","v":4741},{"$f":"'t CC I CV'!Y23*'График CC I CV'!$B$4","v":4967},{"$f":"'t CC I CV'!Z23*'График CC I CV'!$B$4","v":5192},{"$f":"'t CC I CV'!AA23*'График CC I CV'!$B$4","v":5418},{"$f":"'t CC I CV'!AB23*'График CC I CV'!$B$4","v":5644},{"$f":"'t CC I CV'!AC23*'График CC I CV'!$B$4","v":5870},{"$f":"'t CC I CV'!AD23*'График CC I CV'!$B$4","v":6095},{"$f":"'t CC I CV'!AE23*'График CC I CV'!$B$4","v":6321},{"$f":"'t CC I CV'!AF23*'График CC I CV'!$B$4","v":6547},{"$f":"'t CC I CV'!AG23*'График CC I CV'!$B$4","v":6773}]
[]
[]
[]
["CC/CV","Высота (см)","Тип","Модель","Подключение","Артикул заказа",null,null,null,null,null,null,null,null,null,null,null,null,null,"Длина, см"]
[null,null,null,null,null,null,40,50,60,70,80,90,100,110,120,130,140,150,160,170,180,190,200,210,220,230,240,250,260,270,280,290,300]
[null,40,10,"Classic C /                                             Classic CV(L)","боковое /                          нижнее","CC 10-4-XX /                                          CV(L) 10-4-XX",{"$f":"'t CC I CV'!G30*'График CC I CV'!$B$4","v":272},{"$f":"'t CC I CV'!H30*'График CC I CV'!$B$4","v":339},{"$f":"'t CC I CV'!I30*'График CC I CV'!$B$4","v":407},{"$f":"'t CC I CV'!J30*'График CC I CV'!$B$4","v":475},{"$f":"'t CC I CV'!K30*'График CC I CV'!$B$4","v":543},{"$f":"'t CC I CV'!L30*'График CC I CV'!$B$4","v":611},{"$f":"'t CC I CV'!M30*'График CC I CV'!$B$4","v":679},{"$f":"'t CC I CV'!N30*'График CC I CV'!$B$4","v":747},{"$f":"'t CC I CV'!O30*'График CC I CV'!$B$4","v":815},{"$f":"'t CC I CV'!P30*'График CC I CV'!$B$4","v":883},{"$f":"'t CC I CV'!Q30*'График CC I CV'!$B$4","v":950},{"$f":"'t CC I CV'!R30*'График CC I CV'!$B$4","v":1018},{"$f":"'t CC I CV'!S30*'График CC I CV'!$B$4","v":1086},{"$f":"'t CC I CV'!T30*'График CC I CV'!$B$4","v":1154},{"$f":"'t CC I CV'!U30*'График CC I CV'!$B$4","v":1222},{"$f":"'t CC I CV'!V30*'График CC I CV'!$B$4","v":1290},{"$f":"'t CC I CV'!W30*'График CC I CV'!$B$4","v":1358},{"$f":"'t CC I CV'!X30*'График CC I CV'!$B$4","v":1426},{"$f":"'t CC I CV'!Y30*'График CC I CV'!$B$4","v":1493},{"$f":"'t CC I CV'!Z30*'График CC I CV'!$B$4","v":1561},{"$f":"'t CC I CV'!AA30*'График CC I CV'!$B$4","v":1629},{"$f":"'t CC I CV'!AB30*'График CC I CV'!$B$4","v":1697},{"$f":"'t CC I CV'!AC30*'График CC I CV'!$B$4","v":1765},{"$f":"'t CC I CV'!AD30*'График CC I CV'!$B$4","v":1833},{"$f":"'t CC I CV'!AE30*'График CC I CV'!$B$4","v":1901},{"$f":"'t CC I CV'!AF30*'График CC I CV'!$B$4","v":1969},{"$f":"'t CC I CV'!AG30*'График CC I CV'!$B$4","v":2037}]
[]
[null,null,11,"Classic C /                                             Classic CV(L)","боковое /                          нижнее","CC 11-4-XX /                                          CV(L) 11-4-XX",{"$f":"'t CC I CV'!G33*'График CC I CV'!$B$4","v":395},{"$f":"'t CC I CV'!H33*'График CC I CV'!$B$4","v":494},{"$f":"'t CC I CV'!I33*'График CC I CV'!$B$4","v":592},{"$f":"'t CC I CV'!J33*'График CC I CV'!$B$4","v":691},{"$f":"'t CC I CV'!K33*'График CC I CV'!$B$4","v":790},{"$f":"'t CC I CV'!L33*'График CC I CV'!$B$4","v":889},{"$f":"'t CC I CV'!M33*'График CC I CV'!$B$4","v":987},{"$f":"'t CC I CV'!N33*'График CC I CV'!$B$4","v":1086},{"$f":"'t CC I CV'!O33*'График CC I CV'!$B$4","v":1185},{"$f":"'t CC I CV'!P33*'График CC I CV'!$B$4","v":1284},{"$f":"'t CC I CV'!Q33*'График CC I CV'!$B$4","v":1382},{"$f":"'t CC I CV'!R33*'График CC I CV'!$B$4","v":1481},{"$f":"'t CC I CV'!S33*'График CC I CV'!$B$4","v":1580},{"$f":"'t CC I CV'!T33*'График CC I CV'!$B$4","v":1679},{"$f":"'t CC I CV'!U33*'График CC I CV'!$B$4","v":1777},{"$f":"'t CC I CV'!V33*'График CC I CV'!$B$4","v":1876},{"$f":"'t CC I CV'!W33*'График CC I CV'!$B$4","v":1975},{"$f":"'t CC I CV'!X33*'График CC I CV'!$B$4","v":2074},{"$f":"'t CC I CV'!Y33*'График CC I CV'!$B$4","v":2172},{"$f":"'t CC I CV'!Z33*'График CC I CV'!$B$4","v":2271},{"$f":"'t CC I CV'!AA33*'График CC I CV'!$B$4","v":2370},{"$f":"'t CC I CV'!AB33*'График CC I CV'!$B$4","v":2469},{"$f":"'t CC I CV'!AC33*'График CC I CV'!$B$4","v":2567},{"$f":"'t CC I CV'!AD33*'График CC I CV'!$B$4","v":2666},{"$f":"'t CC I CV'!AE33*'График CC I CV'!$B$4","v":2765},{"$f":"'t CC I CV'!AF33*'График CC I CV'!$B$4","v":2864},{"$f":"'t CC I CV'!AG33*'График CC I CV'!$B$4","v":2962}]
[]
[null,null,20,"Classic C /                                             Classic CV(L)","боковое /                          нижнее","CC 20-4-XX /                                          CV(L) 20-4-XX",{"$f":"'t CC I CV'!G36*'График CC I CV'!$B$4","v":473},{"$f":"'t CC I CV'!H36*'График CC I CV'!$B$4","v":591},{"$f":"'t CC I CV'!I36*'График CC I CV'!$B$4","v":709},{"$f":"'t CC I CV'!J36*'График CC I CV'!$B$4","v":827},{"$f":"'t CC I CV'!K36*'График CC I CV'!$B$4","v":946},{"$f":"'t CC I CV'!L36*'График CC I CV'!$B$4","v":1064},{"$f":"'t CC I CV'!M36*'График CC I CV'!$B$4","v":1182},{"$f":"'t CC I CV'!N36*'График CC I CV'!$B$4","v":1300},{"$f":"'t CC I CV'!O36*'График CC I CV'!$B$4","v":1418},{"$f":"'t CC I CV'!P36*'График CC I CV'!$B$4","v":1537},{"$f":"'t CC I CV'!Q36*'График CC I CV'!$B$4","v":1655},{"$f":"'t CC I CV'!R36*'График CC I CV'!$B$4","v":1773},{"$f":"'t CC I CV'!S36*'График CC I CV'!$B$4","v":1891},{"$f":"'t CC I CV'!T36*'График CC I CV'!$B$4","v":2009},{"$f":"'t CC I CV'!U36*'График CC I CV'!$B$4","v":2128},{"$f":"'t CC I CV'!V36*'График CC I CV'!$B$4","v":2246},{"$f":"'t CC I CV'!W36*'График CC I CV'!$B$4","v":2364},{"$f":"'t CC I CV'!X36*'График CC I CV'!$B$4","v":2482},{"$f":"'t CC I CV'!Y36*'График CC I CV'!$B$4","v":2600},{"$f":"'t CC I CV'!Z36*'График CC I CV'!$B$4","v":2718},{"$f":"'t CC I CV'!AA36*'График CC I CV'!$B$4","v":2837},{"$f":"'t CC I CV'!AB36*'График CC I CV'!$B$4","v":2955},{"$f":"'t CC I CV'!AC36*'График CC I CV'!$B$4","v":3073},{"$f":"'t CC I CV'!AD36*'График CC I CV'!$B$4","v":3191},{"$f":"'t CC I CV'!AE36*'График CC I CV'!$B$4","v":3309},{"$f":"'t CC I CV'!AF36*'График CC I CV'!$B$4","v":3428},{"$f":"'t CC I CV'!AG36*'График CC I CV'!$B$4","v":3546}]
[]
[null,null,21,"Classic C /                                             Classic CV(L)","боковое /                          нижнее","CC 21-4-XX /                                          CV(L) 21-4-XX",{"$f":"'t CC I CV'!G39*'График CC I CV'!$B$4","v":592},{"$f":"'t CC I CV'!H39*'График CC I CV'!$B$4","v":740},{"$f":"'t CC I CV'!I39*'График CC I CV'!$B$4","v":888},{"$f":"'t CC I CV'!J39*'График CC I CV'!$B$4","v":1037},{"$f":"'t CC I CV'!K39*'График CC I CV'!$B$4","v":1185},{"$f":"'t CC I CV'!L39*'График CC I CV'!$B$4","v":1333},{"$f":"'t CC I CV'!M39*'График CC I CV'!$B$4","v":1481},{"$f":"'t CC I CV'!N39*'График CC I CV'!$B$4","v":1629},{"$f":"'t CC I CV'!O39*'График CC I CV'!$B$4","v":1777},{"$f":"'t CC I CV'!P39*'График CC I CV'!$B$4","v":1925},{"$f":"'t CC I CV'!Q39*'График CC I CV'!$B$4","v":2073},{"$f":"'t CC I CV'!R39*'График CC I CV'!$B$4","v":2221},{"$f":"'t CC I CV'!S39*'График CC I CV'!$B$4","v":2369},{"$f":"'t CC I CV'!T39*'График CC I CV'!$B$4","v":2517},{"$f":"'t CC I CV'!U39*'График CC I CV'!$B$4","v":2665},{"$f":"'t CC I CV'!V39*'График CC I CV'!$B$4","v":2814},{"$f":"'t CC I CV'!W39*'График CC I CV'!$B$4","v":2962},{"$f":"'t CC I CV'!X39*'График CC I CV'!$B$4","v":3110},{"$f":"'t CC I CV'!Y39*'График CC I CV'!$B$4","v":3258},{"$f":"'t CC I CV'!Z39*'График CC I CV'!$B$4","v":3406},{"$f":"'t CC I CV'!AA39*'График CC I CV'!$B$4","v":3554},{"$f":"'t CC I CV'!AB39*'График CC I CV'!$B$4","v":3702},{"$f":"'t CC I CV'!AC39*'График CC I CV'!$B$4","v":3850},{"$f":"'t CC I CV'!AD39*'График CC I CV'!$B$4","v":3998},{"$f":"'t CC I CV'!AE39*'График CC I CV'!$B$4","v":4146},{"$f":"'t CC I CV'!AF39*'График CC I CV'!$B$4","v":4294},{"$f":"'t CC I CV'!AG39*'График CC I CV'!$B$4","v":4442}]
[]
[null,null,22,"Classic C /                                             Classic CV(L)","боковое /                          нижнее","CC 22-4-XX /                                          CV(L) 22-4-XX",{"$f":"'t CC I CV'!G42*'График CC I CV'!$B$4","v":755},{"$f":"'t CC I CV'!H42*'График CC I CV'!$B$4","v":944},{"$f":"'t CC I CV'!I42*'График CC I CV'!$B$4","v":1133},{"$f":"'t CC I CV'!J42*'График CC I CV'!$B$4","v":1322},{"$f":"'t CC I CV'!K42*'График CC I CV'!$B$4","v":1511},{"$f":"'t CC I CV'!L42*'График CC I CV'!$B$4","v":1700},{"$f":"'t CC I CV'!M42*'График CC I CV'!$B$4","v":1889},{"$f":"'t CC I CV'!N42*'График CC I CV'!$B$4","v":2078},{"$f":"'t CC I CV'!O42*'График CC I CV'!$B$4","v":2266},{"$f":"'t CC I CV'!P42*'График CC I CV'!$B$4","v":2455},{"$f":"'t CC I CV'!Q42*'График CC I CV'!$B$4","v":2644},{"$f":"'t CC I CV'!R42*'График CC I CV'!$B$4","v":2833},{"$f":"'t CC I CV'!S42*'График CC I CV'!$B$4","v":3022},{"$f":"'t CC I CV'!T42*'График CC I CV'!$B$4","v":3211},{"$f":"'t CC I CV'!U42*'График CC I CV'!$B$4","v":3400},{"$f":"'t CC I CV'!V42*'График CC I CV'!$B$4","v":3588},{"$f":"'t CC I CV'!W42*'График CC I CV'!$B$4","v":3777},{"$f":"'t CC I CV'!X42*'График CC I CV'!$B$4","v":3966},{"$f":"'t CC I CV'!Y42*'График CC I CV'!$B$4","v":4155},{"$f":"'t CC I CV'!Z42*'График CC I CV'!$B$4","v":4344},{"$f":"'t CC I CV'!AA42*'График CC I CV'!$B$4","v":4533},{"$f":"'t CC I CV'!AB42*'График CC I CV'!$B$4","v":4722},{"$f":"'t CC I CV'!AC42*'График CC I CV'!$B$4","v":4911},{"$f":"'t CC I CV'!AD42*'График CC I CV'!$B$4","v":5099},{"$f":"'t CC I CV'!AE42*'График CC I CV'!$B$4","v":5288},{"$f":"'t CC I CV'!AF42*'График CC I CV'!$B$4","v":5477},{"$f":"'t CC I CV'!AG42*'График CC I CV'!$B$4","v":5666}]
[]
[null,null,33,"Classic C /                                             Classic CV(L)","боковое /                          нижнее","CC 33-4-XX /                                          CV(L) 33-4-XX",{"$f":"'t CC I CV'!G48*'График CC I CV'!$B$4","v":1082},{"$f":"'t CC I CV'!H48*'График CC I CV'!$B$4","v":1352},{"$f":"'t CC I CV'!I48*'График CC I CV'!$B$4","v":1622},{"$f":"'t CC I CV'!J48*'График CC I CV'!$B$4","v":1893},{"$f":"'t CC I CV'!K48*'График CC I CV'!$B$4","v":2163},{"$f":"'t CC I CV'!L48*'График CC I CV'!$B$4","v":2434},{"$f":"'t CC I CV'!M48*'График CC I CV'!$B$4","v":2704},{"$f":"'t CC I CV'!N48*'График CC I CV'!$B$4","v":2975},{"$f":"'t CC I CV'!O48*'График CC I CV'!$B$4","v":3245},{"$f":"'t CC I CV'!P48*'График CC I CV'!$B$4","v":3515},{"$f":"'t CC I CV'!Q48*'График CC I CV'!$B$4","v":3786},{"$f":"'t CC I CV'!R48*'График CC I CV'!$B$4","v":4056},{"$f":"'t CC I CV'!S48*'График CC I CV'!$B$4","v":4372},{"$f":"'t CC I CV'!T48*'График CC I CV'!$B$4","v":4597},{"$f":"'t CC I CV'!U48*'График CC I CV'!$B$4","v":4867},{"$f":"'t CC I CV'!V48*'График CC I CV'!$B$4","v":5138},{"$f":"'t CC I CV'!W48*'График CC I CV'!$B$4","v":5408},{"$f":"'t CC I CV'!X48*'График CC I CV'!$B$4","v":5679},{"$f":"'t CC I CV'!Y48*'График CC I CV'!$B$4","v":5949},{"$f":"'t CC I CV'!Z48*'График CC I CV'!$B$4","v":6219},{"$f":"'t CC I CV'!AA48*'График CC I CV'!$B$4","v":6490},{"$f":"'t CC I CV'!AB48*'График CC I CV'!$B$4","v":6760},{"$f":"'t CC I CV'!AC48*'График CC I CV'!$B$4","v":7031},{"$f":"'t CC I CV'!AD48*'График CC I CV'!$B$4","v":7301},{"$f":"'t CC I CV'!AE48*'График CC I CV'!$B$4","v":7572},{"$f":"'t CC I CV'!AF48*'График CC I CV'!$B$4","v":7842},{"$f":"'t CC I CV'!AG48*'График CC I CV'!$B$4","v":8112}]
[]
[]
[]
["CC/CV","Высота (см)","Тип","Модель","Подключение","Артикул заказа",null,null,null,null,null,null,null,null,null,null,null,null,null,"Длина, см"]
[null,null,null,null,null,null,40,50,60,70,80,90,100,110,120,130,140,150,160,170,180,190,200,210,220,230,240,250,260,270,280,290,300]
[null,40,10,"Classic CH /                                             Classic CV(L)H","боковое /                          нижнее","CCH 10-4-XX /                                          CV(L)H 10-4-XX",{"$f":"'t CC I CV'!G30*'График CC I CV'!$B$4","v":272},{"$f":"'t CC I CV'!H30*'График CC I CV'!$B$4","v":339},{"$f":"'t CC I CV'!I30*'График CC I CV'!$B$4","v":407},{"$f":"'t CC I CV'!J30*'График CC I CV'!$B$4","v":475},{"$f":"'t CC I CV'!K30*'График CC I CV'!$B$4","v":543},{"$f":"'t CC I CV'!L30*'График CC I CV'!$B$4","v":611},{"$f":"'t CC I CV'!M30*'График CC I CV'!$B$4","v":679},{"$f":"'t CC I CV'!N30*'График CC I CV'!$B$4","v":747},{"$f":"'t CC I CV'!O30*'График CC I CV'!$B$4","v":815},{"$f":"'t CC I CV'!P30*'График CC I CV'!$B$4","v":883},{"$f":"'t CC I CV'!Q30*'График CC I CV'!$B$4","v":950},{"$f":"'t CC I CV'!R30*'График CC I CV'!$B$4","v":1018},{"$f":"'t CC I CV'!S30*'График CC I CV'!$B$4","v":1086},{"$f":"'t CC I CV'!T30*'График CC I CV'!$B$4","v":1154},{"$f":"'t CC I CV'!U30*'График CC I CV'!$B$4","v":1222},{"$f":"'t CC I CV'!V30*'График CC I CV'!$B$4","v":1290},{"$f":"'t CC I CV'!W30*'График CC I CV'!$B$4","v":1358},{"$f":"'t CC I CV'!X30*'График CC I CV'!$B$4","v":1426},{"$f":"'t CC I CV'!Y30*'График CC I CV'!$B$4","v":1493},{"$f":"'t CC I CV'!Z30*'График CC I CV'!$B$4","v":1561},{"$f":"'t CC I CV'!AA30*'График CC I CV'!$B$4","v":1629},{"$f":"'t CC I CV'!AB30*'График CC I CV'!$B$4","v":1697},{"$f":"'t CC I CV'!AC30*'График CC I CV'!$B$4","v":1765},{"$f":"'t CC I CV'!AD30*'График CC I CV'!$B$4","v":1833},{"$f":"'t CC I CV'!AE30*'График CC I CV'!$B$4","v":1901},{"$f":"'t CC I CV'!AF30*'График CC I CV'!$B$4","v":1969},{"$f":"'t CC I CV'!AG30*'График CC I CV'!$B$4","v":2037}]
[]
[null,null,11,"Classic C /                                             Classic CV(L)","боковое /                          нижнее","CC 11-4-XX /                                          CV(L) 11-4-XX",{"$f":"'t CC I CV'!G33*'График CC I CV'!$B$4","v":395},{"$f":"'t CC I CV'!H33*'График CC I CV'!$B$4","v":494},{"$f":"'t CC I CV'!I33*'График CC I CV'!$B$4","v":592},{"$f":"'t CC I CV'!J33*'График CC I CV'!$B$4","v":691},{"$f":"'t CC I CV'!K33*'График CC I CV'!$B$4","v":790},{"$f":"'t CC I CV'!L33*'График CC I CV'!$B$4","v":889},{"$f":"'t CC I CV'!M33*'График CC I CV'!$B$4","v":987},{"$f":"'t CC I CV'!N33*'График CC I CV'!$B$4","v":1086},{"$f":"'t CC I CV'!O33*'График CC I CV'!$B$4","v":1185},{"$f":"'t CC I CV'!P33*'График CC I CV'!$B$4","v":1284},{"$f":"'t CC I CV'!Q33*'График CC I CV'!$B$4","v":1382},{"$f":"'t CC I CV'!R33*'График CC I CV'!$B$4","v":1481},{"$f":"'t CC I CV'!S33*'График CC I CV'!$B$4","v":1580},{"$f":"'t CC I CV'!T33*'График CC I CV'!$B$4","v":1679},{"$f":"'t CC I CV'!U33*'График CC I CV'!$B$4","v":1777},{"$f":"'t CC I CV'!V33*'График CC I CV'!$B$4","v":1876},{"$f":"'t CC I CV'!W33*'График CC I CV'!$B$4","v":1975},{"$f":"'t CC I CV'!X33*'График CC I CV'!$B$4","v":2074},{"$f":"'t CC I CV'!Y33*'График CC I CV'!$B$4","v":2172},{"$f":"'t CC I CV'!Z33*'График CC I CV'!$B$4","v":2271},{"$f":"'t CC I CV'!AA33*'График CC I CV'!$B$4","v":2370},{"$f":"'t CC I CV'!AB33*'График CC I CV'!$B$4","v":2469},{"$f":"'t CC I CV'!AC33*'График CC I CV'!$B$4","v":2567},{"$f":"'t CC I CV'!AD33*'График CC I CV'!$B$4","v":2666},{"$f":"'t CC I CV'!AE33*'График CC I CV'!$B$4","v":2765},{"$f":"'t CC I CV'!AF33*'График CC I CV'!$B$4","v":2864},{"$f":"'t CC I CV'!AG33*'График CC I CV'!$B$4","v":2962}]
[]
[null,null,20,"Classic CH /                                             Classic CV(L)H","боковое /                          нижнее","CCH 20-4-XX /                                          CV(L)H 20-4-XX",{"$f":"'t CC I CV'!G36*'График CC I CV'!$B$4","v":473},{"$f":"'t CC I CV'!H36*'График CC I CV'!$B$4","v":591},{"$f":"'t CC I CV'!I36*'График CC I CV'!$B$4","v":709},{"$f":"'t CC I CV'!J36*'График CC I CV'!$B$4","v":827},{"$f":"'t CC I CV'!K36*'График CC I CV'!$B$4","v":946},{"$f":"'t CC I CV'!L36*'График CC I CV'!$B$4","v":1064},{"$f":"'t CC I CV'!M36*'График CC I CV'!$B$4","v":1182},{"$f":"'t CC I CV'!N36*'График CC I CV'!$B$4","v":1300},{"$f":"'t CC I CV'!O36*'График CC I CV'!$B$4","v":1418},{"$f":"'t CC I CV'!P36*'График CC I CV'!$B$4","v":1537},{"$f":"'t CC I CV'!Q36*'График CC I CV'!$B$4","v":1655},{"$f":"'t CC I CV'!R36*'График CC I CV'!$B$4","v":1773},{"$f":"'t CC I CV'!S36*'График CC I CV'!$B$4","v":1891},{"$f":"'t CC I CV'!T36*'График CC I CV'!$B$4","v":2009},{"$f":"'t CC I CV'!U36*'График CC I CV'!$B$4","v":2128},{"$f":"'t CC I CV'!V36*'График CC I CV'!$B$4","v":2246},{"$f":"'t CC I CV'!W36*'График CC I CV'!$B$4","v":2364},{"$f":"'t CC I CV'!X36*'График CC I CV'!$B$4","v":2482},{"$f":"'t CC I CV'!Y36*'График CC I CV'!$B$4","v":2600},{"$f":"'t CC I CV'!Z36*'График CC I CV'!$B$4","v":2718},{"$f":"'t CC I CV'!AA36*'График CC I CV'!$B$4","v":2837},{"$f":"'t CC I CV'!AB36*'График CC I CV'!$B$4","v":2955},{"$f":"'t CC I CV'!AC36*'График CC I CV'!$B$4","v":3073},{"$f":"'t CC I CV'!AD36*'График CC I CV'!$B$4","v":3191},{"$f":"'t CC I CV'!AE36*'График CC I CV'!$B$4","v":3309},{"$f":"'t CC I CV'!AF36*'График CC I CV'!$B$4","v":3428},{"$f":"'t CC I CV'!AG36*'График CC I CV'!$B$4","v":3546}]
[]
[null,null,21,"Classic C /                                             Classic CV(L)","боковое /                          нижнее","CC 21-4-XX /                                          CV(L) 21-4-XX",{"$f":"'t CC I CV'!G39*'График CC I CV'!$B$4","v":592},{"$f":"'t CC I CV'!H39*'График CC I CV'!$B$4","v":740},{"$f":"'t CC I CV'!I39*'График CC I CV'!$B$4","v":888},{"$f":"'t CC I CV'!J39*'График CC I CV'!$B$4","v":1037},{"$f":"'t CC I CV'!K39*'График CC I CV'!$B$4","v":1185},{"$f":"'t CC I CV'!L39*'График CC I CV'!$B$4","v":1333},{"$f":"'t CC I CV'!M39*'График CC I CV'!$B$4","v":1481},{"$f":"'t CC I CV'!N39*'График CC I CV'!$B$4","v":1629},{"$f":"'t CC I CV'!O39*'График CC I CV'!$B$4","v":1777},{"$f":"'t CC I CV'!P39*'График CC I CV'!$B$4","v":1925},{"$f":"'t CC I CV'!Q39*'График CC I CV'!$B$4","v":2073},{"$f":"'t CC I CV'!R39*'График CC I CV'!$B$4","v":2221},{"$f":"'t CC I CV'!S39*'График CC I CV'!$B$4","v":2369},{"$f":"'t CC I CV'!T39*'График CC I CV'!$B$4","v":2517},{"$f":"'t CC I CV'!U39*'График CC I CV'!$B$4","v":2665},{"$f":"'t CC I CV'!V39*'График CC I CV'!$B$4","v":2814},{"$f":"'t CC I CV'!W39*'График CC I CV'!$B$4","v":2962},{"$f":"'t CC I CV'!X39*'График CC I CV'!$B$4","v":3110},{"$f":"'t CC I CV'!Y39*'График CC I CV'!$B$4","v":3258},{"$f":"'t CC I CV'!Z39*'График CC I CV'!$B$4","v":3406},{"$f":"'t CC I CV'!AA39*'График CC I CV'!$B$4","v":3554},{"$f":"'t CC I CV'!AB39*'График CC I CV'!$B$4","v":3702},{"$f":"'t CC I CV'!AC39*'График CC I CV'!$B$4","v":3850},{"$f":"'t CC I CV'!AD39*'График CC I CV'!$B$4","v":3998},{"$f":"'t CC I CV'!AE39*'График CC I CV'!$B$4","v":4146},{"$f":"'t CC I CV'!AF39*'График CC I CV'!$B$4","v":4294},{"$f":"'t CC I CV'!AG39*'График CC I CV'!$B$4","v":4442}]
[]
[null,null,22,"Classic C /                                             Classic CV(L)","боковое /                          нижнее","CC 22-4-XX /                                          CV(L) 22-4-XX",{"$f":"'t CC I CV'!G42*'График CC I CV'!$B$4","v":755},{"$f":"'t CC I CV'!H42*'График CC I CV'!$B$4","v":944},{"$f":"'t CC I CV'!I42*'График CC I CV'!$B$4","v":1133},{"$f":"'t CC I CV'!J42*'График CC I CV'!$B$4","v":1322},{"$f":"'t CC I CV'!K42*'График CC I CV'!$B$4","v":1511},{"$f":"'t CC I CV'!L42*'График CC I CV'!$B$4","v":1700},{"$f":"'t CC I CV'!M42*'График CC I CV'!$B$4","v":1889},{"$f":"'t CC I CV'!N42*'График CC I CV'!$B$4","v":2078},{"$f":"'t CC I CV'!O42*'График CC I CV'!$B$4","v":2266},{"$f":"'t CC I CV'!P42*'График CC I CV'!$B$4","v":2455},{"$f":"'t CC I CV'!Q42*'График CC I CV'!$B$4","v":2644},{"$f":"'t CC I CV'!R42*'График CC I CV'!$B$4","v":2833},{"$f":"'t CC I CV'!S42*'График CC I CV'!$B$4","v":3022},{"$f":"'t CC I CV'!T42*'График CC I CV'!$B$4","v":3211},{"$f":"'t CC I CV'!U42*'График CC I CV'!$B$4","v":3400},{"$f":"'t CC I CV'!V42*'График CC I CV'!$B$4","v":3588},{"$f":"'t CC I CV'!W42*'График CC I CV'!$B$4","v":3777},{"$f":"'t CC I CV'!X42*'График CC I CV'!$B$4","v":3966},{"$f":"'t CC I CV'!Y42*'График CC I CV'!$B$4","v":4155},{"$f":"'t CC I CV'!Z42*'График CC I CV'!$B$4","v":4344},{"$f":"'t CC I CV'!AA42*'График CC I CV'!$B$4","v":4533},{"$f":"'t CC I CV'!AB42*'График CC I CV'!$B$4","v":4722},{"$f":"'t CC I CV'!AC42*'График CC I CV'!$B$4","v":4911},{"$f":"'t CC I CV'!AD42*'График CC I CV'!$B$4","v":5099},{"$f":"'t CC I CV'!AE42*'График CC I CV'!$B$4","v":5288},{"$f":"'t CC I CV'!AF42*'График CC I CV'!$B$4","v":5477},{"$f":"'t CC I CV'!AG42*'График CC I CV'!$B$4","v":5666}]
[]
[null,null,30,"Classic CH /                                             Classic CV(L)H","боковое /                          нижнее","CCH 30-4-XX /                                          CV(L)H 30-4-XX",{"$f":"'t CC I CV'!G45*'График CC I CV'!$B$4","v":732},{"$f":"'t CC I CV'!H45*'График CC I CV'!$B$4","v":914},{"$f":"'t CC I CV'!I45*'График CC I CV'!$B$4","v":1097},{"$f":"'t CC I CV'!J45*'График CC I CV'!$B$4","v":1280},{"$f":"'t CC I CV'!K45*'График CC I CV'!$B$4","v":1463},{"$f":"'t CC I CV'!L45*'График CC I CV'!$B$4","v":1645},{"$f":"'t CC I CV'!M45*'График CC I CV'!$B$4","v":1829},{"$f":"'t CC I CV'!N45*'График CC I CV'!$B$4","v":2012},{"$f":"'t CC I CV'!O45*'График CC I CV'!$B$4","v":2196},{"$f":"'t CC I CV'!P45*'График CC I CV'!$B$4","v":2378},{"$f":"'t CC I CV'!Q45*'График CC I CV'!$B$4","v":2560},{"$f":"'t CC I CV'!R45*'График CC I CV'!$B$4","v":2743},{"$f":"'t CC I CV'!S45*'График CC I CV'!$B$4","v":2926},{"$f":"'t CC I CV'!T45*'График CC I CV'!$B$4","v":3109},{"$f":"'t CC I CV'!U45*'График CC I CV'!$B$4","v":3292},{"$f":"'t CC I CV'!V45*'График CC I CV'!$B$4","v":3474},{"$f":"'t CC I CV'!W45*'График CC I CV'!$B$4","v":3658},{"$f":"'t CC I CV'!X45*'График CC I CV'!$B$4","v":3841},{"$f":"'t CC I CV'!Y45*'График CC I CV'!$B$4","v":4022.9999999999995},{"$f":"'t CC I CV'!Z45*'График CC I CV'!$B$4","v":4207},{"$f":"'t CC I CV'!AA45*'График CC I CV'!$B$4","v":4388},{"$f":"'t CC I CV'!AB45*'График CC I CV'!$B$4","v":4570},{"$f":"'t CC I CV'!AC45*'График CC I CV'!$B$4","v":4755},{"$f":"'t CC I CV'!AD45*'График CC I CV'!$B$4","v":4937},{"$f":"'t CC I CV'!AE45*'График CC I CV'!$B$4","v":5120},{"$f":"'t CC I CV'!AF45*'График CC I CV'!$B$4","v":5302},{"$f":"'t CC I CV'!AG45*'График CC I CV'!$B$4","v":5486}]
[]
[null,null,33,"Classic C /                                             Classic CV(L)","боковое /                          нижнее","CC 33-4-XX /                                          CV(L) 33-4-XX",{"$f":"'t CC I CV'!G48*'График CC I CV'!$B$4","v":1082},{"$f":"'t CC I CV'!H48*'График CC I CV'!$B$4","v":1352},{"$f":"'t CC I CV'!I48*'График CC I CV'!$B$4","v":1622},{"$f":"'t CC I CV'!J48*'График CC I CV'!$B$4","v":1893},{"$f":"'t CC I CV'!K48*'График CC I CV'!$B$4","v":2163},{"$f":"'t CC I CV'!L48*'График CC I CV'!$B$4","v":2434},{"$f":"'t CC I CV'!M48*'График CC I CV'!$B$4","v":2704},{"$f":"'t CC I CV'!N48*'График CC I CV'!$B$4","v":2975},{"$f":"'t CC I CV'!O48*'График CC I CV'!$B$4","v":3245},{"$f":"'t CC I CV'!P48*'График CC I CV'!$B$4","v":3515},{"$f":"'t CC I CV'!Q48*'График CC I CV'!$B$4","v":3786},{"$f":"'t CC I CV'!R48*'График CC I CV'!$B$4","v":4056},{"$f":"'t CC I CV'!S48*'График CC I CV'!$B$4","v":4372},{"$f":"'t CC I CV'!T48*'График CC I CV'!$B$4","v":4597},{"$f":"'t CC I CV'!U48*'График CC I CV'!$B$4","v":4867},{"$f":"'t CC I CV'!V48*'График CC I CV'!$B$4","v":5138},{"$f":"'t CC I CV'!W48*'График CC I CV'!$B$4","v":5408},{"$f":"'t CC I CV'!X48*'График CC I CV'!$B$4","v":5679},{"$f":"'t CC I CV'!Y48*'График CC I CV'!$B$4","v":5949},{"$f":"'t CC I CV'!Z48*'График CC I CV'!$B$4","v":6219},{"$f":"'t CC I CV'!AA48*'График CC I CV'!$B$4","v":6490},{"$f":"'t CC I CV'!AB48*'График CC I CV'!$B$4","v":6760},{"$f":"'t CC I CV'!AC48*'График CC I CV'!$B$4","v":7031},{"$f":"'t CC I CV'!AD48*'График CC I CV'!$B$4","v":7301},{"$f":"'t CC I CV'!AE48*'График CC I CV'!$B$4","v":7572},{"$f":"'t CC I CV'!AF48*'График CC I CV'!$B$4","v":7842},{"$f":"'t CC I CV'!AG48*'График CC I CV'!$B$4","v":8112}]
[]
[]
[]
["CC/CV","Высота (см)","Тип","Модель","Подключение","Артикул заказа",null,null,null,null,null,null,null,null,null,null,null,null,null,"Длина, см"]
[null,null,null,null,null,null,40,50,60,70,80,90,100,110,120,130,140,150,160,170,180,190,200,210,220,230,240,250,260,270,280,290,300]
[null,50,10,"Classic CH /                                             Classic CV(L)H","боковое /                          нижнее","CCH 10-5-XX /                                          CV(L)H 10-5-XX",{"$f":"'t CC I CV'!G55*'График CC I CV'!$B$4","v":350},{"$f":"'t CC I CV'!H55*'График CC I CV'!$B$4","v":437},{"$f":"'t CC I CV'!I55*'График CC I CV'!$B$4","v":524},{"$f":"'t CC I CV'!J55*'График CC I CV'!$B$4","v":612},{"$f":"'t CC I CV'!K55*'График CC I CV'!$B$4","v":699},{"$f":"'t CC I CV'!L55*'График CC I CV'!$B$4","v":786},{"$f":"'t CC I CV'!M55*'График CC I CV'!$B$4","v":874},{"$f":"'t CC I CV'!N55*'График CC I CV'!$B$4","v":961},{"$f":"'t CC I CV'!O55*'График CC I CV'!$B$4","v":1049},{"$f":"'t CC I CV'!P55*'График CC I CV'!$B$4","v":1136},{"$f":"'t CC I CV'!Q55*'График CC I CV'!$B$4","v":1223},{"$f":"'t CC I CV'!R55*'График CC I CV'!$B$4","v":1311},{"$f":"'t CC I CV'!S55*'График CC I CV'!$B$4","v":1398},{"$f":"'t CC I CV'!T55*'График CC I CV'!$B$4","v":1485},{"$f":"'t CC I CV'!U55*'График CC I CV'!$B$4","v":1573},{"$f":"'t CC I CV'!V55*'График CC I CV'!$B$4","v":1660},{"$f":"'t CC I CV'!W55*'График CC I CV'!$B$4","v":1748},{"$f":"'t CC I CV'!X55*'График CC I CV'!$B$4","v":1835},{"$f":"'t CC I CV'!Y55*'График CC I CV'!$B$4","v":1922},{"$f":"'t CC I CV'!Z55*'График CC I CV'!$B$4","v":2010},{"$f":"'t CC I CV'!AA55*'График CC I CV'!$B$4","v":2097},{"$f":"'t CC I CV'!AB55*'График CC I CV'!$B$4","v":2185},{"$f":"'t CC I CV'!AC55*'График CC I CV'!$B$4","v":2272},{"$f":"'t CC I CV'!AD55*'График CC I CV'!$B$4","v":2359},{"$f":"'t CC I CV'!AE55*'График CC I CV'!$B$4","v":2447},{"$f":"'t CC I CV'!AF55*'График CC I CV'!$B$4","v":2534},{"$f":"'t CC I CV'!AG55*'График CC I CV'!$B$4","v":2621}]
[]
[null,null,11,"Classic C /                                             Classic CV(L)","боковое /                          нижнее","CC 11-5-XX /                                          CV(L) 11-5-XX",{"$f":"'t CC I CV'!G58*'График CC I CV'!$B$4","v":517},{"$f":"'t CC I CV'!H58*'График CC I CV'!$B$4","v":646},{"$f":"'t CC I CV'!I58*'График CC I CV'!$B$4","v":776},{"$f":"'t CC I CV'!J58*'График CC I CV'!$B$4","v":905},{"$f":"'t CC I CV'!K58*'График CC I CV'!$B$4","v":1034},{"$f":"'t CC I CV'!L58*'График CC I CV'!$B$4","v":1164},{"$f":"'t CC I CV'!M58*'График CC I CV'!$B$4","v":1293},{"$f":"'t CC I CV'!N58*'График CC I CV'!$B$4","v":1422},{"$f":"'t CC I CV'!O58*'График CC I CV'!$B$4","v":1551},{"$f":"'t CC I CV'!P58*'График CC I CV'!$B$4","v":1681},{"$f":"'t CC I CV'!Q58*'График CC I CV'!$B$4","v":1810},{"$f":"'t CC I CV'!R58*'График CC I CV'!$B$4","v":1939},{"$f":"'t CC I CV'!S58*'График CC I CV'!$B$4","v":2068},{"$f":"'t CC I CV'!T58*'График CC I CV'!$B$4","v":2198},{"$f":"'t CC I CV'!U58*'График CC I CV'!$B$4","v":2327},{"$f":"'t CC I CV'!V58*'График CC I CV'!$B$4","v":2456},{"$f":"'t CC I CV'!W58*'График CC I CV'!$B$4","v":2586},{"$f":"'t CC I CV'!X58*'График CC I CV'!$B$4","v":2715},{"$f":"'t CC I CV'!Y58*'График CC I CV'!$B$4","v":2844},{"$f":"'t CC I CV'!Z58*'График CC I CV'!$B$4","v":2973},{"$f":"'t CC I CV'!AA58*'График CC I CV'!$B$4","v":3102},{"$f":"'t CC I CV'!AB58*'График CC I CV'!$B$4","v":3232},{"$f":"'t CC I CV'!AC58*'График CC I CV'!$B$4","v":3361},{"$f":"'t CC I CV'!AD58*'График CC I CV'!$B$4","v":3491},{"$f":"'t CC I CV'!AE58*'График CC I CV'!$B$4","v":3620},{"$f":"'t CC I CV'!AF58*'График CC I CV'!$B$4","v":3749},{"$f":"'t CC I CV'!AG58*'График CC I CV'!$B$4","v":3878}]
[]
[null,null,20,"Classic CH /                                             Classic CV(L)H","боковое /                          нижнее","CCH 20-5-XX /                                          CV(L)H 20-5-XX",{"$f":"'t CC I CV'!G61*'График CC I CV'!$B$4","v":578},{"$f":"'t CC I CV'!H61*'График CC I CV'!$B$4","v":723},{"$f":"'t CC I CV'!I61*'График CC I CV'!$B$4","v":867},{"$f":"'t CC I CV'!J61*'График CC I CV'!$B$4","v":1012},{"$f":"'t CC I CV'!K61*'График CC I CV'!$B$4","v":1156},{"$f":"'t CC I CV'!L61*'График CC I CV'!$B$4","v":1301},{"$f":"'t CC I CV'!M61*'График CC I CV'!$B$4","v":1445},{"$f":"'t CC I CV'!N61*'График CC I CV'!$B$4","v":1590},{"$f":"'t CC I CV'!O61*'График CC I CV'!$B$4","v":1734},{"$f":"'t CC I CV'!P61*'График CC I CV'!$B$4","v":1879},{"$f":"'t CC I CV'!Q61*'График CC I CV'!$B$4","v":2023},{"$f":"'t CC I CV'!R61*'График CC I CV'!$B$4","v":2168},{"$f":"'t CC I CV'!S61*'График CC I CV'!$B$4","v":2312},{"$f":"'t CC I CV'!T61*'График CC I CV'!$B$4","v":2457},{"$f":"'t CC I CV'!U61*'График CC I CV'!$B$4","v":2602},{"$f":"'t CC I CV'!V61*'График CC I CV'!$B$4","v":2746},{"$f":"'t CC I CV'!W61*'График CC I CV'!$B$4","v":2891},{"$f":"'t CC I CV'!X61*'График CC I CV'!$B$4","v":3035},{"$f":"'t CC I CV'!Y61*'График CC I CV'!$B$4","v":3180},{"$f":"'t CC I CV'!Z61*'График CC I CV'!$B$4","v":3324},{"$f":"'t CC I CV'!AA61*'График CC I CV'!$B$4","v":3469},{"$f":"'t CC I CV'!AB61*'График CC I CV'!$B$4","v":3613},{"$f":"'t CC I CV'!AC61*'График CC I CV'!$B$4","v":3758},{"$f":"'t CC I CV'!AD61*'График CC I CV'!$B$4","v":3902},{"$f":"'t CC I CV'!AE61*'График CC I CV'!$B$4","v":4047},{"$f":"'t CC I CV'!AF61*'График CC I CV'!$B$4","v":4191},{"$f":"'t CC I CV'!AG61*'График CC I CV'!$B$4","v":4336}]
[]
[null,null,21,"Classic C /                                             Classic CV(L)","боковое /                          нижнее","CC 21-5-XX /                                          CV(L) 21-5-XX",{"$f":"'t CC I CV'!G64*'График CC I CV'!$B$4","v":738},{"$f":"'t CC I CV'!H64*'График CC I CV'!$B$4","v":923},{"$f":"'t CC I CV'!I64*'График CC I CV'!$B$4","v":1107},{"$f":"'t CC I CV'!J64*'График CC I CV'!$B$4","v":1292},{"$f":"'t CC I CV'!K64*'График CC I CV'!$B$4","v":1476},{"$f":"'t CC I CV'!L64*'График CC I CV'!$B$4","v":1661},{"$f":"'t CC I CV'!M64*'График CC I CV'!$B$4","v":1845},{"$f":"'t CC I CV'!N64*'График CC I CV'!$B$4","v":2030},{"$f":"'t CC I CV'!O64*'График CC I CV'!$B$4","v":2214},{"$f":"'t CC I CV'!P64*'График CC I CV'!$B$4","v":2399},{"$f":"'t CC I CV'!Q64*'График CC I CV'!$B$4","v":2583},{"$f":"'t CC I CV'!R64*'График CC I CV'!$B$4","v":2768},{"$f":"'t CC I CV'!S64*'График CC I CV'!$B$4","v":2952},{"$f":"'t CC I CV'!T64*'График CC I CV'!$B$4","v":3137},{"$f":"'t CC I CV'!U64*'График CC I CV'!$B$4","v":3321},{"$f":"'t CC I CV'!V64*'График CC I CV'!$B$4","v":3506},{"$f":"'t CC I CV'!W64*'График CC I CV'!$B$4","v":3690},{"$f":"'t CC I CV'!X64*'График CC I CV'!$B$4","v":3875},{"$f":"'t CC I CV'!Y64*'График CC I CV'!$B$4","v":4059},{"$f":"'t CC I CV'!Z64*'График CC I CV'!$B$4","v":4244},{"$f":"'t CC I CV'!AA64*'График CC I CV'!$B$4","v":4428},{"$f":"'t CC I CV'!AB64*'График CC I CV'!$B$4","v":4613},{"$f":"'t CC I CV'!AC64*'График CC I CV'!$B$4","v":4797},{"$f":"'t CC I CV'!AD64*'График CC I CV'!$B$4","v":4982},{"$f":"'t CC I CV'!AE64*'График CC I CV'!$B$4","v":5166},{"$f":"'t CC I CV'!AF64*'График CC I CV'!$B$4","v":5351},{"$f":"'t CC I CV'!AG64*'График CC I CV'!$B$4","v":5535}]
[]
[null,null,22,"Classic C /                                             Classic CV(L)","боковое /                          нижнее","CC 22-5-XX /                                          CV(L) 22-5-XX",{"$f":"'t CC I CV'!G67*'График CC I CV'!$B$4","v":961},{"$f":"'t CC I CV'!H67*'График CC I CV'!$B$4","v":1202},{"$f":"'t CC I CV'!I67*'График CC I CV'!$B$4","v":1442},{"$f":"'t CC I CV'!J67*'График CC I CV'!$B$4","v":1683},{"$f":"'t CC I CV'!K67*'График CC I CV'!$B$4","v":1923},{"$f":"'t CC I CV'!L67*'График CC I CV'!$B$4","v":2163},{"$f":"'t CC I CV'!M67*'График CC I CV'!$B$4","v":2404},{"$f":"'t CC I CV'!N67*'График CC I CV'!$B$4","v":2644},{"$f":"'t CC I CV'!O67*'График CC I CV'!$B$4","v":2884},{"$f":"'t CC I CV'!P67*'График CC I CV'!$B$4","v":3125},{"$f":"'t CC I CV'!Q67*'График CC I CV'!$B$4","v":3365},{"$f":"'t CC I CV'!R67*'График CC I CV'!$B$4","v":3605},{"$f":"'t CC I CV'!S67*'График CC I CV'!$B$4","v":3846},{"$f":"'t CC I CV'!T67*'График CC I CV'!$B$4","v":4086},{"$f":"'t CC I CV'!U67*'График CC I CV'!$B$4","v":4327},{"$f":"'t CC I CV'!V67*'График CC I CV'!$B$4","v":4567},{"$f":"'t CC I CV'!W67*'График CC I CV'!$B$4","v":4807},{"$f":"'t CC I CV'!X67*'График CC I CV'!$B$4","v":5048},{"$f":"'t CC I CV'!Y67*'График CC I CV'!$B$4","v":5288},{"$f":"'t CC I CV'!Z67*'График CC I CV'!$B$4","v":5528},{"$f":"'t CC I CV'!AA67*'График CC I CV'!$B$4","v":5769},{"$f":"'t CC I CV'!AB67*'График CC I CV'!$B$4","v":6009},{"$f":"'t CC I CV'!AC67*'График CC I CV'!$B$4","v":6249},{"$f":"'t CC I CV'!AD67*'График CC I CV'!$B$4","v":6490},{"$f":"'t CC I CV'!AE67*'График CC I CV'!$B$4","v":6730},{"$f":"'t CC I CV'!AF67*'График CC I CV'!$B$4","v":6971},{"$f":"'t CC I CV'!AG67*'График CC I CV'!$B$4","v":7211}]
[]
[null,null,30,"Classic CH /                                             Classic CV(L)H","боковое /                          нижнее","CCH 30-5-XX /                                          CV(L)H 30-5-XX",{"$f":"'t CC I CV'!G70*'График CC I CV'!$B$4","v":938},{"$f":"'t CC I CV'!H70*'График CC I CV'!$B$4","v":1172},{"$f":"'t CC I CV'!I70*'График CC I CV'!$B$4","v":1407},{"$f":"'t CC I CV'!J70*'График CC I CV'!$B$4","v":1641},{"$f":"'t CC I CV'!K70*'График CC I CV'!$B$4","v":1876},{"$f":"'t CC I CV'!L70*'График CC I CV'!$B$4","v":2110},{"$f":"'t CC I CV'!M70*'График CC I CV'!$B$4","v":2345},{"$f":"'t CC I CV'!N70*'График CC I CV'!$B$4","v":2579},{"$f":"'t CC I CV'!O70*'График CC I CV'!$B$4","v":2814},{"$f":"'t CC I CV'!P70*'График CC I CV'!$B$4","v":3048},{"$f":"'t CC I CV'!Q70*'График CC I CV'!$B$4","v":3283},{"$f":"'t CC I CV'!R70*'График CC I CV'!$B$4","v":3517},{"$f":"'t CC I CV'!S70*'График CC I CV'!$B$4","v":3752},{"$f":"'t CC I CV'!T70*'График CC I CV'!$B$4","v":3986},{"$f":"'t CC I CV'!U70*'График CC I CV'!$B$4","v":4220},{"$f":"'t CC I CV'!V70*'График CC I CV'!$B$4","v":4455},{"$f":"'t CC I CV'!W70*'График CC I CV'!$B$4","v":4689},{"$f":"'t CC I CV'!X70*'График CC I CV'!$B$4","v":4924},{"$f":"'t CC I CV'!Y70*'График CC I CV'!$B$4","v":5158},{"$f":"'t CC I CV'!Z70*'График CC I CV'!$B$4","v":5393},{"$f":"'t CC I CV'!AA70*'График CC I CV'!$B$4","v":5627},{"$f":"'t CC I CV'!AB70*'График CC I CV'!$B$4","v":5862},{"$f":"'t CC I CV'!AC70*'График CC I CV'!$B$4","v":6096},{"$f":"'t CC I CV'!AD70*'График CC I CV'!$B$4","v":6331},{"$f":"'t CC I CV'!AE70*'График CC I CV'!$B$4","v":6565},{"$f":"'t CC I CV'!AF70*'График CC I CV'!$B$4","v":6800},{"$f":"'t CC I CV'!AG70*'График CC I CV'!$B$4","v":7034}]
[]
[null,null,33,"Classic C /                                             Classic CV(L)","боковое /                          нижнее","CC 33-5-XX /                                          CV(L) 33-5-XX",{"$f":"'t CC I CV'!G73*'График CC I CV'!$B$4","v":1327},{"$f":"'t CC I CV'!H73*'График CC I CV'!$B$4","v":1659},{"$f":"'t CC I CV'!I73*'График CC I CV'!$B$4","v":1991},{"$f":"'t CC I CV'!J73*'График CC I CV'!$B$4","v":2323},{"$f":"'t CC I CV'!K73*'График CC I CV'!$B$4","v":2655},{"$f":"'t CC I CV'!L73*'График CC I CV'!$B$4","v":2987},{"$f":"'t CC I CV'!M73*'График CC I CV'!$B$4","v":3318},{"$f":"'t CC I CV'!N73*'График CC I CV'!$B$4","v":3650},{"$f":"'t CC I CV'!O73*'График CC I CV'!$B$4","v":3982},{"$f":"'t CC I CV'!P73*'График CC I CV'!$B$4","v":4314},{"$f":"'t CC I CV'!Q73*'График CC I CV'!$B$4","v":4646},{"$f":"'t CC I CV'!R73*'График CC I CV'!$B$4","v":4978},{"$f":"'t CC I CV'!S73*'График CC I CV'!$B$4","v":5310},{"$f":"'t CC I CV'!T73*'График CC I CV'!$B$4","v":5641},{"$f":"'t CC I CV'!U73*'График CC I CV'!$B$4","v":5973},{"$f":"'t CC I CV'!V73*'График CC I CV'!$B$4","v":6305},{"$f":"'t CC I CV'!W73*'График CC I CV'!$B$4","v":6637},{"$f":"'t CC I CV'!X73*'График CC I CV'!$B$4","v":6969},{"$f":"'t CC I CV'!Y73*'График CC I CV'!$B$4","v":7301},{"$f":"'t CC I CV'!Z73*'График CC I CV'!$B$4","v":7632},{"$f":"'t CC I CV'!AA73*'График CC I CV'!$B$4","v":7964},{"$f":"'t CC I CV'!AB73*'График CC I CV'!$B$4","v":8296},{"$f":"'t CC I CV'!AC73*'График CC I CV'!$B$4","v":8628},{"$f":"'t CC I CV'!AD73*'График CC I CV'!$B$4","v":8960},{"$f":"'t CC I CV'!AE73*'График CC I CV'!$B$4","v":9292},{"$f":"'t CC I CV'!AF73*'График CC I CV'!$B$4","v":9623},{"$f":"'t CC I CV'!AG73*'График CC I CV'!$B$4","v":9955}]
[]
[]
["CC/CV","Высота (см)","Тип","Модель","Подключение","Артикул заказа",null,null,null,null,null,null,null,null,null,null,null,null,null,"Длина, см"]
[null,null,null,null,null,null,40,50,60,70,80,90,100,110,120,130,140,150,160,170,180,190,200,210,220,230,240,250,260,270,280,290,300]
[null,60,10,"Classic CH /                                             Classic CV(L)H","боковое /                          нижнее","CCH 10-6-XX /                                          CV(L)H 10-6-XX",{"$f":"'t CC I CV'!G99*'График CC I CV'!$B$4","v":418},{"$f":"'t CC I CV'!H99*'График CC I CV'!$B$4","v":523},{"$f":"'t CC I CV'!I99*'График CC I CV'!$B$4","v":628},{"$f":"'t CC I CV'!J99*'График CC I CV'!$B$4","v":732},{"$f":"'t CC I CV'!K99*'График CC I CV'!$B$4","v":837},{"$f":"'t CC I CV'!L99*'График CC I CV'!$B$4","v":941},{"$f":"'t CC I CV'!M99*'График CC I CV'!$B$4","v":1046},{"$f":"'t CC I CV'!N99*'График CC I CV'!$B$4","v":1151},{"$f":"'t CC I CV'!O99*'График CC I CV'!$B$4","v":1255},{"$f":"'t CC I CV'!P99*'График CC I CV'!$B$4","v":1360},{"$f":"'t CC I CV'!Q99*'График CC I CV'!$B$4","v":1464},{"$f":"'t CC I CV'!R99*'График CC I CV'!$B$4","v":1569},{"$f":"'t CC I CV'!S99*'График CC I CV'!$B$4","v":1674},{"$f":"'t CC I CV'!T99*'График CC I CV'!$B$4","v":1778},{"$f":"'t CC I CV'!U99*'График CC I CV'!$B$4","v":1883},{"$f":"'t CC I CV'!V99*'График CC I CV'!$B$4","v":1987},{"$f":"'t CC I CV'!W99*'График CC I CV'!$B$4","v":2092},{"$f":"'t CC I CV'!X99*'График CC I CV'!$B$4","v":2197},{"$f":"'t CC I CV'!Y99*'График CC I CV'!$B$4","v":2301},{"$f":"'t CC I CV'!Z99*'График CC I CV'!$B$4","v":2406},{"$f":"'t CC I CV'!AA99*'График CC I CV'!$B$4","v":2510},{"$f":"'t CC I CV'!AB99*'График CC I CV'!$B$4","v":2615},{"$f":"'t CC I CV'!AC99*'График CC I CV'!$B$4","v":2720},{"$f":"'t CC I CV'!AD99*'График CC I CV'!$B$4","v":2824},{"$f":"'t CC I CV'!AE99*'График CC I CV'!$B$4","v":2929},{"$f":"'t CC I CV'!AF99*'График CC I CV'!$B$4","v":3033},{"$f":"'t CC I CV'!AG99*'График CC I CV'!$B$4","v":3138}]
[]
[null,null,11,"Classic C /                                             Classic CV(L)","боковое /                          нижнее","CC 11-6-XX /                                          CV(L) 11-6-XX",{"$f":"'t CC I CV'!G102*'График CC I CV'!$B$4","v":602},{"$f":"'t CC I CV'!H102*'График CC I CV'!$B$4","v":753},{"$f":"'t CC I CV'!I102*'График CC I CV'!$B$4","v":904},{"$f":"'t CC I CV'!J102*'График CC I CV'!$B$4","v":1054},{"$f":"'t CC I CV'!K102*'График CC I CV'!$B$4","v":1205},{"$f":"'t CC I CV'!L102*'График CC I CV'!$B$4","v":1355},{"$f":"'t CC I CV'!M102*'График CC I CV'!$B$4","v":1506},{"$f":"'t CC I CV'!N102*'График CC I CV'!$B$4","v":1657},{"$f":"'t CC I CV'!O102*'График CC I CV'!$B$4","v":1807},{"$f":"'t CC I CV'!P102*'График CC I CV'!$B$4","v":1958},{"$f":"'t CC I CV'!Q102*'График CC I CV'!$B$4","v":2108},{"$f":"'t CC I CV'!R102*'График CC I CV'!$B$4","v":2259},{"$f":"'t CC I CV'!S102*'График CC I CV'!$B$4","v":2410},{"$f":"'t CC I CV'!T102*'График CC I CV'!$B$4","v":2560},{"$f":"'t CC I CV'!U102*'График CC I CV'!$B$4","v":2711},{"$f":"'t CC I CV'!V102*'График CC I CV'!$B$4","v":2861},{"$f":"'t CC I CV'!W102*'График CC I CV'!$B$4","v":3012},{"$f":"'t CC I CV'!X102*'График CC I CV'!$B$4","v":3163},{"$f":"'t CC I CV'!Y102*'График CC I CV'!$B$4","v":3313},{"$f":"'t CC I CV'!Z102*'График CC I CV'!$B$4","v":3464},{"$f":"'t CC I CV'!AA102*'График CC I CV'!$B$4","v":3614},{"$f":"'t CC I CV'!AB102*'График CC I CV'!$B$4","v":3765},{"$f":"'t CC I CV'!AC102*'График CC I CV'!$B$4","v":3916},{"$f":"'t CC I CV'!AD102*'График CC I CV'!$B$4","v":4066},{"$f":"'t CC I CV'!AE102*'График CC I CV'!$B$4","v":4217},{"$f":"'t CC I CV'!AF102*'График CC I CV'!$B$4","v":4367},{"$f":"'t CC I CV'!AG102*'График CC I CV'!$B$4","v":4518}]
[]
[null,null,20,"Classic CH /                                             Classic CV(L)H","боковое /                          нижнее","CCH 20-6-XX /                                          CV(L)H 20-6-XX",{"$f":"'t CC I CV'!G105*'График CC I CV'!$B$4","v":681},{"$f":"'t CC I CV'!H105*'График CC I CV'!$B$4","v":851},{"$f":"'t CC I CV'!I105*'График CC I CV'!$B$4","v":1021},{"$f":"'t CC I CV'!J105*'График CC I CV'!$B$4","v":1191},{"$f":"'t CC I CV'!K105*'График CC I CV'!$B$4","v":1362},{"$f":"'t CC I CV'!L105*'График CC I CV'!$B$4","v":1532},{"$f":"'t CC I CV'!M105*'График CC I CV'!$B$4","v":1702},{"$f":"'t CC I CV'!N105*'График CC I CV'!$B$4","v":1872},{"$f":"'t CC I CV'!O105*'График CC I CV'!$B$4","v":2042},{"$f":"'t CC I CV'!P105*'График CC I CV'!$B$4","v":2213},{"$f":"'t CC I CV'!Q105*'График CC I CV'!$B$4","v":2383},{"$f":"'t CC I CV'!R105*'График CC I CV'!$B$4","v":2553},{"$f":"'t CC I CV'!S105*'График CC I CV'!$B$4","v":2723},{"$f":"'t CC I CV'!T105*'График CC I CV'!$B$4","v":2893},{"$f":"'t CC I CV'!U105*'График CC I CV'!$B$4","v":3064},{"$f":"'t CC I CV'!V105*'График CC I CV'!$B$4","v":3234},{"$f":"'t CC I CV'!W105*'График CC I CV'!$B$4","v":3404},{"$f":"'t CC I CV'!X105*'График CC I CV'!$B$4","v":3574},{"$f":"'t CC I CV'!Y105*'График CC I CV'!$B$4","v":3744},{"$f":"'t CC I CV'!Z105*'График CC I CV'!$B$4","v":3915},{"$f":"'t CC I CV'!AA105*'График CC I CV'!$B$4","v":4085},{"$f":"'t CC I CV'!AB105*'График CC I CV'!$B$4","v":4255},{"$f":"'t CC I CV'!AC105*'График CC I CV'!$B$4","v":4425},{"$f":"'t CC I CV'!AD105*'График CC I CV'!$B$4","v":4595},{"$f":"'t CC I CV'!AE105*'График CC I CV'!$B$4","v":4766},{"$f":"'t CC I CV'!AF105*'График CC I CV'!$B$4","v":4936},{"$f":"'t CC I CV'!AG105*'График CC I CV'!$B$4","v":5106}]
[]
[null,null,21,"Classic C /                                             Classic CV(L)","боковое /                          нижнее","CC 21-6-XX /                                          CV(L) 21-6-XX",{"$f":"'t CC I CV'!G108*'График CC I CV'!$B$4","v":884},{"$f":"'t CC I CV'!H108*'График CC I CV'!$B$4","v":1106},{"$f":"'t CC I CV'!I108*'График CC I CV'!$B$4","v":1327},{"$f":"'t CC I CV'!J108*'График CC I CV'!$B$4","v":1548},{"$f":"'t CC I CV'!K108*'График CC I CV'!$B$4","v":1769},{"$f":"'t CC I CV'!L108*'График CC I CV'!$B$4","v":1990},{"$f":"'t CC I CV'!M108*'График CC I CV'!$B$4","v":2211},{"$f":"'t CC I CV'!N108*'График CC I CV'!$B$4","v":2432},{"$f":"'t CC I CV'!O108*'График CC I CV'!$B$4","v":2653},{"$f":"'t CC I CV'!P108*'График CC I CV'!$B$4","v":2874},{"$f":"'t CC I CV'!Q108*'График CC I CV'!$B$4","v":3095},{"$f":"'t CC I CV'!R108*'График CC I CV'!$B$4","v":3317},{"$f":"'t CC I CV'!S108*'График CC I CV'!$B$4","v":3538},{"$f":"'t CC I CV'!T108*'График CC I CV'!$B$4","v":3759},{"$f":"'t CC I CV'!U108*'График CC I CV'!$B$4","v":3980},{"$f":"'t CC I CV'!V108*'График CC I CV'!$B$4","v":4201},{"$f":"'t CC I CV'!W108*'График CC I CV'!$B$4","v":4422},{"$f":"'t CC I CV'!X108*'График CC I CV'!$B$4","v":4643},{"$f":"'t CC I CV'!Y108*'График CC I CV'!$B$4","v":4864},{"$f":"'t CC I CV'!Z108*'График CC I CV'!$B$4","v":5085},{"$f":"'t CC I CV'!AA108*'График CC I CV'!$B$4","v":5306},{"$f":"'t CC I CV'!AB108*'График CC I CV'!$B$4","v":5528},{"$f":"'t CC I CV'!AC108*'График CC I CV'!$B$4","v":5749},{"$f":"'t CC I CV'!AD108*'График CC I CV'!$B$4","v":5970},{"$f":"'t CC I CV'!AE108*'График CC I CV'!$B$4","v":6191},{"$f":"'t CC I CV'!AF108*'График CC I CV'!$B$4","v":6412},{"$f":"'t CC I CV'!AG108*'График CC I CV'!$B$4","v":6633}]
[]
[null,null,22,"Classic C /                                             Classic CV(L)","боковое /                          нижнее","CC 22-6-XX /                                          CV(L) 22-6-XX",{"$f":"'t CC I CV'!G111*'График CC I CV'!$B$4","v":1154},{"$f":"'t CC I CV'!H111*'График CC I CV'!$B$4","v":1443},{"$f":"'t CC I CV'!I111*'График CC I CV'!$B$4","v":1731},{"$f":"'t CC I CV'!J111*'График CC I CV'!$B$4","v":2020},{"$f":"'t CC I CV'!K111*'График CC I CV'!$B$4","v":2308},{"$f":"'t CC I CV'!L111*'График CC I CV'!$B$4","v":2597},{"$f":"'t CC I CV'!M111*'График CC I CV'!$B$4","v":2885},{"$f":"'t CC I CV'!N111*'График CC I CV'!$B$4","v":3174},{"$f":"'t CC I CV'!O111*'График CC I CV'!$B$4","v":3462},{"$f":"'t CC I CV'!P111*'График CC I CV'!$B$4","v":3751},{"$f":"'t CC I CV'!Q111*'График CC I CV'!$B$4","v":4039},{"$f":"'t CC I CV'!R111*'График CC I CV'!$B$4","v":4328},{"$f":"'t CC I CV'!S111*'График CC I CV'!$B$4","v":4616},{"$f":"'t CC I CV'!T111*'График CC I CV'!$B$4","v":4905},{"$f":"'t CC I CV'!U111*'График CC I CV'!$B$4","v":5193},{"$f":"'t CC I CV'!V111*'График CC I CV'!$B$4","v":5482},{"$f":"'t CC I CV'!W111*'График CC I CV'!$B$4","v":5770},{"$f":"'t CC I CV'!X111*'График CC I CV'!$B$4","v":6059},{"$f":"'t CC I CV'!Y111*'График CC I CV'!$B$4","v":6347},{"$f":"'t CC I CV'!Z111*'График CC I CV'!$B$4","v":6636},{"$f":"'t CC I CV'!AA111*'График CC I CV'!$B$4","v":6924},{"$f":"'t CC I CV'!AB111*'График CC I CV'!$B$4","v":7213},{"$f":"'t CC I CV'!AC111*'График CC I CV'!$B$4","v":7501},{"$f":"'t CC I CV'!AD111*'График CC I CV'!$B$4","v":7790},{"$f":"'t CC I CV'!AE111*'График CC I CV'!$B$4","v":8078},{"$f":"'t CC I CV'!AF111*'График CC I CV'!$B$4","v":8367},{"$f":"'t CC I CV'!AG111*'График CC I CV'!$B$4","v":8655}]
[]
[null,null,30,"Classic CH /                                             Classic CV(L)H","боковое /                          нижнее","CCH 30-6-XX /                                          CV(L)H 30-6-XX",{"$f":"'t CC I CV'!G114*'График CC I CV'!$B$4","v":1094},{"$f":"'t CC I CV'!H114*'График CC I CV'!$B$4","v":1368},{"$f":"'t CC I CV'!I114*'График CC I CV'!$B$4","v":1642},{"$f":"'t CC I CV'!J114*'График CC I CV'!$B$4","v":1915},{"$f":"'t CC I CV'!K114*'График CC I CV'!$B$4","v":2189},{"$f":"'t CC I CV'!L114*'График CC I CV'!$B$4","v":2462},{"$f":"'t CC I CV'!M114*'График CC I CV'!$B$4","v":2736},{"$f":"'t CC I CV'!N114*'График CC I CV'!$B$4","v":3010},{"$f":"'t CC I CV'!O114*'График CC I CV'!$B$4","v":3283},{"$f":"'t CC I CV'!P114*'График CC I CV'!$B$4","v":3557},{"$f":"'t CC I CV'!Q114*'График CC I CV'!$B$4","v":3830},{"$f":"'t CC I CV'!R114*'График CC I CV'!$B$4","v":4104},{"$f":"'t CC I CV'!S114*'График CC I CV'!$B$4","v":4378},{"$f":"'t CC I CV'!T114*'График CC I CV'!$B$4","v":4651},{"$f":"'t CC I CV'!U114*'График CC I CV'!$B$4","v":4925},{"$f":"'t CC I CV'!V114*'График CC I CV'!$B$4","v":5198},{"$f":"'t CC I CV'!W114*'График CC I CV'!$B$4","v":5472},{"$f":"'t CC I CV'!X114*'График CC I CV'!$B$4","v":5746},{"$f":"'t CC I CV'!Y114*'График CC I CV'!$B$4","v":6019},{"$f":"'t CC I CV'!Z114*'График CC I CV'!$B$4","v":6293},{"$f":"'t CC I CV'!AA114*'График CC I CV'!$B$4","v":6566},{"$f":"'t CC I CV'!AB114*'График CC I CV'!$B$4","v":6840},{"$f":"'t CC I CV'!AC114*'График CC I CV'!$B$4","v":7114},{"$f":"'t CC I CV'!AD114*'График CC I CV'!$B$4","v":7387},{"$f":"'t CC I CV'!AE114*'График CC I CV'!$B$4","v":7661},{"$f":"'t CC I CV'!AF114*'График CC I CV'!$B$4","v":7934},{"$f":"'t CC I CV'!AG114*'График CC I CV'!$B$4","v":8208}]
[]
[null,null,33,"Classic C /                                             Classic CV(L)","боковое /                          нижнее","CC 33-6-XX /                                          CV(L) 33-6-XX",{"$f":"'t CC I CV'!G117*'График CC I CV'!$B$4","v":1599},{"$f":"'t CC I CV'!H117*'График CC I CV'!$B$4","v":1999},{"$f":"'t CC I CV'!I117*'График CC I CV'!$B$4","v":2398},{"$f":"'t CC I CV'!J117*'График CC I CV'!$B$4","v":2798},{"$f":"'t CC I CV'!K117*'График CC I CV'!$B$4","v":3198},{"$f":"'t CC I CV'!L117*'График CC I CV'!$B$4","v":3597},{"$f":"'t CC I CV'!M117*'График CC I CV'!$B$4","v":3997},{"$f":"'t CC I CV'!N117*'График CC I CV'!$B$4","v":4397},{"$f":"'t CC I CV'!O117*'График CC I CV'!$B$4","v":4796},{"$f":"'t CC I CV'!P117*'График CC I CV'!$B$4","v":5196},{"$f":"'t CC I CV'!Q117*'График CC I CV'!$B$4","v":5596},{"$f":"'t CC I CV'!R117*'График CC I CV'!$B$4","v":5996},{"$f":"'t CC I CV'!S117*'График CC I CV'!$B$4","v":6395},{"$f":"'t CC I CV'!T117*'График CC I CV'!$B$4","v":6795},{"$f":"'t CC I CV'!U117*'График CC I CV'!$B$4","v":7195},{"$f":"'t CC I CV'!V117*'График CC I CV'!$B$4","v":7594},{"$f":"'t CC I CV'!W117*'График CC I CV'!$B$4","v":7994},{"$f":"'t CC I CV'!X117*'График CC I CV'!$B$4","v":8394},{"$f":"'t CC I CV'!Y117*'График CC I CV'!$B$4","v":8793},{"$f":"'t CC I CV'!Z117*'График CC I CV'!$B$4","v":9193},{"$f":"'t CC I CV'!AA117*'График CC I CV'!$B$4","v":9593},{"$f":"'t CC I CV'!AB117*'График CC I CV'!$B$4","v":9993},{"$f":"'t CC I CV'!AC117*'График CC I CV'!$B$4","v":10392},{"$f":"'t CC I CV'!AD117*'График CC I CV'!$B$4","v":10792},{"$f":"'t CC I CV'!AE117*'График CC I CV'!$B$4","v":11192},{"$f":"'t CC I CV'!AF117*'График CC I CV'!$B$4","v":11591},{"$f":"'t CC I CV'!AG117*'График CC I CV'!$B$4","v":11991}]

{"sheet":"График CC I CV","index":1,"n_rows":4,"n_cols":4,"rows_kept":4,"cut":false,"hidden":true,"merged":[]}
[]
[]
[null,"kt",null,"n"]
[null,{"$f":"('CC I CV'!E4/70)^1.3","v":1},null,1.3]

{"sheet":"t CC I CV","index":2,"n_rows":118,"n_cols":33,"rows_kept":118,"cut":false,"hidden":true,"merged":[[13,2,15,2],[15,3,15,32],[16,2,18,2],[19,2,21,2],[21,3,21,32],[18,3,18,32],[2,5,3,5],[2,6,2,32],[32,2,34,2],[31,3,31,32],[2,2,3,2],[2,3,3,3],[2,4,3,4],[4,2,6,2],[6,3,6,32],[7,2,9,2],[9,3,9,32],[10,2,12,2],[12,3,12,32],[24,3,24,32],[27,0,49,0],[27,1,28,1],[27,2,28,2],[27,3,28,3],[27,4,28,4],[27,5,28,5],[27,6,27,32],[29,1,49,1],[29,2,31,2],[22,2,24,2],[34,3,34,32],[35,2,37,2],[37,3,37,32],[38,2,40,2],[40,3,40,32],[2,0,24,0],[2,1,3,1],[4,1,24,1],[44,2,46,2],[46,3,46,32],[41,2,43,2],[43,3,43,32],[54,1,74,1],[54,2,56,2],[47,2,49,2],[49,3,49,32],[52,3,53,3],[52,4,53,4],[52,5,53,5],[52,6,52,32],[57,2,59,2],[56,3,56,32],[59,3,59,32],[60,2,62,2],[62,3,62,32],[63,2,65,2],[66,2,68,2],[65,3,65,32],[68,3,68,32],[69,2,71,2],[71,3,71,32],[52,0,74,0],[52,1,53,1],[52,2,53,2],[77,5,78,5],[77,6,77,32],[77,1,78,1],[77,0,93,0],[79,1,93,1],[85,2,87,2],[84,3,84,32],[87,3,87,32],[82,2,84,2],[72,2,74,2],[81,3,81,32],[74,3,74,32],[79,2,81,2],[88,2,90,2],[91,2,93,2],[90,3,90,32],[93,3,93,32],[77,2,78,2],[77,3,78,3],[77,4,78,4],[96,0,118,0],[96,6,96,32],[98,1,118,1],[98,2,100,2],[100,3,100,32],[101,2,103,2],[103,3,103,32],[104,2,106,2],[106,3,106,32],[107,2,109,2],[109,3,109,32],[110,2,112,2],[112,3,112,32],[113,2,115,2],[115,3,115,32],[116,2,118,2],[118,3,118,32],[96,1,97,1],[96,2,97,2],[96,3,97,3],[96,4,97,4],[96,5,97,5]]}
[]
[]
["CC/CV","Высота (см)","Тип","Модель","Подключение","Артикул заказа","Длина, см"]
[null,null,null,null,null,null,40,50,60,70,80,90,100,110,120,130,140,150,160,170,180,190,200,210,220,230,240,250,260,270,280,290,300]
[null,30,10,"Classic C","боковое","CC 10-3-XX",226,282,339,395,452,508,565,621,678,734,791,847,904,960,1017,1073,1130,1186,1243,1299,1356,1412,1469,1525,1582,1638,1695]
[null,null,null,"Classic CV(L)","нижнее","CV(L) 10-3-XX"]
[]
[null,null,11,"Classic C","боковое","CC 10-3-XX",319,399,478,558,638,717,797,877,957,1036,1116,1196,1275,1355,1435,1515,1594,1674,1754,1833,1913,1993,2073,2152,2232,2312,2391]
[null,null,null,"Classic CV(L)","нижнее","CV(L) 10-3-XX"]
[]
[null,null,20,"Classic C","боковое","CC 10-3-XX",387,483,580,677,773,870,967,1063,1160,1257,1353,1450,1547,1643,1740,1837,1933,2030,2127,2223,2320,2416,2513,2610,2706,2803,2900]
[null,null,null,"Classic CV(L)","нижнее","CV(L) 10-3-XX"]
[]
[null,null,21,"Classic C","боковое","CC 10-3-XX",482,602,723,843,964,1084,1204,1325,1445,1566,1686,1807,1927,2047,2168,2288,2409,2529,2650,2770,2891,3011,3131,3252,3372,3493,3613]
[null,null,null,"Classic CV(L)","нижнее","CV(L) 10-3-XX"]
[]
[null,null,22,"Classic C","боковое","CC 10-3-XX",609,761,913,1065,1217,1369,1521,1674,1826,1978,2130,2282,2434,2586,2739,2891,3043,3195,3347,3499,3651,3803,3956,4108,4260,4412,4564]
[null,null,null,"Classic CV(L)","нижнее","CV(L) 10-3-XX"]
[]
[null,null,30,"Classic C","боковое","CC 10-3-XX",594,742,891,1039,1188,1336,1485,1633,1781,1930,2078,2227,2375,2524,2672,2821,2969,3118,3266,3414,3563,3711,3860,4008,4157,4305,4454]
[null,null,null,"Classic CV(L)","нижнее","CV(L) 10-3-XX"]
[]
[null,null,33,"Classic C","боковое","CC 10-3-XX",903,1129,1355,1580,1806,2032,2258,2483,2709,2935,3161,3386,3612,3838,4064,4289,4515,4741,4967,5192,5418,5644,5870,6095,6321,6547,6773]
[null,null,null,"Classic CV(L)","нижнее","CV(L) 10-3-XX"]
[]
[]
[]
["CC/CV","Высота (см)","Тип","Модель","Подключение","Артикул заказа","Длина, см"]
[null,null,null,null,null,null,40,50,60,70,80,90,100,110,120,130,140,150,160,170,180,190,200,210,220,230,240,250,260,270,280,290,300]
[null,40,10,"Classic C","боковое","CC 10-3-XX",272,339,407,475,543,611,679,747,815,883,950,1018,1086,1154,1222,1290,1358,1426,1493,1561,1629,1697,1765,1833,1901,1969,2037]
[null,null,null,"Classic CV(L)","нижнее","CV(L) 10-3-XX"]
[]
[null,null,11,"Classic C","боковое","CC 10-3-XX",395,494,592,691,790,889,987,1086,1185,1284,1382,1481,1580,1679,1777,1876,1975,2074,2172,2271,2370,2469,2567,2666,2765,2864,2962]
[null,null,null,"Classic CV(L)","нижнее","CV(L) 10-3-XX"]
[]
[null,null,20,"Classic C","боковое","CC 10-3-XX",473,591,709,827,946,1064,1182,1300,1418,1537,1655,1773,1891,2009,2128,2246,2364,2482,2600,2718,2837,2955,3073,3191,3309,3428,3546]
[null,null,null,"Classic CV(L)","нижнее","CV(L) 10-3-XX"]
[]
[null,null,21,"Classic C","боковое","CC 10-3-XX",592,740,888,1037,1185,1333,1481,1629,1777,1925,2073,2221,2369,2517,2665,2814,2962,3110,3258,3406,3554,3702,3850,3998,4146,4294,4442]
[null,null,null,"Classic CV(L)","нижнее","CV(L) 10-3-XX"]
[]
[null,null,22,"Classic C","боковое","CC 10-3-XX",755,944,1133,1322,1511,1700,1889,2078,2266,2455,2644,2833,3022,3211,3400,3588,3777,3966,4155,4344,4533,4722,4911,5099,5288,5477,5666]
[null,null,null,"Classic CV(L)","нижнее","CV(L) 10-3-XX"]
[]
[null,null,30,"Classic C","боковое","CC 10-3-XX",732,914,1097,1280,1463,1645,1829,2012,2196,2378,2560,2743,2926,3109,3292,3474,3658,3841,4022.9999999999995,4207,4388,4570,4755,4937,5120,5302,5486]
[null,null,null,"Classic CV(L)","нижнее","CV(L) 10-3-XX"]
[]
[null,null,33,"Classic C","боковое","CC 10-3-XX",1082,1352,1622,1893,2163,2434,2704,2975,3245,3515,3786,4056,4372,4597,4867,5138,5408,5679,5949,6219,6490,6760,7031,7301,7572,7842,8112]
[null,null,null,"Classic CV(L)","нижнее","CV(L) 10-3-XX"]
[]
[]
[]
["CC/CV","Высота (см)","Тип","Модель","Подключение","Артикул заказа","Длина, см"]
[null,null,null,null,null,null,40,50,60,70,80,90,100,110,120,130,140,150,160,170,180,190,200,210,220,230,240,250,260,270,280,290,300]
[null,50,10,"Classic C","боковое","CC 10-3-XX",350,437,524,612,699,786,874,961,1049,1136,1223,1311,1398,1485,1573,1660,1748,1835,1922,2010,2097,2185,2272,2359,2447,2534,2621]
[null,null,null,"Classic CV(L)","нижнее","CV(L) 10-3-XX"]
[]
[null,null,11,"Classic C","боковое","CC 10-3-XX",517,646,776,905,1034,1164,1293,1422,1551,1681,1810,1939,2068,2198,2327,2456,2586,2715,2844,2973,3102,3232,3361,3491,3620,3749,3878]
[null,null,null,"Classic CV(L)","нижнее","CV(L) 10-3-XX"]
[]
[null,null,20,"Classic C","боковое","CC 10-3-XX",578,723,867,1012,1156,1301,1445,1590,1734,1879,2023,2168,2312,2457,2602,2746,2891,3035,3180,3324,3469,3613,3758,3902,4047,4191,4336]
[null,null,null,"Classic CV(L)","нижнее","CV(L) 10-3-XX"]
[]
[null,null,21,"Classic C","боковое","CC 10-3-XX",738,923,1107,1292,1476,1661,1845,2030,2214,2399,2583,2768,2952,3137,3321,3506,3690,3875,4059,4244,4428,4613,4797,4982,5166,5351,5535]
[null,null,null,"Classic CV(L)","нижнее","CV(L) 10-3-XX"]
[]
[null,null,22,"Classic C","боковое","CC 10-3-XX",961,1202,1442,1683,1923,2163,2404,2644,2884,3125,3365,3605,3846,4086,4327,4567,4807,5048,5288,5528,5769,6009,6249,6490,6730,6971,7211]
[null,null,null,"Classic CV(L)","нижнее","CV(L) 10-3-XX"]
[]
[null,null,30,"Classic C","боковое","CC 10-3-XX",938,1172,1407,1641,1876,2110,2345,2579,2814,3048,3283,3517,3752,3986,4220,4455,4689,4924,5158,5393,5627,5862,6096,6331,6565,6800,7034]
[null,null,null,"Classic CV(L)","нижнее","CV(L) 10-3-XX"]
[]
[null,null,33,"Classic C","боковое","CC 10-3-XX",1327,1659,1991,2323,2655,2987,3318,3650,3982,4314,4646,4978,5310,5641,5973,6305,6637,6969,7301,7632,7964,8296,8628,8960,9292,9623,9955]
[null,null,null,"Classic CV(L)","нижнее","CV(L) 10-3-XX"]
[]
[]
[]
["CC/CV","Высота (см)","Тип","Модель","Подключение","Артикул заказа","Длина, см"]
[null,null,null,null,null,null,40,50,60,70,80,90,100,110,120,130,140,150,160,170,180,190,200,210,220,230,240,250,260,270,280,290,300]
[null,20,20,"Classic C","боковое","CC 10-3-XX",269,336,404,471,538,605,673,740,807,874,942,1008.9999999999999,1076,1143,1211,1278,1345,1412,1480,1547,1614,1681,1749,1816,1883,1950,2017.9999999999998]
[null,null,null,"Classic CV(L)","нижнее","CV(L) 10-3-XX"]
[]
[null,null,21,"Classic C","боковое","CC 10-3-XX",319,399,479,559,639,719,798,878,958,1038,1118,1198,1277,1357,1437,1517,1597,1677,1757,1836,1916,1996,2076,2156,2236,2315,2395]
[null,null,null,"Classic CV(L)","нижнее","CV(L) 10-3-XX"]
[]
[null,null,22,"Classic C","боковое","CC 10-3-XX",437,531,624,719,813,908,1002,1098,1192,1286,1386,1476,1571,1665,1760,1857,1954,2053,2150,2248,2346,2441,2539,2639,2736,2835,2929]
[null,null,null,"Classic CV(L)","нижнее","CV(L) 10-3-XX"]
[]
[null,null,30,"Classic C","боковое","CC 10-3-XX",426,532,639,745,852,958,1064,1171,1277,1383,1490,1596,1703,1809,1916,2021.9999999999998,2129,2235,2342,2448,2555,2661,2767,2874,2980,3087,3193]
[null,null,null,"Classic CV(L)","нижнее","CV(L) 10-3-XX"]
[]
[null,null,33,"Classic C","боковое","CC 10-3-XX",581,726,871,1016.9999999999999,1162,1307,1453,1598,1743,1889,2033.9999999999998,2179,2324,2470,2615,2760,2905,3050,3195,3341,3486,3631,3777,3922,4067,4242,4358]
[null,null,null,"Classic CV(L)","нижнее","CV(L) 10-3-XX"]
[]
[]
[]
["CC/CV","Высота (см)","Тип","Модель","Подключение","Артикул заказа","Длина, см"]
[null,null,null,null,null,null,40,50,60,70,80,90,100,110,120,130,140,150,160,170,180,190,200,210,220,230,240,250,260,270,280,290,300]
[null,60,10,"Classic C","боковое","CC 10-3-XX",418,523,628,732,837,941,1046,1151,1255,1360,1464,1569,1674,1778,1883,1987,2092,2197,2301,2406,2510,2615,2720,2824,2929,3033,3138]
[null,null,null,"Classic CV(L)","нижнее","CV(L) 10-3-XX"]
[]
[null,null,11,"Classic C","боковое","CC 10-3-XX",602,753,904,1054,1205,1355,1506,1657,1807,1958,2108,2259,2410,2560,2711,2861,3012,3163,3313,3464,3614,3765,3916,4066,4217,4367,4518]
[null,null,null,"Classic CV(L)","нижнее","CV(L) 10-3-XX"]
[]
[null,null,20,"Classic C","боковое","CC 10-3-XX",681,851,1021,1191,1362,1532,1702,1872,2042,2213,2383,2553,2723,2893,3064,3234,3404,3574,3744,3915,4085,4255,4425,4595,4766,4936,5106]
[null,null,null,"Classic CV(L)","нижнее","CV(L) 10-3-XX"]
[]
[null,null,21,"Classic C","боковое","CC 10-3-XX",884,1106,1327,1548,1769,1990,2211,2432,2653,2874,3095,3317,3538,3759,3980,4201,4422,4643,4864,5085,5306,5528,5749,5970,6191,6412,6633]
[null,null,null,"Classic CV(L)","нижнее","CV(L) 10-3-XX"]
[]
[null,null,22,"Classic C","боковое","CC 10-3-XX",1154,1443,1731,2020,2308,2597,2885,3174,3462,3751,4039,4328,4616,4905,5193,5482,5770,6059,6347,6636,6924,7213,7501,7790,8078,8367,8655]
[null,null,null,"Classic CV(L)","нижнее","CV(L) 10-3-XX"]
[]
[null,null,30,"Classic C","боковое","CC 10-3-XX",1094,1368,1642,1915,2189,2462,2736,3010,3283,3557,3830,4104,4378,4651,4925,5198,5472,5746,6019,6293,6566,6840,7114,7387,7661,7934,8208]
[null,null,null,"Classic CV(L)","нижнее","CV(L) 10-3-XX"]
[]
[null,null,33,"Classic C","боковое","CC 10-3-XX",1599,1999,2398,2798,3198,3597,3997,4397,4796,5196,5596,5996,6395,6795,7195,7594,7994,8394,8793,9193,9593,9993,10392,10792,11192,11591,11991]
[null,null,null,"Classic CV(L)","нижнее","CV(L) 10-3-XX"]