{"text_format":"1","workbook":"xlsx","n_sheets":6,"sheets":["AL I BM боковое","BM нижнее","График AL I BM боковое","График BM нижнее","t AL I BM боковое","t BM нижнее"],"not_rendered":{"charts":0,"images":0,"macros":1,"external_links":0,"defined_names":0,"comments":4,"pivot_tables":0},"unopened":[],"bounds":{"document_bytes":16777216,"sheet_cells":100000,"rows_first":2000,"rows_last":500,"rows_between":2000,"halvings":0,"cell_chars":16384,"cell_head_chars":4096},"cells_cut":0,"cells_raw":0,"read":"whole","date_system":"1900"}

{"sheet":"AL I BM боковое","index":0,"n_rows":119,"n_cols":23,"rows_kept":119,"cut":false,"hidden":false,"merged":[[1,0,2,22],[4,5,4,9],[5,5,5,6],[5,7,5,9],[6,5,6,6],[6,7,6,9],[7,5,7,6],[7,7,7,9],[8,5,8,6],[8,7,8,9],[9,5,9,6],[9,7,9,9],[10,5,10,6],[10,7,10,9],[11,5,11,6],[11,7,11,9],[15,7,15,9],[17,5,17,9],[19,5,19,7],[19,8,19,13],[21,5,23,6],[21,7,22,7],[21,8,21,12],[28,0,33,2],[28,6,33,13],[36,0,40,0],[36,1,37,1],[36,2,37,2],[36,3,37,3],[36,4,37,4],[36,5,37,5],[38,1,38,5],[43,0,53,0],[43,1,44,1],[43,2,44,2],[43,3,44,3],[43,4,44,4],[43,5,44,5],[45,1,45,5],[48,1,48,5],[51,1,51,5],[56,0,69,0],[56,1,57,1],[56,2,57,2],[56,3,57,3],[56,4,57,4],[56,5,57,5],[58,1,58,5],[61,1,61,5],[64,1,64,5],[67,1,67,5],[72,0,82,0],[72,1,73,1],[72,2,73,2],[72,3,73,3],[72,4,73,4],[72,5,73,5],[74,1,74,5],[77,1,77,5],[80,1,80,5],[85,0,103,0],[85,1,94,1],[85,2,94,2],[85,3,94,3],[85,4,94,4],[85,5,94,5],[95,1,95,5],[98,1,98,5],[101,1,101,5],[106,0,119,0],[106,1,107,1],[106,2,107,2],[106,3,107,3],[106,4,107,4],[106,5,107,5],[108,1,108,5],[111,1,111,5],[114,1,114,5],[117,1,117,5]]}
[]
["Секционные радиаторы SPL ALHeat / ALEco / ALPro / BMHeat / BMEco / BMPro с боковым подключением"]
[]
[]
[]
[]
[]
[]
[]
[]
[]
[]
[]
[]
[]
[]
[]
[]
[]
[]
[]
[]
[]
[]
[]
[]
[]
[]
["SPL AL / BM",null,null,"Длина, мм","Высота, мм","Глубина секции, мм","ПРИМЕЧАНИЕ"]
[null,null,null,800,403,78.5]
[null,null,null,"Необходимая мощность, Вт","∆t","LMTD"]
[null,null,null,1500,{"$f":"(D34+E34)/2-F34","v":70},{"$f":"(D34-E34)/LN((D34-F34)/(E34-F34))","v":68.9151266183722}]
[null,null,null,"tвх","tвых","tвн"]
[null,null,null,105,75,20]
[]
[]
["ALHeat","Высота (мм)","Глубина секции","Модель","Подключение","Артикул заказа",null,null,null,null,null,null,null,null,"Количество секций, шт"]
[null,null,null,null,null,null,4,5,6,7,8,9,10,11,12,13,14,15,16,17,18,19,20]
[null,"Длина, мм",null,null,null,null,{"$f":"G38*$C$40","v":360},{"$f":"H38*$C$40","v":450},{"$f":"I38*$C$40","v":540},{"$f":"J38*$C$40","v":630},{"$f":"K38*$C$40","v":720},{"$f":"L38*$C$40","v":810},{"$f":"M38*$C$40","v":900},{"$f":"N38*$C$40","v":990},{"$f":"O38*$C$40","v":1080},{"$f":"P38*$C$40","v":1170},{"$f":"Q38*$C$40","v":1260},{"$f":"R38*$C$40","v":1350},{"$f":"S38*$C$40","v":1440},{"$f":"T38*$C$40","v":1530},{"$f":"U38*$C$40","v":1620},{"$f":"V38*$C$40","v":1710},{"$f":"W38*$C$40","v":1800}]
[null,575,90,"ALHeat500.90","боковое ","ALHeat500.90/X",{"$f":"'t AL I BM боковое'!G39*'График AL I BM боковое'!$B$4","v":724},{"$f":"'t AL I BM боковое'!H39*'График AL I BM боковое'!$B$4","v":905},{"$f":"'t AL I BM боковое'!I39*'График AL I BM боковое'!$B$4","v":1086},{"$f":"'t AL I BM боковое'!J39*'График AL I BM боковое'!$B$4","v":1267},{"$f":"'t AL I BM боковое'!K39*'График AL I BM боковое'!$B$4","v":1448},{"$f":"'t AL I BM боковое'!L39*'График AL I BM боковое'!$B$4","v":1629},{"$f":"'t AL I BM боковое'!M39*'График AL I BM боковое'!$B$4","v":1810},{"$f":"'t AL I BM боковое'!N39*'График AL I BM боковое'!$B$4","v":1991},{"$f":"'t AL I BM боковое'!O39*'График AL I BM боковое'!$B$4","v":2172},{"$f":"'t AL I BM боковое'!P39*'График AL I BM боковое'!$B$4","v":2353},{"$f":"'t AL I BM боковое'!Q39*'График AL I BM боковое'!$B$4","v":2534},{"$f":"'t AL I BM боковое'!R39*'График AL I BM боковое'!$B$4","v":2715},{"$f":"'t AL I BM боковое'!S39*'График AL I BM боковое'!$B$4","v":2896},{"$f":"'t AL I BM боковое'!T39*'График AL I BM боковое'!$B$4","v":3077},{"$f":"'t AL I BM боковое'!U39*'График AL I BM боковое'!$B$4","v":3258},{"$f":"'t AL I BM боковое'!V39*'График AL I BM боковое'!$B$4","v":3439},{"$f":"'t AL I BM боковое'!W39*'График AL I BM боковое'!$B$4","v":3620}]
[]
[]
[]
["ALEco","Высота (мм)","Глубина секции","Модель","Подключение","Артикул заказа",null,null,null,null,null,null,null,null,"Количество секций, шт"]
[null,null,null,null,null,null,4,5,6,7,8,9,10,11,12,13,14,15,16,17,18,19,20]
[null,"Длина, мм",null,null,null,null,{"$f":"G45*$C$47","v":312},{"$f":"H45*$C$47","v":390},{"$f":"I45*$C$47","v":468},{"$f":"J45*$C$47","v":546},{"$f":"K45*$C$47","v":624},{"$f":"L45*$C$47","v":702},{"$f":"M45*$C$47","v":780},{"$f":"N45*$C$47","v":858},{"$f":"O45*$C$47","v":936},{"$f":"P45*$C$47","v":1014},{"$f":"Q45*$C$47","v":1092},{"$f":"R45*$C$47","v":1170},{"$f":"S45*$C$47","v":1248},{"$f":"T45*$C$47","v":1326},{"$f":"U45*$C$47","v":1404},{"$f":"V45*$C$47","v":1482},{"$f":"W45*$C$47","v":1560}]
[null,427,78,"ALEco350.80","боковое ","ALEco350.80/X",{"$f":"'t AL I BM боковое'!G45*'График AL I BM боковое'!$B$4","v":440},{"$f":"'t AL I BM боковое'!H45*'График AL I BM боковое'!$B$4","v":550},{"$f":"'t AL I BM боковое'!I45*'График AL I BM боковое'!$B$4","v":660},{"$f":"'t AL I BM боковое'!J45*'График AL I BM боковое'!$B$4","v":770},{"$f":"'t AL I BM боковое'!K45*'График AL I BM боковое'!$B$4","v":880},{"$f":"'t AL I BM боковое'!L45*'График AL I BM боковое'!$B$4","v":990},{"$f":"'t AL I BM боковое'!M45*'График AL I BM боковое'!$B$4","v":1100},{"$f":"'t AL I BM боковое'!N45*'График AL I BM боковое'!$B$4","v":1210},{"$f":"'t AL I BM боковое'!O45*'График AL I BM боковое'!$B$4","v":1320},{"$f":"'t AL I BM боковое'!P45*'График AL I BM боковое'!$B$4","v":1430},{"$f":"'t AL I BM боковое'!Q45*'График AL I BM боковое'!$B$4","v":1540},{"$f":"'t AL I BM боковое'!R45*'График AL I BM боковое'!$B$4","v":1650},{"$f":"'t AL I BM боковое'!S45*'График AL I BM боковое'!$B$4","v":1760},{"$f":"'t AL I BM боковое'!T45*'График AL I BM боковое'!$B$4","v":1870},{"$f":"'t AL I BM боковое'!U45*'График AL I BM боковое'!$B$4","v":1980},{"$f":"'t AL I BM боковое'!V45*'График AL I BM боковое'!$B$4","v":2090},{"$f":"'t AL I BM боковое'!W45*'График AL I BM боковое'!$B$4","v":2200}]
[]
[null,"Длина, мм",null,null,null,null,{"$f":"G45*$C$50","v":320},{"$f":"H45*$C$50","v":400},{"$f":"I45*$C$50","v":480},{"$f":"J45*$C$50","v":560},{"$f":"K45*$C$50","v":640},{"$f":"L45*$C$50","v":720},{"$f":"M45*$C$50","v":800},{"$f":"N45*$C$50","v":880},{"$f":"O45*$C$50","v":960},{"$f":"P45*$C$50","v":1040},{"$f":"Q45*$C$50","v":1120},{"$f":"R45*$C$50","v":1200},{"$f":"S45*$C$50","v":1280},{"$f":"T45*$C$50","v":1360},{"$f":"U45*$C$50","v":1440},{"$f":"V45*$C$50","v":1520},{"$f":"W45*$C$50","v":1600}]
[null,576,80,"ALEco500.80","боковое ","ALEco500.80/X",{"$f":"'t AL I BM боковое'!G47*'График AL I BM боковое'!$B$4","v":604},{"$f":"'t AL I BM боковое'!H47*'График AL I BM боковое'!$B$4","v":755},{"$f":"'t AL I BM боковое'!I47*'График AL I BM боковое'!$B$4","v":906},{"$f":"'t AL I BM боковое'!J47*'График AL I BM боковое'!$B$4","v":1057},{"$f":"'t AL I BM боковое'!K47*'График AL I BM боковое'!$B$4","v":1208},{"$f":"'t AL I BM боковое'!L47*'График AL I BM боковое'!$B$4","v":1359},{"$f":"'t AL I BM боковое'!M47*'График AL I BM боковое'!$B$4","v":1510},{"$f":"'t AL I BM боковое'!N47*'График AL I BM боковое'!$B$4","v":1661},{"$f":"'t AL I BM боковое'!O47*'График AL I BM боковое'!$B$4","v":1812},{"$f":"'t AL I BM боковое'!P47*'График AL I BM боковое'!$B$4","v":1963},{"$f":"'t AL I BM боковое'!Q47*'График AL I BM боковое'!$B$4","v":2114},{"$f":"'t AL I BM боковое'!R47*'График AL I BM боковое'!$B$4","v":2265},{"$f":"'t AL I BM боковое'!S47*'График AL I BM боковое'!$B$4","v":2416},{"$f":"'t AL I BM боковое'!T47*'График AL I BM боковое'!$B$4","v":2567},{"$f":"'t AL I BM боковое'!U47*'График AL I BM боковое'!$B$4","v":2718},{"$f":"'t AL I BM боковое'!V47*'График AL I BM боковое'!$B$4","v":2869},{"$f":"'t AL I BM боковое'!W47*'График AL I BM боковое'!$B$4","v":3020}]
[]
[null,"Длина, мм",null,null,null,null,{"$f":"G45*$C$53","v":388},{"$f":"H45*$C$53","v":485},{"$f":"I45*$C$53","v":582},{"$f":"J45*$C$53","v":679},{"$f":"K45*$C$53","v":776},{"$f":"L45*$C$53","v":873},{"$f":"M45*$C$53","v":970},{"$f":"N45*$C$53","v":1067},{"$f":"O45*$C$53","v":1164},{"$f":"P45*$C$53","v":1261},{"$f":"Q45*$C$53","v":1358},{"$f":"R45*$C$53","v":1455},{"$f":"S45*$C$53","v":1552},{"$f":"T45*$C$53","v":1649},{"$f":"U45*$C$53","v":1746},{"$f":"V45*$C$53","v":1843},{"$f":"W45*$C$53","v":1940}]
[null,576,97,"ALEco500.96","боковое ","ALEco500.96/X",{"$f":"'t AL I BM боковое'!G49*'График AL I BM боковое'!$B$4","v":628},{"$f":"'t AL I BM боковое'!H49*'График AL I BM боковое'!$B$4","v":785},{"$f":"'t AL I BM боковое'!I49*'График AL I BM боковое'!$B$4","v":942},{"$f":"'t AL I BM боковое'!J49*'График AL I BM боковое'!$B$4","v":1099},{"$f":"'t AL I BM боковое'!K49*'График AL I BM боковое'!$B$4","v":1256},{"$f":"'t AL I BM боковое'!L49*'График AL I BM боковое'!$B$4","v":1413},{"$f":"'t AL I BM боковое'!M49*'График AL I BM боковое'!$B$4","v":1570},{"$f":"'t AL I BM боковое'!N49*'График AL I BM боковое'!$B$4","v":1727},{"$f":"'t AL I BM боковое'!O49*'График AL I BM боковое'!$B$4","v":1884},{"$f":"'t AL I BM боковое'!P49*'График AL I BM боковое'!$B$4","v":2041},{"$f":"'t AL I BM боковое'!Q49*'График AL I BM боковое'!$B$4","v":2198},{"$f":"'t AL I BM боковое'!R49*'График AL I BM боковое'!$B$4","v":2355},{"$f":"'t AL I BM боковое'!S49*'График AL I BM боковое'!$B$4","v":2512},{"$f":"'t AL I BM боковое'!T49*'График AL I BM боковое'!$B$4","v":2669},{"$f":"'t AL I BM боковое'!U49*'График AL I BM боковое'!$B$4","v":2826},{"$f":"'t AL I BM боковое'!V49*'График AL I BM боковое'!$B$4","v":2983},{"$f":"'t AL I BM боковое'!W49*'График AL I BM боковое'!$B$4","v":3140}]
[]
[]
[]
["ALPro","Высота (мм)","Глубина секции","Модель","Подключение","Артикул заказа",null,null,null,null,null,null,null,null,"Количество секций, шт"]
[null,null,null,null,null,null,4,5,6,7,8,9,10,11,12,13,14,15,16,17,18,19,20]
[null,"Длина, мм",null,null,null,null,{"$f":"G58*$C$60","v":384},{"$f":"H58*$C$60","v":480},{"$f":"I58*$C$60","v":576},{"$f":"J58*$C$60","v":672},{"$f":"K58*$C$60","v":768},{"$f":"L58*$C$60","v":864},{"$f":"M58*$C$60","v":960},{"$f":"N58*$C$60","v":1056},{"$f":"O58*$C$60","v":1152},{"$f":"P58*$C$60","v":1248},{"$f":"Q58*$C$60","v":1344},{"$f":"R58*$C$60","v":1440},{"$f":"S58*$C$60","v":1536},{"$f":"T58*$C$60","v":1632},{"$f":"U58*$C$60","v":1728},{"$f":"V58*$C$60","v":1824},{"$f":"W58*$C$60","v":1920}]
[null,282,96,"ALPro200.96","боковое ","ALPro200.96/X",{"$f":"'t AL I BM боковое'!G55*'График AL I BM боковое'!$B$4","v":360},{"$f":"'t AL I BM боковое'!H55*'График AL I BM боковое'!$B$4","v":450},{"$f":"'t AL I BM боковое'!I55*'График AL I BM боковое'!$B$4","v":540},{"$f":"'t AL I BM боковое'!J55*'График AL I BM боковое'!$B$4","v":630},{"$f":"'t AL I BM боковое'!K55*'График AL I BM боковое'!$B$4","v":720},{"$f":"'t AL I BM боковое'!L55*'График AL I BM боковое'!$B$4","v":810},{"$f":"'t AL I BM боковое'!M55*'График AL I BM боковое'!$B$4","v":900},{"$f":"'t AL I BM боковое'!N55*'График AL I BM боковое'!$B$4","v":990},{"$f":"'t AL I BM боковое'!O55*'График AL I BM боковое'!$B$4","v":1080},{"$f":"'t AL I BM боковое'!P55*'График AL I BM боковое'!$B$4","v":1170},{"$f":"'t AL I BM боковое'!Q55*'График AL I BM боковое'!$B$4","v":1260},{"$f":"'t AL I BM боковое'!R55*'График AL I BM боковое'!$B$4","v":1350},{"$f":"'t AL I BM боковое'!S55*'График AL I BM боковое'!$B$4","v":1440},{"$f":"'t AL I BM боковое'!T55*'График AL I BM боковое'!$B$4","v":1530},{"$f":"'t AL I BM боковое'!U55*'График AL I BM боковое'!$B$4","v":1620},{"$f":"'t AL I BM боковое'!V55*'График AL I BM боковое'!$B$4","v":1710},{"$f":"'t AL I BM боковое'!W55*'График AL I BM боковое'!$B$4","v":1800}]
[]
[null,"Длина, мм",null,null,null,null,{"$f":"G58*$C$63","v":320},{"$f":"H58*$C$63","v":400},{"$f":"I58*$C$63","v":480},{"$f":"J58*$C$63","v":560},{"$f":"K58*$C$63","v":640},{"$f":"L58*$C$63","v":720},{"$f":"M58*$C$63","v":800},{"$f":"N58*$C$63","v":880},{"$f":"O58*$C$63","v":960},{"$f":"P58*$C$63","v":1040},{"$f":"Q58*$C$63","v":1120},{"$f":"R58*$C$63","v":1200},{"$f":"S58*$C$63","v":1280},{"$f":"T58*$C$63","v":1360},{"$f":"U58*$C$63","v":1440},{"$f":"V58*$C$63","v":1520},{"$f":"W58*$C$63","v":1600}]
[null,420,80,"ALPro350.80","боковое ","ALPro350.80/X",{"$f":"'t AL I BM боковое'!G57*'График AL I BM боковое'!$B$4","v":476},{"$f":"'t AL I BM боковое'!H57*'График AL I BM боковое'!$B$4","v":595},{"$f":"'t AL I BM боковое'!I57*'График AL I BM боковое'!$B$4","v":714},{"$f":"'t AL I BM боковое'!J57*'График AL I BM боковое'!$B$4","v":833},{"$f":"'t AL I BM боковое'!K57*'График AL I BM боковое'!$B$4","v":952},{"$f":"'t AL I BM боковое'!L57*'График AL I BM боковое'!$B$4","v":1071},{"$f":"'t AL I BM боковое'!M57*'График AL I BM боковое'!$B$4","v":1190},{"$f":"'t AL I BM боковое'!N57*'График AL I BM боковое'!$B$4","v":1309},{"$f":"'t AL I BM боковое'!O57*'График AL I BM боковое'!$B$4","v":1428},{"$f":"'t AL I BM боковое'!P57*'График AL I BM боковое'!$B$4","v":1547},{"$f":"'t AL I BM боковое'!Q57*'График AL I BM боковое'!$B$4","v":1666},{"$f":"'t AL I BM боковое'!R57*'График AL I BM боковое'!$B$4","v":1785},{"$f":"'t AL I BM боковое'!S57*'График AL I BM боковое'!$B$4","v":1904},{"$f":"'t AL I BM боковое'!T57*'График AL I BM боковое'!$B$4","v":2023},{"$f":"'t AL I BM боковое'!U57*'График AL I BM боковое'!$B$4","v":2142},{"$f":"'t AL I BM боковое'!V57*'График AL I BM боковое'!$B$4","v":2261},{"$f":"'t AL I BM боковое'!W57*'График AL I BM боковое'!$B$4","v":2380}]
[]
[null,"Длина, мм",null,null,null,null,{"$f":"G58*$C$66","v":320},{"$f":"H58*$C$66","v":400},{"$f":"I58*$C$66","v":480},{"$f":"J58*$C$66","v":560},{"$f":"K58*$C$66","v":640},{"$f":"L58*$C$66","v":720},{"$f":"M58*$C$66","v":800},{"$f":"N58*$C$66","v":880},{"$f":"O58*$C$66","v":960},{"$f":"P58*$C$66","v":1040},{"$f":"Q58*$C$66","v":1120},{"$f":"R58*$C$66","v":1200},{"$f":"S58*$C$66","v":1280},{"$f":"T58*$C$66","v":1360},{"$f":"U58*$C$66","v":1440},{"$f":"V58*$C$66","v":1520},{"$f":"W58*$C$66","v":1600}]
[null,568,80,"ALPro500.80","боковое ","ALPro500.80/X",{"$f":"'t AL I BM боковое'!G59*'График AL I BM боковое'!$B$4","v":672},{"$f":"'t AL I BM боковое'!H59*'График AL I BM боковое'!$B$4","v":840},{"$f":"'t AL I BM боковое'!I59*'График AL I BM боковое'!$B$4","v":1008},{"$f":"'t AL I BM боковое'!J59*'График AL I BM боковое'!$B$4","v":1176},{"$f":"'t AL I BM боковое'!K59*'График AL I BM боковое'!$B$4","v":1344},{"$f":"'t AL I BM боковое'!L59*'График AL I BM боковое'!$B$4","v":1512},{"$f":"'t AL I BM боковое'!M59*'График AL I BM боковое'!$B$4","v":1680},{"$f":"'t AL I BM боковое'!N59*'График AL I BM боковое'!$B$4","v":1848},{"$f":"'t AL I BM боковое'!O59*'График AL I BM боковое'!$B$4","v":2016},{"$f":"'t AL I BM боковое'!P59*'График AL I BM боковое'!$B$4","v":2184},{"$f":"'t AL I BM боковое'!Q59*'График AL I BM боковое'!$B$4","v":2352},{"$f":"'t AL I BM боковое'!R59*'График AL I BM боковое'!$B$4","v":2520},{"$f":"'t AL I BM боковое'!S59*'График AL I BM боковое'!$B$4","v":2688},{"$f":"'t AL I BM боковое'!T59*'График AL I BM боковое'!$B$4","v":2856},{"$f":"'t AL I BM боковое'!U59*'График AL I BM боковое'!$B$4","v":3024},{"$f":"'t AL I BM боковое'!V59*'График AL I BM боковое'!$B$4","v":3192},{"$f":"'t AL I BM боковое'!W59*'График AL I BM боковое'!$B$4","v":3360}]
[]
[null,"Длина, мм",null,null,null,null,{"$f":"G58*$C$69","v":384},{"$f":"H58*$C$69","v":480},{"$f":"I58*$C$69","v":576},{"$f":"J58*$C$69","v":672},{"$f":"K58*$C$69","v":768},{"$f":"L58*$C$69","v":864},{"$f":"M58*$C$69","v":960},{"$f":"N58*$C$69","v":1056},{"$f":"O58*$C$69","v":1152},{"$f":"P58*$C$69","v":1248},{"$f":"Q58*$C$69","v":1344},{"$f":"R58*$C$69","v":1440},{"$f":"S58*$C$69","v":1536},{"$f":"T58*$C$69","v":1632},{"$f":"U58*$C$69","v":1728},{"$f":"V58*$C$69","v":1824},{"$f":"W58*$C$69","v":1920}]
[null,580,96,"ALPro500.96","боковое ","ALPro500.96/X",{"$f":"'t AL I BM боковое'!G61*'График AL I BM боковое'!$B$4","v":692},{"$f":"'t AL I BM боковое'!H61*'График AL I BM боковое'!$B$4","v":865},{"$f":"'t AL I BM боковое'!I61*'График AL I BM боковое'!$B$4","v":1038},{"$f":"'t AL I BM боковое'!J61*'График AL I BM боковое'!$B$4","v":1211},{"$f":"'t AL I BM боковое'!K61*'График AL I BM боковое'!$B$4","v":1384},{"$f":"'t AL I BM боковое'!L61*'График AL I BM боковое'!$B$4","v":1557},{"$f":"'t AL I BM боковое'!M61*'График AL I BM боковое'!$B$4","v":1730},{"$f":"'t AL I BM боковое'!N61*'График AL I BM боковое'!$B$4","v":1903},{"$f":"'t AL I BM боковое'!O61*'График AL I BM боковое'!$B$4","v":2076},{"$f":"'t AL I BM боковое'!P61*'График AL I BM боковое'!$B$4","v":2249},{"$f":"'t AL I BM боковое'!Q61*'График AL I BM боковое'!$B$4","v":2422},{"$f":"'t AL I BM боковое'!R61*'График AL I BM боковое'!$B$4","v":2595},{"$f":"'t AL I BM боковое'!S61*'График AL I BM боковое'!$B$4","v":2768},{"$f":"'t AL I BM боковое'!T61*'График AL I BM боковое'!$B$4","v":2941},{"$f":"'t AL I BM боковое'!U61*'График AL I BM боковое'!$B$4","v":3114},{"$f":"'t AL I BM боковое'!V61*'График AL I BM боковое'!$B$4","v":3287},{"$f":"'t AL I BM боковое'!W61*'График AL I BM боковое'!$B$4","v":3460}]
[]
[]
[]
["BMHeat","Высота (мм)","Глубина секции","Модель","Подключение","Артикул заказа",null,null,null,null,null,null,null,null,"Количество секций, шт"]
[null,null,null,null,null,null,4,5,6,7,8,9,10,11,12,13,14,15,16,17,18,19,20]
[null,"Длина, мм",null,null,null,null,{"$f":"G74*$C$76","v":356},{"$f":"H74*$C$76","v":445},{"$f":"I74*$C$76","v":534},{"$f":"J74*$C$76","v":623},{"$f":"K74*$C$76","v":712},{"$f":"L74*$C$76","v":801},{"$f":"M74*$C$76","v":890},{"$f":"N74*$C$76","v":979},{"$f":"O74*$C$76","v":1068},{"$f":"P74*$C$76","v":1157},{"$f":"Q74*$C$76","v":1246},{"$f":"R74*$C$76","v":1335},{"$f":"S74*$C$76","v":1424},{"$f":"T74*$C$76","v":1513},{"$f":"U74*$C$76","v":1602},{"$f":"V74*$C$76","v":1691},{"$f":"W74*$C$76","v":1780}]
[null,415,89,"BMHeat350.90","боковое ","BMHeat350.90/X",{"$f":"'t AL I BM боковое'!G69*'График AL I BM боковое'!$B$4","v":532},{"$f":"'t AL I BM боковое'!H69*'График AL I BM боковое'!$B$4","v":665},{"$f":"'t AL I BM боковое'!I69*'График AL I BM боковое'!$B$4","v":798},{"$f":"'t AL I BM боковое'!J69*'График AL I BM боковое'!$B$4","v":931},{"$f":"'t AL I BM боковое'!K69*'График AL I BM боковое'!$B$4","v":1064},{"$f":"'t AL I BM боковое'!L69*'График AL I BM боковое'!$B$4","v":1197},{"$f":"'t AL I BM боковое'!M69*'График AL I BM боковое'!$B$4","v":1330},{"$f":"'t AL I BM боковое'!N69*'График AL I BM боковое'!$B$4","v":1463},{"$f":"'t AL I BM боковое'!O69*'График AL I BM боковое'!$B$4","v":1596},{"$f":"'t AL I BM боковое'!P69*'График AL I BM боковое'!$B$4","v":1729},{"$f":"'t AL I BM боковое'!Q69*'График AL I BM боковое'!$B$4","v":1862},{"$f":"'t AL I BM боковое'!R69*'График AL I BM боковое'!$B$4","v":1995},{"$f":"'t AL I BM боковое'!S69*'График AL I BM боковое'!$B$4","v":2128},{"$f":"'t AL I BM боковое'!T69*'График AL I BM боковое'!$B$4","v":2261},{"$f":"'t AL I BM боковое'!U69*'График AL I BM боковое'!$B$4","v":2394},{"$f":"'t AL I BM боковое'!V69*'График AL I BM боковое'!$B$4","v":2527},{"$f":"'t AL I BM боковое'!W69*'График AL I BM боковое'!$B$4","v":2660}]
[]
[null,"Длина, мм",null,null,null,null,{"$f":"G74*$C$79","v":356},{"$f":"H74*$C$79","v":445},{"$f":"I74*$C$79","v":534},{"$f":"J74*$C$79","v":623},{"$f":"K74*$C$79","v":712},{"$f":"L74*$C$79","v":801},{"$f":"M74*$C$79","v":890},{"$f":"N74*$C$79","v":979},{"$f":"O74*$C$79","v":1068},{"$f":"P74*$C$79","v":1157},{"$f":"Q74*$C$79","v":1246},{"$f":"R74*$C$79","v":1335},{"$f":"S74*$C$79","v":1424},{"$f":"T74*$C$79","v":1513},{"$f":"U74*$C$79","v":1602},{"$f":"V74*$C$79","v":1691},{"$f":"W74*$C$79","v":1780}]
[null,566,89,"BMHeat500.90","боковое ","BMHeat500.90/X",{"$f":"'t AL I BM боковое'!G71*'График AL I BM боковое'!$B$4","v":740},{"$f":"'t AL I BM боковое'!H71*'График AL I BM боковое'!$B$4","v":925},{"$f":"'t AL I BM боковое'!I71*'График AL I BM боковое'!$B$4","v":1110},{"$f":"'t AL I BM боковое'!J71*'График AL I BM боковое'!$B$4","v":1295},{"$f":"'t AL I BM боковое'!K71*'График AL I BM боковое'!$B$4","v":1480},{"$f":"'t AL I BM боковое'!L71*'График AL I BM боковое'!$B$4","v":1665},{"$f":"'t AL I BM боковое'!M71*'График AL I BM боковое'!$B$4","v":1850},{"$f":"'t AL I BM боковое'!N71*'График AL I BM боковое'!$B$4","v":2035},{"$f":"'t AL I BM боковое'!O71*'График AL I BM боковое'!$B$4","v":2220},{"$f":"'t AL I BM боковое'!P71*'График AL I BM боковое'!$B$4","v":2405},{"$f":"'t AL I BM боковое'!Q71*'График AL I BM боковое'!$B$4","v":2590},{"$f":"'t AL I BM боковое'!R71*'График AL I BM боковое'!$B$4","v":2775},{"$f":"'t AL I BM боковое'!S71*'График AL I BM боковое'!$B$4","v":2960},{"$f":"'t AL I BM боковое'!T71*'График AL I BM боковое'!$B$4","v":3145},{"$f":"'t AL I BM боковое'!U71*'График AL I BM боковое'!$B$4","v":3330},{"$f":"'t AL I BM боковое'!V71*'График AL I BM боковое'!$B$4","v":3515},{"$f":"'t AL I BM боковое'!W71*'График AL I BM боковое'!$B$4","v":3700}]
[]
[null,"Длина, мм",null,null,null,null,{"$f":"G74*$C$82","v":384},{"$f":"H74*$C$82","v":480},{"$f":"I74*$C$82","v":576},{"$f":"J74*$C$82","v":672},{"$f":"K74*$C$82","v":768},{"$f":"L74*$C$82","v":864},{"$f":"M74*$C$82","v":960},{"$f":"N74*$C$82","v":1056},{"$f":"O74*$C$82","v":1152},{"$f":"P74*$C$82","v":1248},{"$f":"Q74*$C$82","v":1344},{"$f":"R74*$C$82","v":1440},{"$f":"S74*$C$82","v":1536},{"$f":"T74*$C$82","v":1632},{"$f":"U74*$C$82","v":1728},{"$f":"V74*$C$82","v":1824},{"$f":"W74*$C$82","v":1920}]
[null,566,96,"BMHeat500.100","боковое ","BMHeat500.100/X",{"$f":"'t AL I BM боковое'!G73*'График AL I BM боковое'!$B$4","v":812},{"$f":"'t AL I BM боковое'!H73*'График AL I BM боковое'!$B$4","v":1015},{"$f":"'t AL I BM боковое'!I73*'График AL I BM боковое'!$B$4","v":1218},{"$f":"'t AL I BM боковое'!J73*'График AL I BM боковое'!$B$4","v":1421},{"$f":"'t AL I BM боковое'!K73*'График AL I BM боковое'!$B$4","v":1624},{"$f":"'t AL I BM боковое'!L73*'График AL I BM боковое'!$B$4","v":1827},{"$f":"'t AL I BM боковое'!M73*'График AL I BM боковое'!$B$4","v":2030},{"$f":"'t AL I BM боковое'!N73*'График AL I BM боковое'!$B$4","v":2233},{"$f":"'t AL I BM боковое'!O73*'График AL I BM боковое'!$B$4","v":2436},{"$f":"'t AL I BM боковое'!P73*'График AL I BM боковое'!$B$4","v":2639},{"$f":"'t AL I BM боковое'!Q73*'График AL I BM боковое'!$B$4","v":2842},{"$f":"'t AL I BM боковое'!R73*'График AL I BM боковое'!$B$4","v":3045},{"$f":"'t AL I BM боковое'!S73*'График AL I BM боковое'!$B$4","v":3248},{"$f":"'t AL I BM боковое'!T73*'График AL I BM боковое'!$B$4","v":3451},{"$f":"'t AL I BM боковое'!U73*'График AL I BM боковое'!$B$4","v":3654},{"$f":"'t AL I BM боковое'!V73*'График AL I BM боковое'!$B$4","v":3857},{"$f":"'t AL I BM боковое'!W73*'График AL I BM боковое'!$B$4","v":4060}]
[]
[]
[]
["BMEco","Высота (мм)","Глубина секции","Модель","Подключение","Артикул заказа",null,null,null,null,null,null,null,null,"Количество секций, шт"]
[null,null,null,null,null,null,4,5,6,7,8,9,10,11,12,13,14,15,16,17,18,19,20]
[null,null,null,null,null,null,"Длина, мм"]
[null,null,null,null,null,null,80,{"$f":"80*2","v":160},{"$f":"80*3","v":240},{"$f":"80*4","v":320},{"$f":"80*5","v":400},{"$f":"80*6","v":480},{"$f":"80*7","v":560},{"$f":"80*8","v":640},{"$f":"80*9","v":720},{"$f":"80*10","v":800},{"$f":"80*11","v":880},{"$f":"80*12","v":960},{"$f":"80*13","v":1040},{"$f":"80*14","v":1120},{"$f":"80*15","v":1200},{"$f":"80*16","v":1280},{"$f":"80*17","v":1360}]
[null,null,null,null,null,null,"Количество секций, шт"]
[null,null,null,null,null,null,1,2,3,4,5,6,7,8,9,10,11,12,13,14,15,16,17]
[null,null,null,null,null,null,"Длина, мм"]
[null,null,null,null,null,null,80,{"$f":"80*2","v":160},{"$f":"80*3","v":240},{"$f":"80*4","v":320},{"$f":"80*5","v":400},{"$f":"80*6","v":480},{"$f":"80*7","v":560},{"$f":"80*8","v":640},{"$f":"80*9","v":720},{"$f":"80*10","v":800},{"$f":"80*11","v":880},{"$f":"80*12","v":960},{"$f":"80*13","v":1040},{"$f":"80*14","v":1120},{"$f":"80*15","v":1200},{"$f":"80*16","v":1280},{"$f":"80*17","v":1360}]
[null,null,null,null,null,null,"Количество секций, шт"]
[null,null,null,null,null,null,1,2,3,4,5,6,7,8,9,10,11,12,13,14,15,16,17]
[null,"Длина, мм",null,null,null,null,{"$f":"G87*$C$97","v":314},{"$f":"H87*$C$97","v":392.5},{"$f":"I87*$C$97","v":471},{"$f":"J87*$C$97","v":549.5},{"$f":"K87*$C$97","v":628},{"$f":"L87*$C$97","v":706.5},{"$f":"M87*$C$97","v":785},{"$f":"N87*$C$97","v":863.5},{"$f":"O87*$C$97","v":942},{"$f":"P87*$C$97","v":1020.5},{"$f":"Q87*$C$97","v":1099},{"$f":"R87*$C$97","v":1177.5},{"$f":"S87*$C$97","v":1256},{"$f":"T87*$C$97","v":1334.5},{"$f":"U87*$C$97","v":1413},{"$f":"V87*$C$97","v":1491.5},{"$f":"W87*$C$97","v":1570}]
[null,403,78.5,"BMEco350.80","боковое ","BMEco350.80/X",{"$f":"'t AL I BM боковое'!G79*'График AL I BM боковое'!$B$4","v":420},{"$f":"'t AL I BM боковое'!H79*'График AL I BM боковое'!$B$4","v":525},{"$f":"'t AL I BM боковое'!I79*'График AL I BM боковое'!$B$4","v":630},{"$f":"'t AL I BM боковое'!J79*'График AL I BM боковое'!$B$4","v":735},{"$f":"'t AL I BM боковое'!K79*'График AL I BM боковое'!$B$4","v":840},{"$f":"'t AL I BM боковое'!L79*'График AL I BM боковое'!$B$4","v":945},{"$f":"'t AL I BM боковое'!M79*'График AL I BM боковое'!$B$4","v":1050},{"$f":"'t AL I BM боковое'!N79*'График AL I BM боковое'!$B$4","v":1155},{"$f":"'t AL I BM боковое'!O79*'График AL I BM боковое'!$B$4","v":1260},{"$f":"'t AL I BM боковое'!P79*'График AL I BM боковое'!$B$4","v":1365},{"$f":"'t AL I BM боковое'!Q79*'График AL I BM боковое'!$B$4","v":1470},{"$f":"'t AL I BM боковое'!R79*'График AL I BM боковое'!$B$4","v":1575},{"$f":"'t AL I BM боковое'!S79*'График AL I BM боковое'!$B$4","v":1680},{"$f":"'t AL I BM боковое'!T79*'График AL I BM боковое'!$B$4","v":1785},{"$f":"'t AL I BM боковое'!U79*'График AL I BM боковое'!$B$4","v":1890},{"$f":"'t AL I BM боковое'!V79*'График AL I BM боковое'!$B$4","v":1995},{"$f":"'t AL I BM боковое'!W79*'График AL I BM боковое'!$B$4","v":2100}]
[]
[null,"Длина, мм",null,null,null,null,{"$f":"G87*$C$100","v":320},{"$f":"H87*$C$100","v":400},{"$f":"I87*$C$100","v":480},{"$f":"J87*$C$100","v":560},{"$f":"K87*$C$100","v":640},{"$f":"L87*$C$100","v":720},{"$f":"M87*$C$100","v":800},{"$f":"N87*$C$100","v":880},{"$f":"O87*$C$100","v":960},{"$f":"P87*$C$100","v":1040},{"$f":"Q87*$C$100","v":1120},{"$f":"R87*$C$100","v":1200},{"$f":"S87*$C$100","v":1280},{"$f":"T87*$C$100","v":1360},{"$f":"U87*$C$100","v":1440},{"$f":"V87*$C$100","v":1520},{"$f":"W87*$C$100","v":1600}]
[null,562,80,"BMEco500.80","боковое ","BMEco500.80/X",{"$f":"'t AL I BM боковое'!G81*'График AL I BM боковое'!$B$4","v":592},{"$f":"'t AL I BM боковое'!H81*'График AL I BM боковое'!$B$4","v":740},{"$f":"'t AL I BM боковое'!I81*'График AL I BM боковое'!$B$4","v":888},{"$f":"'t AL I BM боковое'!J81*'График AL I BM боковое'!$B$4","v":1036},{"$f":"'t AL I BM боковое'!K81*'График AL I BM боковое'!$B$4","v":1184},{"$f":"'t AL I BM боковое'!L81*'График AL I BM боковое'!$B$4","v":1332},{"$f":"'t AL I BM боковое'!M81*'График AL I BM боковое'!$B$4","v":1480},{"$f":"'t AL I BM боковое'!N81*'График AL I BM боковое'!$B$4","v":1628},{"$f":"'t AL I BM боковое'!O81*'График AL I BM боковое'!$B$4","v":1776},{"$f":"'t AL I BM боковое'!P81*'График AL I BM боковое'!$B$4","v":1924},{"$f":"'t AL I BM боковое'!Q81*'График AL I BM боковое'!$B$4","v":2072},{"$f":"'t AL I BM боковое'!R81*'График AL I BM боковое'!$B$4","v":2220},{"$f":"'t AL I BM боковое'!S81*'График AL I BM боковое'!$B$4","v":2368},{"$f":"'t AL I BM боковое'!T81*'График AL I BM боковое'!$B$4","v":2516},{"$f":"'t AL I BM боковое'!U81*'График AL I BM боковое'!$B$4","v":2664},{"$f":"'t AL I BM боковое'!V81*'График AL I BM боковое'!$B$4","v":2812},{"$f":"'t AL I BM боковое'!W81*'График AL I BM боковое'!$B$4","v":2960}]
[]
[null,"Длина, мм",null,null,null,null,{"$f":"G87*$C$103","v":400},{"$f":"H87*$C$103","v":500},{"$f":"I87*$C$103","v":600},{"$f":"J87*$C$103","v":700},{"$f":"K87*$C$103","v":800},{"$f":"L87*$C$103","v":900},{"$f":"M87*$C$103","v":1000},{"$f":"N87*$C$103","v":1100},{"$f":"O87*$C$103","v":1200},{"$f":"P87*$C$103","v":1300},{"$f":"Q87*$C$103","v":1400},{"$f":"R87*$C$103","v":1500},{"$f":"S87*$C$103","v":1600},{"$f":"T87*$C$103","v":1700},{"$f":"U87*$C$103","v":1800},{"$f":"V87*$C$103","v":1900},{"$f":"W87*$C$103","v":2000}]
[null,560,100,"BMEco500.100","боковое ","BMEco500.100/X",{"$f":"'t AL I BM боковое'!G83*'График AL I BM боковое'!$B$4","v":636},{"$f":"'t AL I BM боковое'!H83*'График AL I BM боковое'!$B$4","v":795},{"$f":"'t AL I BM боковое'!I83*'График AL I BM боковое'!$B$4","v":954},{"$f":"'t AL I BM боковое'!J83*'График AL I BM боковое'!$B$4","v":1113},{"$f":"'t AL I BM боковое'!K83*'График AL I BM боковое'!$B$4","v":1272},{"$f":"'t AL I BM боковое'!L83*'График AL I BM боковое'!$B$4","v":1431},{"$f":"'t AL I BM боковое'!M83*'График AL I BM боковое'!$B$4","v":1590},{"$f":"'t AL I BM боковое'!N83*'График AL I BM боковое'!$B$4","v":1749},{"$f":"'t AL I BM боковое'!O83*'График AL I BM боковое'!$B$4","v":1908},{"$f":"'t AL I BM боковое'!P83*'График AL I BM боковое'!$B$4","v":2067},{"$f":"'t AL I BM боковое'!Q83*'График AL I BM боковое'!$B$4","v":2226},{"$f":"'t AL I BM боковое'!R83*'График AL I BM боковое'!$B$4","v":2385},{"$f":"'t AL I BM боковое'!S83*'График AL I BM боковое'!$B$4","v":2544},{"$f":"'t AL I BM боковое'!T83*'График AL I BM боковое'!$B$4","v":2703},{"$f":"'t AL I BM боковое'!U83*'График AL I BM боковое'!$B$4","v":2862},{"$f":"'t AL I BM боковое'!V83*'График AL I BM боковое'!$B$4","v":3021},{"$f":"'t AL I BM боковое'!W83*'График AL I BM боковое'!$B$4","v":3180}]
[]
[]
[]
["BMPro","Высота (мм)","Глубина секции","Модель","Подключение","Артикул заказа",null,null,null,null,null,null,null,null,"Количество секций, шт"]
[null,null,null,null,null,null,4,5,6,7,8,9,10,11,12,13,14,15,16,17,18,19,20]
[null,"Длина, мм",null,null,null,null,{"$f":"G108*$C$110","v":386},{"$f":"H108*$C$110","v":482.5},{"$f":"I108*$C$110","v":579},{"$f":"J108*$C$110","v":675.5},{"$f":"K108*$C$110","v":772},{"$f":"L108*$C$110","v":868.5},{"$f":"M108*$C$110","v":965},{"$f":"N108*$C$110","v":1061.5},{"$f":"O108*$C$110","v":1158},{"$f":"P108*$C$110","v":1254.5},{"$f":"Q108*$C$110","v":1351},{"$f":"R108*$C$110","v":1447.5},{"$f":"S108*$C$110","v":1544},{"$f":"T108*$C$110","v":1640.5},{"$f":"U108*$C$110","v":1737},{"$f":"V108*$C$110","v":1833.5},{"$f":"W108*$C$110","v":1930}]
[null,275,96.5,"BMPro200.100","боковое ","BMPro200.100/X",{"$f":"'t AL I BM боковое'!G89*'График AL I BM боковое'!$B$4","v":356},{"$f":"'t AL I BM боковое'!H89*'График AL I BM боковое'!$B$4","v":445},{"$f":"'t AL I BM боковое'!I89*'График AL I BM боковое'!$B$4","v":534},{"$f":"'t AL I BM боковое'!J89*'График AL I BM боковое'!$B$4","v":623},{"$f":"'t AL I BM боковое'!K89*'График AL I BM боковое'!$B$4","v":712},{"$f":"'t AL I BM боковое'!L89*'График AL I BM боковое'!$B$4","v":801},{"$f":"'t AL I BM боковое'!M89*'График AL I BM боковое'!$B$4","v":890},{"$f":"'t AL I BM боковое'!N89*'График AL I BM боковое'!$B$4","v":979},{"$f":"'t AL I BM боковое'!O89*'График AL I BM боковое'!$B$4","v":1068},{"$f":"'t AL I BM боковое'!P89*'График AL I BM боковое'!$B$4","v":1157},{"$f":"'t AL I BM боковое'!Q89*'График AL I BM боковое'!$B$4","v":1246},{"$f":"'t AL I BM боковое'!R89*'График AL I BM боковое'!$B$4","v":1335},{"$f":"'t AL I BM боковое'!S89*'График AL I BM боковое'!$B$4","v":1424},{"$f":"'t AL I BM боковое'!T89*'График AL I BM боковое'!$B$4","v":1513},{"$f":"'t AL I BM боковое'!U89*'График AL I BM боковое'!$B$4","v":1602},{"$f":"'t AL I BM боковое'!V89*'График AL I BM боковое'!$B$4","v":1691},{"$f":"'t AL I BM боковое'!W89*'График AL I BM боковое'!$B$4","v":1780}]
[]
[null,"Длина, мм",null,null,null,null,{"$f":"G108*$C$113","v":320},{"$f":"H108*$C$113","v":400},{"$f":"I108*$C$113","v":480},{"$f":"J108*$C$113","v":560},{"$f":"K108*$C$113","v":640},{"$f":"L108*$C$113","v":720},{"$f":"M108*$C$113","v":800},{"$f":"N108*$C$113","v":880},{"$f":"O108*$C$113","v":960},{"$f":"P108*$C$113","v":1040},{"$f":"Q108*$C$113","v":1120},{"$f":"R108*$C$113","v":1200},{"$f":"S108*$C$113","v":1280},{"$f":"T108*$C$113","v":1360},{"$f":"U108*$C$113","v":1440},{"$f":"V108*$C$113","v":1520},{"$f":"W108*$C$113","v":1600}]
[null,415,80,"BMPro350.80","боковое ","BMPro350.80/X",{"$f":"'t AL I BM боковое'!G91*'График AL I BM боковое'!$B$4","v":492},{"$f":"'t AL I BM боковое'!H91*'График AL I BM боковое'!$B$4","v":615},{"$f":"'t AL I BM боковое'!I91*'График AL I BM боковое'!$B$4","v":738},{"$f":"'t AL I BM боковое'!J91*'График AL I BM боковое'!$B$4","v":861},{"$f":"'t AL I BM боковое'!K91*'График AL I BM боковое'!$B$4","v":984},{"$f":"'t AL I BM боковое'!L91*'График AL I BM боковое'!$B$4","v":1107},{"$f":"'t AL I BM боковое'!M91*'График AL I BM боковое'!$B$4","v":1230},{"$f":"'t AL I BM боковое'!N91*'График AL I BM боковое'!$B$4","v":1353},{"$f":"'t AL I BM боковое'!O91*'График AL I BM боковое'!$B$4","v":1476},{"$f":"'t AL I BM боковое'!P91*'График AL I BM боковое'!$B$4","v":1599},{"$f":"'t AL I BM боковое'!Q91*'График AL I BM боковое'!$B$4","v":1722},{"$f":"'t AL I BM боковое'!R91*'График AL I BM боковое'!$B$4","v":1845},{"$f":"'t AL I BM боковое'!S91*'График AL I BM боковое'!$B$4","v":1968},{"$f":"'t AL I BM боковое'!T91*'График AL I BM боковое'!$B$4","v":2091},{"$f":"'t AL I BM боковое'!U91*'График AL I BM боковое'!$B$4","v":2214},{"$f":"'t AL I BM боковое'!V91*'График AL I BM боковое'!$B$4","v":2337},{"$f":"'t AL I BM боковое'!W91*'График AL I BM боковое'!$B$4","v":2460}]
[]
[null,"Длина, мм",null,null,null,null,{"$f":"G108*$C$116","v":320},{"$f":"H108*$C$116","v":400},{"$f":"I108*$C$116","v":480},{"$f":"J108*$C$116","v":560},{"$f":"K108*$C$116","v":640},{"$f":"L108*$C$116","v":720},{"$f":"M108*$C$116","v":800},{"$f":"N108*$C$116","v":880},{"$f":"O108*$C$116","v":960},{"$f":"P108*$C$116","v":1040},{"$f":"Q108*$C$116","v":1120},{"$f":"R108*$C$116","v":1200},{"$f":"S108*$C$116","v":1280},{"$f":"T108*$C$116","v":1360},{"$f":"U108*$C$116","v":1440},{"$f":"V108*$C$116","v":1520},{"$f":"W108*$C$116","v":1600}]
[null,568,80,"BMPro500.80","боковое ","BMPro500.80/X",{"$f":"'t AL I BM боковое'!G93*'График AL I BM боковое'!$B$4","v":636},{"$f":"'t AL I BM боковое'!H93*'График AL I BM боковое'!$B$4","v":795},{"$f":"'t AL I BM боковое'!I93*'График AL I BM боковое'!$B$4","v":954},{"$f":"'t AL I BM боковое'!J93*'График AL I BM боковое'!$B$4","v":1113},{"$f":"'t AL I BM боковое'!K93*'График AL I BM боковое'!$B$4","v":1272},{"$f":"'t AL I BM боковое'!L93*'График AL I BM боковое'!$B$4","v":1431},{"$f":"'t AL I BM боковое'!M93*'График AL I BM боковое'!$B$4","v":1590},{"$f":"'t AL I BM боковое'!N93*'График AL I BM боковое'!$B$4","v":1749},{"$f":"'t AL I BM боковое'!O93*'График AL I BM боковое'!$B$4","v":1908},{"$f":"'t AL I BM боковое'!P93*'График AL I BM боковое'!$B$4","v":2067},{"$f":"'t AL I BM боковое'!Q93*'График AL I BM боковое'!$B$4","v":2226},{"$f":"'t AL I BM боковое'!R93*'График AL I BM боковое'!$B$4","v":2385},{"$f":"'t AL I BM боковое'!S93*'График AL I BM боковое'!$B$4","v":2544},{"$f":"'t AL I BM боковое'!T93*'График AL I BM боковое'!$B$4","v":2703},{"$f":"'t AL I BM боковое'!U93*'График AL I BM боковое'!$B$4","v":2862},{"$f":"'t AL I BM боковое'!V93*'График AL I BM боковое'!$B$4","v":3021},{"$f":"'t AL I BM боковое'!W93*'График AL I BM боковое'!$B$4","v":3180}]
[]
[null,"Длина, мм",null,null,null,null,{"$f":"G108*$C$119","v":384},{"$f":"H108*$C$119","v":480},{"$f":"I108*$C$119","v":576},{"$f":"J108*$C$119","v":672},{"$f":"K108*$C$119","v":768},{"$f":"L108*$C$119","v":864},{"$f":"M108*$C$119","v":960},{"$f":"N108*$C$119","v":1056},{"$f":"O108*$C$119","v":1152},{"$f":"P108*$C$119","v":1248},{"$f":"Q108*$C$119","v":1344},{"$f":"R108*$C$119","v":1440},{"$f":"S108*$C$119","v":1536},{"$f":"T108*$C$119","v":1632},{"$f":"U108*$C$119","v":1728},{"$f":"V108*$C$119","v":1824},{"$f":"W108*$C$119","v":1920}]
[null,568,96,"BMPro500.100","боковое ","BMPro500.100/X",{"$f":"'t AL I BM боковое'!G95*'График AL I BM боковое'!$B$4","v":676},{"$f":"'t AL I BM боковое'!H95*'График AL I BM боковое'!$B$4","v":845},{"$f":"'t AL I BM боковое'!I95*'График AL I BM боковое'!$B$4","v":1014},{"$f":"'t AL I BM боковое'!J95*'График AL I BM боковое'!$B$4","v":1183},{"$f":"'t AL I BM боковое'!K95*'График AL I BM боковое'!$B$4","v":1352},{"$f":"'t AL I BM боковое'!L95*'График AL I BM боковое'!$B$4","v":1521},{"$f":"'t AL I BM боковое'!M95*'График AL I BM боковое'!$B$4","v":1690},{"$f":"'t AL I BM боковое'!N95*'График AL I BM боковое'!$B$4","v":1859},{"$f":"'t AL I BM боковое'!O95*'График AL I BM боковое'!$B$4","v":2028},{"$f":"'t AL I BM боковое'!P95*'График AL I BM боковое'!$B$4","v":2197},{"$f":"'t AL I BM боковое'!Q95*'График AL I BM боковое'!$B$4","v":2366},{"$f":"'t AL I BM боковое'!R95*'График AL I BM боковое'!$B$4","v":2535},{"$f":"'t AL I BM боковое'!S95*'График AL I BM боковое'!$B$4","v":2704},{"$f":"'t AL I BM боковое'!T95*'График AL I BM боковое'!$B$4","v":2873},{"$f":"'t AL I BM боковое'!U95*'График AL I BM боковое'!$B$4","v":3042},{"$f":"'t AL I BM боковое'!V95*'График AL I BM боковое'!$B$4","v":3211},{"$f":"'t AL I BM боковое'!W95*'График AL I BM боковое'!$B$4","v":3380}]

{"sheet":"BM нижнее","index":1,"n_rows":46,"n_cols":23,"rows_kept":46,"cut":false,"hidden":false,"merged":[[1,0,2,22],[4,5,4,9],[5,5,5,6],[5,7,5,9],[6,5,6,6],[6,7,6,9],[7,5,7,6],[7,7,7,9],[8,5,8,6],[8,7,8,9],[9,5,9,6],[9,7,9,9],[10,5,10,6],[10,7,10,9],[11,5,11,6],[11,7,11,9],[15,7,15,9],[17,5,17,9],[19,5,19,7],[19,8,19,13],[21,5,23,6],[21,7,22,7],[21,8,21,12],[28,0,33,2],[28,6,33,13],[36,0,46,0],[36,1,37,1],[36,2,37,2],[36,3,37,3],[36,4,37,4],[36,5,37,5],[38,1,38,5],[41,1,41,5],[44,1,44,5]]}
[]
["Биметаллические секционные радиаторы SPL BMVR / BMVL с нижним подключением"]
[]
[]
[]
[]
[]
[]
[]
[]
[]
[]
[]
[]
[]
[]
[]
[]
[]
[]
[]
[]
[]
[]
[]
[]
[]
[]
["SPL BMV",null,null,"Длина, мм","Высота, мм","Глубина секции, мм","ПРИМЕЧАНИЕ"]
[null,null,null,1500,275,89]
[null,null,null,"Необходимая мощность, Вт","∆t","LMTD"]
[null,null,null,3500,{"$f":"(D34+E34)/2-F34","v":70},{"$f":"(D34-E34)/LN((D34-F34)/(E34-F34))","v":68.9151266183722}]
[null,null,null,"tвх","tвых","tвн"]
[null,null,null,105,75,20]
[]
[]
["BMV","Высота (мм)","Глубина секции","Модель","Подключение","Артикул заказа",null,null,null,null,null,null,null,null,"Количество секций, шт"]
[null,null,null,null,null,null,4,5,6,7,8,9,10,11,12,13,14,15,16,17,18,19,20]
[null,"Длина, мм",null,null,null,null,{"$f":"G38*$C$40","v":386},{"$f":"H38*$C$40","v":482.5},{"$f":"I38*$C$40","v":579},{"$f":"J38*$C$40","v":675.5},{"$f":"K38*$C$40","v":772},{"$f":"L38*$C$40","v":868.5},{"$f":"M38*$C$40","v":965},{"$f":"N38*$C$40","v":1061.5},{"$f":"O38*$C$40","v":1158},{"$f":"P38*$C$40","v":1254.5},{"$f":"Q38*$C$40","v":1351},{"$f":"R38*$C$40","v":1447.5},{"$f":"S38*$C$40","v":1544},{"$f":"T38*$C$40","v":1640.5},{"$f":"U38*$C$40","v":1737},{"$f":"V38*$C$40","v":1833.5},{"$f":"W38*$C$40","v":1930}]
[null,275,96.5,"BMVR200.100 /                      BMVL200.100","нижнее правое /             нижнее левое","BMVR200.100/X /               BMVL200.100/X",{"$f":"'t BM нижнее'!G23*'График BM нижнее'!$B$4","v":356},{"$f":"'t BM нижнее'!H23*'График BM нижнее'!$B$4","v":445},{"$f":"'t BM нижнее'!I23*'График BM нижнее'!$B$4","v":534},{"$f":"'t BM нижнее'!J23*'График BM нижнее'!$B$4","v":623},{"$f":"'t BM нижнее'!K23*'График BM нижнее'!$B$4","v":712},{"$f":"'t BM нижнее'!L23*'График BM нижнее'!$B$4","v":801},{"$f":"'t BM нижнее'!M23*'График BM нижнее'!$B$4","v":890},{"$f":"'t BM нижнее'!N23*'График BM нижнее'!$B$4","v":979},{"$f":"'t BM нижнее'!O23*'График BM нижнее'!$B$4","v":1068},{"$f":"'t BM нижнее'!P23*'График BM нижнее'!$B$4","v":1157},{"$f":"'t BM нижнее'!Q23*'График BM нижнее'!$B$4","v":1246},{"$f":"'t BM нижнее'!R23*'График BM нижнее'!$B$4","v":1335},{"$f":"'t BM нижнее'!S23*'График BM нижнее'!$B$4","v":1424},{"$f":"'t BM нижнее'!T23*'График BM нижнее'!$B$4","v":1513},{"$f":"'t BM нижнее'!U23*'График BM нижнее'!$B$4","v":1602},{"$f":"'t BM нижнее'!V23*'График BM нижнее'!$B$4","v":1691},{"$f":"'t BM нижнее'!W23*'График BM нижнее'!$B$4","v":1780}]
[]
[null,"Длина, мм",null,null,null,null,{"$f":"G38*$C$43","v":356},{"$f":"H38*$C$43","v":445},{"$f":"I38*$C$43","v":534},{"$f":"J38*$C$43","v":623},{"$f":"K38*$C$43","v":712},{"$f":"L38*$C$43","v":801},{"$f":"M38*$C$43","v":890},{"$f":"N38*$C$43","v":979},{"$f":"O38*$C$43","v":1068},{"$f":"P38*$C$43","v":1157},{"$f":"Q38*$C$43","v":1246},{"$f":"R38*$C$43","v":1335},{"$f":"S38*$C$43","v":1424},{"$f":"T38*$C$43","v":1513},{"$f":"U38*$C$43","v":1602},{"$f":"V38*$C$43","v":1691},{"$f":"W38*$C$43","v":1780}]
[null,415,89,"BMVR350.90 /                            BMVL350.90","нижнее правое /            нижнее левое","BMVR350.90/X /             BMVL350.90/X",{"$f":"'t BM нижнее'!G17*'График BM нижнее'!$B$4","v":532},{"$f":"'t BM нижнее'!H17*'График BM нижнее'!$B$4","v":665},{"$f":"'t BM нижнее'!I17*'График BM нижнее'!$B$4","v":798},{"$f":"'t BM нижнее'!J17*'График BM нижнее'!$B$4","v":931},{"$f":"'t BM нижнее'!K17*'График BM нижнее'!$B$4","v":1064},{"$f":"'t BM нижнее'!L17*'График BM нижнее'!$B$4","v":1197},{"$f":"'t BM нижнее'!M17*'График BM нижнее'!$B$4","v":1330},{"$f":"'t BM нижнее'!N17*'График BM нижнее'!$B$4","v":1463},{"$f":"'t BM нижнее'!O17*'График BM нижнее'!$B$4","v":1596},{"$f":"'t BM нижнее'!P17*'График BM нижнее'!$B$4","v":1729},{"$f":"'t BM нижнее'!Q17*'График BM нижнее'!$B$4","v":1862},{"$f":"'t BM нижнее'!R17*'График BM нижнее'!$B$4","v":1995},{"$f":"'t BM нижнее'!S17*'График BM нижнее'!$B$4","v":2128},{"$f":"'t BM нижнее'!T17*'График BM нижнее'!$B$4","v":2261},{"$f":"'t BM нижнее'!U17*'График BM нижнее'!$B$4","v":2394},{"$f":"'t BM нижнее'!V17*'График BM нижнее'!$B$4","v":2527},{"$f":"'t BM нижнее'!W17*'График BM нижнее'!$B$4","v":2660}]
[]
[null,"Длина, мм",null,null,null,null,{"$f":"G38*$C$46","v":384},{"$f":"H38*$C$46","v":480},{"$f":"I38*$C$46","v":576},{"$f":"J38*$C$46","v":672},{"$f":"K38*$C$46","v":768},{"$f":"L38*$C$46","v":864},{"$f":"M38*$C$46","v":960},{"$f":"N38*$C$46","v":1056},{"$f":"O38*$C$46","v":1152},{"$f":"P38*$C$46","v":1248},{"$f":"Q38*$C$46","v":1344},{"$f":"R38*$C$46","v":1440},{"$f":"S38*$C$46","v":1536},{"$f":"T38*$C$46","v":1632},{"$f":"U38*$C$46","v":1728},{"$f":"V38*$C$46","v":1824},{"$f":"W38*$C$46","v":1920}]
[null,568,96,"BMVR500.100 /                      BMVL500.100","нижнее правое /             нижнее левое","BMVR500.100/X /              BMVL500.100/X",{"$f":"'t BM нижнее'!G25*'График BM нижнее'!$B$4","v":676},{"$f":"'t BM нижнее'!H25*'График BM нижнее'!$B$4","v":845},{"$f":"'t BM нижнее'!I25*'График BM нижнее'!$B$4","v":1014},{"$f":"'t BM нижнее'!J25*'График BM нижнее'!$B$4","v":1183},{"$f":"'t BM нижнее'!K25*'График BM нижнее'!$B$4","v":1352},{"$f":"'t BM нижнее'!L25*'График BM нижнее'!$B$4","v":1521},{"$f":"'t BM нижнее'!M25*'График BM нижнее'!$B$4","v":1690},{"$f":"'t BM нижнее'!N25*'График BM нижнее'!$B$4","v":1859},{"$f":"'t BM нижнее'!O25*'График BM нижнее'!$B$4","v":2028},{"$f":"'t BM нижнее'!P25*'График BM нижнее'!$B$4","v":2197},{"$f":"'t BM нижнее'!Q25*'График BM нижнее'!$B$4","v":2366},{"$f":"'t BM нижнее'!R25*'График BM нижнее'!$B$4","v":2535},{"$f":"'t BM нижнее'!S25*'График BM нижнее'!$B$4","v":2704},{"$f":"'t BM нижнее'!T25*'График BM нижнее'!$B$4","v":2873},{"$f":"'t BM нижнее'!U25*'График BM нижнее'!$B$4","v":3042},{"$f":"'t BM нижнее'!V25*'График BM нижнее'!$B$4","v":3211},{"$f":"'t BM нижнее'!W25*'График BM нижнее'!$B$4","v":3380}]

{"sheet":"График AL I BM боковое","index":2,"n_rows":4,"n_cols":4,"rows_kept":4,"cut":false,"hidden":true,"merged":[]}
[]
[]
[null,"kt",null,"n"]
[null,{"$f":"('AL I BM боковое'!E32/70)^1.3","v":1},null,1.3]

{"sheet":"График BM нижнее","index":3,"n_rows":4,"n_cols":4,"rows_kept":4,"cut":false,"hidden":true,"merged":[]}
[]
[]
[null,"kt",null,"n"]
[null,{"$f":"('BM нижнее'!E32/70)^1.3","v":1},null,1.3]

{"sheet":"t AL I BM боковое","index":4,"n_rows":95,"n_cols":24,"rows_kept":95,"cut":false,"hidden":true,"merged":[[1,0,2,22],[4,5,4,9],[5,5,5,6],[5,7,5,9],[6,5,6,6],[6,7,6,9],[7,5,7,6],[7,7,7,9],[8,5,8,6],[8,7,8,9],[9,5,9,6],[9,7,9,9],[10,5,10,6],[10,7,10,9],[11,5,11,6],[11,7,11,9],[15,7,15,9],[17,5,17,9],[19,5,19,7],[19,8,19,13],[21,5,23,6],[21,7,22,7],[21,8,21,12],[28,0,33,2],[28,6,33,13],[36,0,39,0],[36,1,37,1],[36,2,37,2],[36,3,37,3],[36,4,37,4],[36,5,37,5],[36,6,36,22],[42,0,49,0],[42,1,43,1],[42,2,43,2],[42,3,43,3],[42,4,43,4],[42,5,43,5],[42,6,42,22],[52,0,61,0],[52,1,53,1],[52,2,53,2],[52,3,53,3],[52,4,53,4],[52,5,53,5],[52,6,52,22],[64,0,73,0],[64,1,67,1],[64,2,67,2],[64,3,67,3],[64,4,67,4],[64,5,67,5],[64,6,64,22],[76,0,83,0],[76,1,77,1],[76,2,77,2],[76,3,77,3],[76,4,77,4],[76,5,77,5],[76,6,76,22],[86,0,95,0],[86,1,87,1],[86,2,87,2],[86,3,87,3],[86,4,87,4],[86,5,87,5],[86,6,86,22]]}
[]
["Секционные радиаторы SPL ALHeat / ALEco / ALPro / BMHeat / BMEco / BMPro с боковым подключением"]
[]
[]
[]
[]
[]
[]
[]
[]
[]
[]
[]
[]
[]
[]
[]
[]
[]
[]
[]
[]
[]
[]
[]
[]
[]
[]
["SPL AL / BM",null,null,"Длина, см","Высота, см","Тип","ПРИМЕЧАНИЕ"]
[null,null,null,150,30,22]
[null,null,null,"Необходимая мощность, Вт","∆t","LMTD"]
[null,null,null,3500,{"$f":"(CEILING((D34+E34)/2-F34,1))","v":70},{"$f":"(D34-E34)/LN((D34-F34)/(E34-F34))","v":68.9151266183722}]
[null,null,null,"tвх","tвых","tвн"]
[null,null,null,105,75,20]
[]
[]
["ALHeat","Высота (мм)","Глубина секции","Модель","Подключение","Артикул заказа","Количество секций, шт"]
[null,null,null,null,null,null,4,5,6,7,8,9,10,11,12,13,14,15,16,17,18,19,20]
[null,null,null,"ALHeat500.90","боковое ","ALHeat500.90/X",{"$f":"G38*$X$39","v":724},{"$f":"H38*$X$39","v":905},{"$f":"I38*$X$39","v":1086},{"$f":"J38*$X$39","v":1267},{"$f":"K38*$X$39","v":1448},{"$f":"L38*$X$39","v":1629},{"$f":"M38*$X$39","v":1810},{"$f":"N38*$X$39","v":1991},{"$f":"O38*$X$39","v":2172},{"$f":"P38*$X$39","v":2353},{"$f":"Q38*$X$39","v":2534},{"$f":"R38*$X$39","v":2715},{"$f":"S38*$X$39","v":2896},{"$f":"T38*$X$39","v":3077},{"$f":"U38*$X$39","v":3258},{"$f":"V38*$X$39","v":3439},{"$f":"W38*$X$39","v":3620},181]
[]
[]
[]
["ALEco","Высота (мм)","Глубина секции","Модель","Подключение","Артикул заказа","Количество секций, шт"]
[null,null,null,null,null,null,4,5,6,7,8,9,10,11,12,13,14,15,16,17,18,19,20]
[null,null,null,"ALEco350.80","боковое ","ALEco350.80/X",{"$f":"G44*$X$45","v":440},{"$f":"H44*$X$45","v":550},{"$f":"I44*$X$45","v":660},{"$f":"J44*$X$45","v":770},{"$f":"K44*$X$45","v":880},{"$f":"L44*$X$45","v":990},{"$f":"M44*$X$45","v":1100},{"$f":"N44*$X$45","v":1210},{"$f":"O44*$X$45","v":1320},{"$f":"P44*$X$45","v":1430},{"$f":"Q44*$X$45","v":1540},{"$f":"R44*$X$45","v":1650},{"$f":"S44*$X$45","v":1760},{"$f":"T44*$X$45","v":1870},{"$f":"U44*$X$45","v":1980},{"$f":"V44*$X$45","v":2090},{"$f":"W44*$X$45","v":2200},110]
[]
[null,576,80,"ALEco500.80","боковое ","ALEco500.80/X",{"$f":"G44*$X$47","v":604},{"$f":"H44*$X$47","v":755},{"$f":"I44*$X$47","v":906},{"$f":"J44*$X$47","v":1057},{"$f":"K44*$X$47","v":1208},{"$f":"L44*$X$47","v":1359},{"$f":"M44*$X$47","v":1510},{"$f":"N44*$X$47","v":1661},{"$f":"O44*$X$47","v":1812},{"$f":"P44*$X$47","v":1963},{"$f":"Q44*$X$47","v":2114},{"$f":"R44*$X$47","v":2265},{"$f":"S44*$X$47","v":2416},{"$f":"T44*$X$47","v":2567},{"$f":"U44*$X$47","v":2718},{"$f":"V44*$X$47","v":2869},{"$f":"W44*$X$47","v":3020},151]
[]
[null,567,97,"ALEco500.96","боковое ","ALEco500.96/X",{"$f":"G44*$X$49","v":628},{"$f":"H44*$X$49","v":785},{"$f":"I44*$X$49","v":942},{"$f":"J44*$X$49","v":1099},{"$f":"K44*$X$49","v":1256},{"$f":"L44*$X$49","v":1413},{"$f":"M44*$X$49","v":1570},{"$f":"N44*$X$49","v":1727},{"$f":"O44*$X$49","v":1884},{"$f":"P44*$X$49","v":2041},{"$f":"Q44*$X$49","v":2198},{"$f":"R44*$X$49","v":2355},{"$f":"S44*$X$49","v":2512},{"$f":"T44*$X$49","v":2669},{"$f":"U44*$X$49","v":2826},{"$f":"V44*$X$49","v":2983},{"$f":"W44*$X$49","v":3140},157]
[]
[]
[]
["ALPro","Высота (мм)","Глубина секции","Модель","Подключение","Артикул заказа","Количество секций, шт"]
[null,null,null,null,null,null,4,5,6,7,8,9,10,11,12,13,14,15,16,17,18,19,20]
[null,null,null,"ALPro200.96","боковое ","ALPro200.96/X",{"$f":"G54*$X$55","v":360},{"$f":"H54*$X$55","v":450},{"$f":"I54*$X$55","v":540},{"$f":"J54*$X$55","v":630},{"$f":"K54*$X$55","v":720},{"$f":"L54*$X$55","v":810},{"$f":"M54*$X$55","v":900},{"$f":"N54*$X$55","v":990},{"$f":"O54*$X$55","v":1080},{"$f":"P54*$X$55","v":1170},{"$f":"Q54*$X$55","v":1260},{"$f":"R54*$X$55","v":1350},{"$f":"S54*$X$55","v":1440},{"$f":"T54*$X$55","v":1530},{"$f":"U54*$X$55","v":1620},{"$f":"V54*$X$55","v":1710},{"$f":"W54*$X$55","v":1800},90]
[]
[null,420,80,"ALPro350.80","боковое ","ALPro350.80/X",{"$f":"G54*$X$57","v":476},{"$f":"H54*$X$57","v":595},{"$f":"I54*$X$57","v":714},{"$f":"J54*$X$57","v":833},{"$f":"K54*$X$57","v":952},{"$f":"L54*$X$57","v":1071},{"$f":"M54*$X$57","v":1190},{"$f":"N54*$X$57","v":1309},{"$f":"O54*$X$57","v":1428},{"$f":"P54*$X$57","v":1547},{"$f":"Q54*$X$57","v":1666},{"$f":"R54*$X$57","v":1785},{"$f":"S54*$X$57","v":1904},{"$f":"T54*$X$57","v":2023},{"$f":"U54*$X$57","v":2142},{"$f":"V54*$X$57","v":2261},{"$f":"W54*$X$57","v":2380},119]
[]
[null,568,80,"ALPro500.80","боковое ","ALPro500.80/X",{"$f":"G54*$X$59","v":672},{"$f":"H54*$X$59","v":840},{"$f":"I54*$X$59","v":1008},{"$f":"J54*$X$59","v":1176},{"$f":"K54*$X$59","v":1344},{"$f":"L54*$X$59","v":1512},{"$f":"M54*$X$59","v":1680},{"$f":"N54*$X$59","v":1848},{"$f":"O54*$X$59","v":2016},{"$f":"P54*$X$59","v":2184},{"$f":"Q54*$X$59","v":2352},{"$f":"R54*$X$59","v":2520},{"$f":"S54*$X$59","v":2688},{"$f":"T54*$X$59","v":2856},{"$f":"U54*$X$59","v":3024},{"$f":"V54*$X$59","v":3192},{"$f":"W54*$X$59","v":3360},168]
[]
[null,580,96,"ALPro500.96","боковое ","ALPro500.96/X",{"$f":"G54*$X$61","v":692},{"$f":"H54*$X$61","v":865},{"$f":"I54*$X$61","v":1038},{"$f":"J54*$X$61","v":1211},{"$f":"K54*$X$61","v":1384},{"$f":"L54*$X$61","v":1557},{"$f":"M54*$X$61","v":1730},{"$f":"N54*$X$61","v":1903},{"$f":"O54*$X$61","v":2076},{"$f":"P54*$X$61","v":2249},{"$f":"Q54*$X$61","v":2422},{"$f":"R54*$X$61","v":2595},{"$f":"S54*$X$61","v":2768},{"$f":"T54*$X$61","v":2941},{"$f":"U54*$X$61","v":3114},{"$f":"V54*$X$61","v":3287},{"$f":"W54*$X$61","v":3460},173]
[]
[]
[]
["BMHeat","Высота (мм)","Глубина секции","Модель","Подключение","Артикул заказа","Количество секций, шт"]
[null,null,null,null,null,null,4,5,6,7,8,9,10,11,12,13,14,15,16,17,18,19,20]
[null,null,null,null,null,null,null,null,null,null,null,null,null,null,null,"Длина, мм"]
[null,null,null,null,null,null,{"$f":"80*4","v":320},{"$f":"80*5","v":400},{"$f":"80*6","v":480},{"$f":"80*7","v":560},{"$f":"80*8","v":640},{"$f":"80*9","v":720},{"$f":"80*10","v":800},{"$f":"80*11","v":880},{"$f":"80*12","v":960},{"$f":"80*13","v":1040},{"$f":"80*14","v":1120},{"$f":"80*15","v":1200},{"$f":"80*16","v":1280},{"$f":"80*17","v":1360},{"$f":"80*18","v":1440},{"$f":"80*19","v":1520},{"$f":"80*20","v":1600}]
[null,null,null,"BMHeat350.90","боковое ","BMHeat350.90/X",{"$f":"G66*$X$69","v":532},{"$f":"H66*$X$69","v":665},{"$f":"I66*$X$69","v":798},{"$f":"J66*$X$69","v":931},{"$f":"K66*$X$69","v":1064},{"$f":"L66*$X$69","v":1197},{"$f":"M66*$X$69","v":1330},{"$f":"N66*$X$69","v":1463},{"$f":"O66*$X$69","v":1596},{"$f":"P66*$X$69","v":1729},{"$f":"Q66*$X$69","v":1862},{"$f":"R66*$X$69","v":1995},{"$f":"S66*$X$69","v":2128},{"$f":"T66*$X$69","v":2261},{"$f":"U66*$X$69","v":2394},{"$f":"V66*$X$69","v":2527},{"$f":"W66*$X$69","v":2660},133]
[]
[null,null,null,"BMHeat500.90","боковое ","BMHeat500.90/X",{"$f":"G66*$X$71","v":740},{"$f":"H66*$X$71","v":925},{"$f":"I66*$X$71","v":1110},{"$f":"J66*$X$71","v":1295},{"$f":"K66*$X$71","v":1480},{"$f":"L66*$X$71","v":1665},{"$f":"M66*$X$71","v":1850},{"$f":"N66*$X$71","v":2035},{"$f":"O66*$X$71","v":2220},{"$f":"P66*$X$71","v":2405},{"$f":"Q66*$X$71","v":2590},{"$f":"R66*$X$71","v":2775},{"$f":"S66*$X$71","v":2960},{"$f":"T66*$X$71","v":3145},{"$f":"U66*$X$71","v":3330},{"$f":"V66*$X$71","v":3515},{"$f":"W66*$X$71","v":3700},185]
[]
[null,null,null,"BMHeat500.100","боковое ","BMHeat500.100/X",{"$f":"G66*$X$73","v":812},{"$f":"H66*$X$73","v":1015},{"$f":"I66*$X$73","v":1218},{"$f":"J66*$X$73","v":1421},{"$f":"K66*$X$73","v":1624},{"$f":"L66*$X$73","v":1827},{"$f":"M66*$X$73","v":2030},{"$f":"N66*$X$73","v":2233},{"$f":"O66*$X$73","v":2436},{"$f":"P66*$X$73","v":2639},{"$f":"Q66*$X$73","v":2842},{"$f":"R66*$X$73","v":3045},{"$f":"S66*$X$73","v":3248},{"$f":"T66*$X$73","v":3451},{"$f":"U66*$X$73","v":3654},{"$f":"V66*$X$73","v":3857},{"$f":"W66*$X$73","v":4060},203]
[]
[]
[]
["BMEco","Высота (мм)","Глубина секции","Модель","Подключение","Артикул заказа","Количество секций, шт"]
[null,null,null,null,null,null,4,5,6,7,8,9,10,11,12,13,14,15,16,17,18,19,20]
[null,null,null,"BMEco350.80","боковое ","BMEco350.80/X",{"$f":"G78*$X$79","v":420},{"$f":"H78*$X$79","v":525},{"$f":"I78*$X$79","v":630},{"$f":"J78*$X$79","v":735},{"$f":"K78*$X$79","v":840},{"$f":"L78*$X$79","v":945},{"$f":"M78*$X$79","v":1050},{"$f":"N78*$X$79","v":1155},{"$f":"O78*$X$79","v":1260},{"$f":"P78*$X$79","v":1365},{"$f":"Q78*$X$79","v":1470},{"$f":"R78*$X$79","v":1575},{"$f":"S78*$X$79","v":1680},{"$f":"T78*$X$79","v":1785},{"$f":"U78*$X$79","v":1890},{"$f":"V78*$X$79","v":1995},{"$f":"W78*$X$79","v":2100},105]
[]
[null,562,80,"BMEco500.80","боковое ","BMEco500.80/X",{"$f":"G78*$X$81","v":592},{"$f":"H78*$X$81","v":740},{"$f":"I78*$X$81","v":888},{"$f":"J78*$X$81","v":1036},{"$f":"K78*$X$81","v":1184},{"$f":"L78*$X$81","v":1332},{"$f":"M78*$X$81","v":1480},{"$f":"N78*$X$81","v":1628},{"$f":"O78*$X$81","v":1776},{"$f":"P78*$X$81","v":1924},{"$f":"Q78*$X$81","v":2072},{"$f":"R78*$X$81","v":2220},{"$f":"S78*$X$81","v":2368},{"$f":"T78*$X$81","v":2516},{"$f":"U78*$X$81","v":2664},{"$f":"V78*$X$81","v":2812},{"$f":"W78*$X$81","v":2960},148]
[]
[null,560,100,"BMEco500.100","боковое ","BMEco500.100/X",{"$f":"G78*$X$83","v":636},{"$f":"H78*$X$83","v":795},{"$f":"I78*$X$83","v":954},{"$f":"J78*$X$83","v":1113},{"$f":"K78*$X$83","v":1272},{"$f":"L78*$X$83","v":1431},{"$f":"M78*$X$83","v":1590},{"$f":"N78*$X$83","v":1749},{"$f":"O78*$X$83","v":1908},{"$f":"P78*$X$83","v":2067},{"$f":"Q78*$X$83","v":2226},{"$f":"R78*$X$83","v":2385},{"$f":"S78*$X$83","v":2544},{"$f":"T78*$X$83","v":2703},{"$f":"U78*$X$83","v":2862},{"$f":"V78*$X$83","v":3021},{"$f":"W78*$X$83","v":3180},159]
[]
[]
[]
["BMPro","Высота (мм)","Глубина секции","Модель","Подключение","Артикул заказа","Количество секций, шт"]
[null,null,null,null,null,null,4,5,6,7,8,9,10,11,12,13,14,15,16,17,18,19,20]
[null,null,null,"BMPro200.100","боковое ","BMPro200.100/X",{"$f":"G88*$X$89","v":356},{"$f":"H88*$X$89","v":445},{"$f":"I88*$X$89","v":534},{"$f":"J88*$X$89","v":623},{"$f":"K88*$X$89","v":712},{"$f":"L88*$X$89","v":801},{"$f":"M88*$X$89","v":890},{"$f":"N88*$X$89","v":979},{"$f":"O88*$X$89","v":1068},{"$f":"P88*$X$89","v":1157},{"$f":"Q88*$X$89","v":1246},{"$f":"R88*$X$89","v":1335},{"$f":"S88*$X$89","v":1424},{"$f":"T88*$X$89","v":1513},{"$f":"U88*$X$89","v":1602},{"$f":"V88*$X$89","v":1691},{"$f":"W88*$X$89","v":1780},89]
[]
[null,415,80,"BMPro350.80","боковое ","BMPro350.80/X",{"$f":"G88*$X$91","v":492},{"$f":"H88*$X$91","v":615},{"$f":"I88*$X$91","v":738},{"$f":"J88*$X$91","v":861},{"$f":"K88*$X$91","v":984},{"$f":"L88*$X$91","v":1107},{"$f":"M88*$X$91","v":1230},{"$f":"N88*$X$91","v":1353},{"$f":"O88*$X$91","v":1476},{"$f":"P88*$X$91","v":1599},{"$f":"Q88*$X$91","v":1722},{"$f":"R88*$X$91","v":1845},{"$f":"S88*$X$91","v":1968},{"$f":"T88*$X$91","v":2091},{"$f":"U88*$X$91","v":2214},{"$f":"V88*$X$91","v":2337},{"$f":"W88*$X$91","v":2460},123]
[]
[null,568,80,"BMPro500.80","боковое ","BMPro500.80/X",{"$f":"G88*$X$93","v":636},{"$f":"H88*$X$93","v":795},{"$f":"I88*$X$93","v":954},{"$f":"J88*$X$93","v":1113},{"$f":"K88*$X$93","v":1272},{"$f":"L88*$X$93","v":1431},{"$f":"M88*$X$93","v":1590},{"$f":"N88*$X$93","v":1749},{"$f":"O88*$X$93","v":1908},{"$f":"P88*$X$93","v":2067},{"$f":"Q88*$X$93","v":2226},{"$f":"R88*$X$93","v":2385},{"$f":"S88*$X$93","v":2544},{"$f":"T88*$X$93","v":2703},{"$f":"U88*$X$93","v":2862},{"$f":"V88*$X$93","v":3021},{"$f":"W88*$X$93","v":3180},159]
[]
[null,568,100,"BMPro500.100","боковое ","BMPro500.100/X",{"$f":"G88*$X$95","v":676},{"$f":"H88*$X$95","v":845},{"$f":"I88*$X$95","v":1014},{"$f":"J88*$X$95","v":1183},{"$f":"K88*$X$95","v":1352},{"$f":"L88*$X$95","v":1521},{"$f":"M88*$X$95","v":1690},{"$f":"N88*$X$95","v":1859},{"$f":"O88*$X$95","v":2028},{"$f":"P88*$X$95","v":2197},{"$f":"Q88*$X$95","v":2366},{"$f":"R88*$X$95","v":2535},{"$f":"S88*$X$95","v":2704},{"$f":"T88*$X$95","v":2873},{"$f":"U88*$X$95","v":3042},{"$f":"V88*$X$95","v":3211},{"$f":"W88*$X$95","v":3380},169]

{"sheet":"t BM нижнее","index":5,"n_rows":25,"n_cols":23,"rows_kept":25,"cut":false,"hidden":true,"merged":[[1,0,2,22],[4,0,9,2],[4,6,9,13],[12,0,17,0],[12,1,15,1],[12,2,15,2],[12,3,15,3],[12,4,15,4],[12,5,15,5],[12,6,12,22],[20,0,25,0],[20,1,21,1],[20,2,21,2],[20,3,21,3],[20,4,21,4],[20,5,21,5],[20,6,20,22]]}
[]
["Секционные радиаторы SPL ALHeat / ALEco / ALPro / BMHeat / BMEco / BMPro с боковым подключением"]
[]
[]
["SPL AL / BM",null,null,"Длина, см","Высота, см","Тип","ПРИМЕЧАНИЕ"]
[null,null,null,150,30,22]
[null,null,null,"Необходимая мощность, Вт","∆t","LMTD"]
[null,null,null,3500,{"$f":"(CEILING((D10+E10)/2-F10,1))","v":70},{"$f":"(D10-E10)/LN((D10-F10)/(E10-F10))","v":68.9151266183722}]
[null,null,null,"tвх","tвых","tвн"]
[null,null,null,105,75,20]
[]
[]
["BMHeat","Высота (мм)","Глубина секции","Модель","Подключение","Артикул заказа","Количество секций, шт"]
[null,null,null,null,null,null,4,5,6,7,8,9,10,11,12,13,14,15,16,17,18,19,20]
[null,null,null,null,null,null,null,null,null,null,null,null,null,null,null,"Длина, мм"]
[null,null,null,null,null,null,{"$f":"80*4","v":320},{"$f":"80*5","v":400},{"$f":"80*6","v":480},{"$f":"80*7","v":560},{"$f":"80*8","v":640},{"$f":"80*9","v":720},{"$f":"80*10","v":800},{"$f":"80*11","v":880},{"$f":"80*12","v":960},{"$f":"80*13","v":1040},{"$f":"80*14","v":1120},{"$f":"80*15","v":1200},{"$f":"80*16","v":1280},{"$f":"80*17","v":1360},{"$f":"80*18","v":1440},{"$f":"80*19","v":1520},{"$f":"80*20","v":1600}]
[null,null,null,"BMVR350.90 /                            BMVL350.90","нижнее правое /            нижнее левое","BMVR350.90/X /             BMVL350.90/X",532,665,798,931,1064,1197,1330,1463,1596,1729,1862,1995,2128,2261,2394,2527,2660]
[]
[]
[]
["BMPro","Высота (мм)","Глубина секции","Модель","Подключение","Артикул заказа","Количество секций, шт"]
[null,null,null,null,null,null,4,5,6,7,8,9,10,11,12,13,14,15,16,17,18,19,20]
[null,null,null,"BMVR200.100 /                      BMVL200.100","нижнее правое /             нижнее левое","BMVR200.100/X /               BMVL200.100/X",356,445,534,623,712,801,890,979,1068,1157,1246,1335,1424,1513,1602,1691,1780]
[]
[null,568,100,"BMVR500.100 /                      BMVL500.100","нижнее правое /             нижнее левое","BMVR500.100/X /              BMVL500.100/X",676,845,1014,1183,1352,1521,1690,1859,2028,2197,2366,2535,2704,2873,3042,3211,3380]